BEGIN:VCALENDAR
VERSION:2.0
PRODID:-//EZFacility.com, Inc.//EZL 2.5.5.28621
BEGIN:VEVENT
UID:15556909@ezleagues.ezfacility.com
DTSTAMP:20260422T171629Z
CREATED:20260422T171629Z
DTSTART:20240124T031500Z
DTEND:20240124T040000Z
LOCATION:volleyball crt 2
CONTACT:
SUMMARY:Kiss my Ace VS. Scared Hitless
DESCRIPTION:League Name: 2023-24-Intramural Volleyball - SUPERRec division,
  Mixed\nGame Type: Regular\nGame Status: Complete\nHome Team: Kiss my Ace\
 nAway Team: Scared Hitless\nHome Score: 50\nAway Score: 20
END:VEVENT
BEGIN:VEVENT
UID:15556916@ezleagues.ezfacility.com
DTSTAMP:20260422T171629Z
CREATED:20260422T171629Z
DTSTART:20240131T023000Z
DTEND:20240131T031500Z
LOCATION:volleyball crt 1
CONTACT:
SUMMARY:Scared Hitless VS. Campus Oars
DESCRIPTION:League Name: 2023-24-Intramural Volleyball - SUPERRec division,
  Mixed\nGame Type: Regular\nGame Status: Complete\nHome Team: Scared Hitle
 ss\nAway Team: Campus Oars\nHome Score: 23\nAway Score: 50
END:VEVENT
BEGIN:VEVENT
UID:15556923@ezleagues.ezfacility.com
DTSTAMP:20260422T171629Z
CREATED:20260422T171629Z
DTSTART:20240210T190000Z
DTEND:20240210T194500Z
LOCATION:volleyball crt 2
CONTACT:
SUMMARY:Scared Hitless VS. ace holes
DESCRIPTION:League Name: 2023-24-Intramural Volleyball - SUPERRec division,
  Mixed\nGame Type: Regular\nGame Status: Complete\nHome Team: Scared Hitle
 ss\nAway Team: ace holes\nHome Score: 25\nAway Score: 0
END:VEVENT
BEGIN:VEVENT
UID:15556930@ezleagues.ezfacility.com
DTSTAMP:20260422T171629Z
CREATED:20260422T171629Z
DTSTART:20240215T023000Z
DTEND:20240215T031500Z
LOCATION:volleyball crt 2
CONTACT:
SUMMARY:red hot silly peppers VS. Scared Hitless
DESCRIPTION:League Name: 2023-24-Intramural Volleyball - SUPERRec division,
  Mixed\nGame Type: Regular\nGame Status: Complete\nHome Team: red hot sill
 y peppers\nAway Team: Scared Hitless\nHome Score: 50\nAway Score: 37
END:VEVENT
END:VCALENDAR
