BEGIN:VCALENDAR
VERSION:2.0
PRODID:-//EZFacility.com, Inc.//EZL 2.5.5.28621
BEGIN:VEVENT
UID:15562863@ezleagues.ezfacility.com
DTSTAMP:20260426T034933Z
CREATED:20260426T034933Z
DTSTART:20240129T021000Z
DTEND:20240129T030500Z
LOCATION:PFFC Field House - A
CONTACT:
SUMMARY:Free Agents VS. Watermelon FC
DESCRIPTION:League Name: MSL Winter 2024 - Sunday Men's First Games\nGame T
 ype: Regular\nGame Status: Complete\nHome Team: Free Agents\nAway Team: Wa
 termelon FC\nHome Score: 1\nAway Score: 0
END:VEVENT
BEGIN:VEVENT
UID:15562898@ezleagues.ezfacility.com
DTSTAMP:20260426T034933Z
CREATED:20260426T034933Z
DTSTART:20240205T021000Z
DTEND:20240205T030500Z
LOCATION:PFFC Field House - B
CONTACT:
SUMMARY:Free Agents VS. Wakanda FC
DESCRIPTION:League Name: MSL Winter 2024 - Sunday Men's First Games\nGame T
 ype: Regular\nGame Status: Complete\nHome Team: Free Agents\nAway Team: Wa
 kanda FC\nHome Score: 2\nAway Score: 1
END:VEVENT
END:VCALENDAR
