BEGIN:VCALENDAR
VERSION:2.0
PRODID:-//EZFacility.com, Inc.//EZL 2.5.5.28621
BEGIN:VEVENT
UID:15563073@ezleagues.ezfacility.com
DTSTAMP:20260422T064143Z
CREATED:20260422T064143Z
DTSTART:20240129T020000Z
DTEND:20240129T025500Z
LOCATION:PFFC Dome - 4
CONTACT:
SUMMARY:Hellbanianz FC VS. Parle G's 
DESCRIPTION:League Name: MSL Winter 2024 - Sunday Men's First Games\nGame T
 ype: Regular\nGame Status: Complete\nHome Team: Hellbanianz FC\nAway Team:
  Parle G's \nHome Score: 4\nAway Score: 1
END:VEVENT
BEGIN:VEVENT
UID:15562896@ezleagues.ezfacility.com
DTSTAMP:20260422T064143Z
CREATED:20260422T064143Z
DTSTART:20240205T002000Z
DTEND:20240205T011500Z
LOCATION:PFFC Field House - B
CONTACT:
SUMMARY:Parle G's  VS. BDB FC
DESCRIPTION:League Name: MSL Winter 2024 - Sunday Men's First Games\nGame T
 ype: Regular\nGame Status: Complete\nHome Team: Parle G's \nAway Team: BDB
  FC\nHome Score: 2\nAway Score: 4
END:VEVENT
END:VCALENDAR
