BEGIN:VCALENDAR
VERSION:2.0
PRODID:-//EZFacility.com, Inc.//EZL 2.5.5.28621
BEGIN:VEVENT
UID:15562851@ezleagues.ezfacility.com
DTSTAMP:20260424T043948Z
CREATED:20260424T043948Z
DTSTART:20240129T020000Z
DTEND:20240129T025500Z
LOCATION:PFFC Dome - 2
CONTACT:
SUMMARY:Widdicombe F.C VS. Schooners
DESCRIPTION:League Name: MSL Winter 2024 - Sunday Men's First Games\nGame T
 ype: Regular\nGame Status: Complete\nHome Team: Widdicombe F.C\nAway Team:
  Schooners\nHome Score: 7\nAway Score: 0
END:VEVENT
BEGIN:VEVENT
UID:15562914@ezleagues.ezfacility.com
DTSTAMP:20260424T043948Z
CREATED:20260424T043948Z
DTSTART:20240205T030500Z
DTEND:20240205T040000Z
LOCATION:PFFC Field House - C
CONTACT:
SUMMARY:Red Guns F.C. VS. Schooners
DESCRIPTION:League Name: MSL Winter 2024 - Sunday Men's First Games\nGame T
 ype: Regular\nGame Status: Complete\nHome Team: Red Guns F.C.\nAway Team: 
 Schooners\nHome Score: 4\nAway Score: 5
END:VEVENT
END:VCALENDAR
