BEGIN:VCALENDAR
VERSION:2.0
PRODID:-//EZFacility.com, Inc.//EZL 2.5.5.28621
BEGIN:VEVENT
UID:15562874@ezleagues.ezfacility.com
DTSTAMP:20260426T034827Z
CREATED:20260426T034827Z
DTSTART:20240129T011500Z
DTEND:20240129T021000Z
LOCATION:PFFC Field House - C
CONTACT:
SUMMARY:Dagchester United VS. Ecua Tucos
DESCRIPTION:League Name: MSL Winter 2024 - Sunday Men's First Games\nGame T
 ype: Regular\nGame Status: Complete\nHome Team: Dagchester United\nAway Te
 am: Ecua Tucos\nHome Score: 4\nAway Score: 2
END:VEVENT
BEGIN:VEVENT
UID:15562904@ezleagues.ezfacility.com
DTSTAMP:20260426T034827Z
CREATED:20260426T034827Z
DTSTART:20240205T002000Z
DTEND:20240205T011500Z
LOCATION:PFFC Field House - A
CONTACT:
SUMMARY:Dagchester United VS. Rondo FC
DESCRIPTION:League Name: MSL Winter 2024 - Sunday Men's First Games\nGame T
 ype: Regular\nGame Status: Complete\nHome Team: Dagchester United\nAway Te
 am: Rondo FC\nHome Score: 3\nAway Score: 5
END:VEVENT
END:VCALENDAR
