BEGIN:VCALENDAR
VERSION:2.0
PRODID:-//EZFacility.com, Inc.//EZL 2.5.5.28621
BEGIN:VEVENT
UID:15567519@ezleagues.ezfacility.com
DTSTAMP:20260422T180614Z
CREATED:20260422T180614Z
DTSTART:20240130T015000Z
DTEND:20240130T024500Z
LOCATION:PFFC Field House - D
CONTACT:
SUMMARY:Red Brush FC VS. Fuego FC
DESCRIPTION:League Name: MSL Winter 2024 - Coed First Games\nGame Type: Reg
 ular\nGame Status: Complete\nHome Team: Red Brush FC\nAway Team: Fuego FC\
 nHome Score: 0\nAway Score: 4
END:VEVENT
BEGIN:VEVENT
UID:15567542@ezleagues.ezfacility.com
DTSTAMP:20260422T180614Z
CREATED:20260422T180614Z
DTSTART:20240206T034000Z
DTEND:20240206T043500Z
LOCATION:PFFC Field House - B
CONTACT:
SUMMARY:Red Brush FC VS. MNP Mississauga
DESCRIPTION:League Name: MSL Winter 2024 - Coed First Games\nGame Type: Reg
 ular\nGame Status: Complete\nHome Team: Red Brush FC\nAway Team: MNP Missi
 ssauga\nHome Score: 3\nAway Score: 0
END:VEVENT
END:VCALENDAR
