BEGIN:VCALENDAR
VERSION:2.0
PRODID:-//EZFacility.com, Inc.//EZL 2.5.5.28621
BEGIN:VEVENT
UID:15567787@ezleagues.ezfacility.com
DTSTAMP:20260420T100820Z
CREATED:20260420T100820Z
DTSTART:20240204T233000Z
DTEND:20240205T003000Z
LOCATION:RCF West - Montevideo
CONTACT:
SUMMARY:NOPO Timbercats U12B VS. SCA U12 Boys Red
DESCRIPTION:League Name: Winter 2 5v5-Boys U12\nGame Type: Regular\nGame St
 atus: Complete\nHome Team: NOPO Timbercats U12B\nAway Team: SCA U12 Boys R
 ed\nHome Score: 1\nAway Score: 8
END:VEVENT
BEGIN:VEVENT
UID:15567793@ezleagues.ezfacility.com
DTSTAMP:20260420T100820Z
CREATED:20260420T100820Z
DTSTART:20240211T203000Z
DTEND:20240211T213000Z
LOCATION:RCF West - Montevideo
CONTACT:
SUMMARY:NOPO Timbercats U12B VS. Thunder FC
DESCRIPTION:League Name: Winter 2 5v5-Boys U12\nGame Type: Regular\nGame St
 atus: Complete\nHome Team: NOPO Timbercats U12B\nAway Team: Thunder FC\nHo
 me Score: 0\nAway Score: 7
END:VEVENT
BEGIN:VEVENT
UID:15567799@ezleagues.ezfacility.com
DTSTAMP:20260420T100820Z
CREATED:20260420T100820Z
DTSTART:20240219T011000Z
DTEND:20240219T021000Z
LOCATION:RCF West - Buenos Aires
CONTACT:
SUMMARY:NOPO Timbercats U12B VS. REGS
DESCRIPTION:League Name: Winter 2 5v5-Boys U12\nGame Type: Regular\nGame St
 atus: Complete\nHome Team: NOPO Timbercats U12B\nAway Team: REGS\nHome Sco
 re: 2\nAway Score: 9
END:VEVENT
BEGIN:VEVENT
UID:15567804@ezleagues.ezfacility.com
DTSTAMP:20260420T100820Z
CREATED:20260420T100820Z
DTSTART:20240225T175000Z
DTEND:20240225T185000Z
LOCATION:RCF East - Barcelona
CONTACT:
SUMMARY:Dragons VS. NOPO Timbercats U12B
DESCRIPTION:League Name: Winter 2 5v5-Boys U12\nGame Type: Regular\nGame St
 atus: Complete\nHome Team: Dragons\nAway Team: NOPO Timbercats U12B\nHome 
 Score: 7\nAway Score: 0
END:VEVENT
BEGIN:VEVENT
UID:15567808@ezleagues.ezfacility.com
DTSTAMP:20260420T100820Z
CREATED:20260420T100820Z
DTSTART:20240303T203000Z
DTEND:20240303T213000Z
LOCATION:RCF East - Rio
CONTACT:
SUMMARY:RC Pythons VS. NOPO Timbercats U12B
DESCRIPTION:League Name: Winter 2 5v5-Boys U12\nGame Type: Regular\nGame St
 atus: Complete\nHome Team: RC Pythons\nAway Team: NOPO Timbercats U12B\nHo
 me Score: 6\nAway Score: 5
END:VEVENT
BEGIN:VEVENT
UID:15567812@ezleagues.ezfacility.com
DTSTAMP:20260420T100820Z
CREATED:20260420T100820Z
DTSTART:20240310T165000Z
DTEND:20240310T175000Z
LOCATION:RCF East - Barcelona
CONTACT:
SUMMARY:The Tigers VS. NOPO Timbercats U12B
DESCRIPTION:League Name: Winter 2 5v5-Boys U12\nGame Type: Regular\nGame St
 atus: Complete\nHome Team: The Tigers\nAway Team: NOPO Timbercats U12B\nHo
 me Score: 6\nAway Score: 6
END:VEVENT
BEGIN:VEVENT
UID:15567816@ezleagues.ezfacility.com
DTSTAMP:20260420T100820Z
CREATED:20260420T100820Z
DTSTART:20240317T173000Z
DTEND:20240317T183000Z
LOCATION:RCF East - Rio
CONTACT:
SUMMARY:Spicy Muffins VS. NOPO Timbercats U12B
DESCRIPTION:League Name: Winter 2 5v5-Boys U12\nGame Type: Regular\nGame St
 atus: Complete\nHome Team: Spicy Muffins\nAway Team: NOPO Timbercats U12B\
 nHome Score: 8\nAway Score: 1
END:VEVENT
BEGIN:VEVENT
UID:15567820@ezleagues.ezfacility.com
DTSTAMP:20260420T100820Z
CREATED:20260420T100820Z
DTSTART:20240324T173000Z
DTEND:20240324T183000Z
LOCATION:RCF East - Rio
CONTACT:
SUMMARY:NOPO Timbercats U12B VS. Active Volcanoes
DESCRIPTION:League Name: Winter 2 5v5-Boys U12\nGame Type: Regular\nGame St
 atus: Complete\nHome Team: NOPO Timbercats U12B\nAway Team: Active Volcano
 es\nHome Score: 5\nAway Score: 12
END:VEVENT
END:VCALENDAR
