BEGIN:VCALENDAR
VERSION:2.0
PRODID:-//EZFacility.com, Inc.//EZL 2.5.5.28621
BEGIN:VEVENT
UID:15567786@ezleagues.ezfacility.com
DTSTAMP:20260420T041411Z
CREATED:20260420T041411Z
DTSTART:20240204T235000Z
DTEND:20240205T005000Z
LOCATION:RCF West - Tigard
CONTACT:
SUMMARY:Dragons VS. RC Pythons
DESCRIPTION:League Name: Winter 2 5v5-Boys U12\nGame Type: Regular\nGame St
 atus: Complete\nHome Team: Dragons\nAway Team: RC Pythons\nHome Score: 8\n
 Away Score: 1
END:VEVENT
BEGIN:VEVENT
UID:15567790@ezleagues.ezfacility.com
DTSTAMP:20260420T041411Z
CREATED:20260420T041411Z
DTSTART:20240211T223000Z
DTEND:20240211T233000Z
LOCATION:RCF West - Montevideo
CONTACT:
SUMMARY:Active Volcanoes VS. RC Pythons
DESCRIPTION:League Name: Winter 2 5v5-Boys U12\nGame Type: Regular\nGame St
 atus: Complete\nHome Team: Active Volcanoes\nAway Team: RC Pythons\nHome S
 core: 5\nAway Score: 0
END:VEVENT
BEGIN:VEVENT
UID:15567802@ezleagues.ezfacility.com
DTSTAMP:20260420T041411Z
CREATED:20260420T041411Z
DTSTART:20240225T183000Z
DTEND:20240225T193000Z
LOCATION:RCF East - Rio
CONTACT:
SUMMARY:RC Pythons VS. Spicy Muffins
DESCRIPTION:League Name: Winter 2 5v5-Boys U12\nGame Type: Regular\nGame St
 atus: Complete\nHome Team: RC Pythons\nAway Team: Spicy Muffins\nHome Scor
 e: 0\nAway Score: 7
END:VEVENT
BEGIN:VEVENT
UID:15567808@ezleagues.ezfacility.com
DTSTAMP:20260420T041411Z
CREATED:20260420T041411Z
DTSTART:20240303T203000Z
DTEND:20240303T213000Z
LOCATION:RCF East - Rio
CONTACT:
SUMMARY:RC Pythons VS. NOPO Timbercats U12B
DESCRIPTION:League Name: Winter 2 5v5-Boys U12\nGame Type: Regular\nGame St
 atus: Complete\nHome Team: RC Pythons\nAway Team: NOPO Timbercats U12B\nHo
 me Score: 6\nAway Score: 5
END:VEVENT
BEGIN:VEVENT
UID:15567796@ezleagues.ezfacility.com
DTSTAMP:20260420T041411Z
CREATED:20260420T041411Z
DTSTART:20240309T231000Z
DTEND:20240310T001000Z
LOCATION:RCF West - Buenos Aires
CONTACT:
SUMMARY:RC Pythons VS. The Tigers
DESCRIPTION:League Name: Winter 2 5v5-Boys U12\nGame Type: Regular\nGame St
 atus: Rescheduled\nHome Team: RC Pythons\nAway Team: The Tigers\n
END:VEVENT
BEGIN:VEVENT
UID:15567814@ezleagues.ezfacility.com
DTSTAMP:20260420T041411Z
CREATED:20260420T041411Z
DTSTART:20240310T153000Z
DTEND:20240310T163000Z
LOCATION:RCF East - Rio
CONTACT:
SUMMARY:RC Pythons VS. NOPO Shark Lightening U12
DESCRIPTION:League Name: Winter 2 5v5-Boys U12\nGame Type: Regular\nGame St
 atus: Complete\nHome Team: RC Pythons\nAway Team: NOPO Shark Lightening U1
 2\nHome Score: 8\nAway Score: 6
END:VEVENT
BEGIN:VEVENT
UID:15567819@ezleagues.ezfacility.com
DTSTAMP:20260420T041411Z
CREATED:20260420T041411Z
DTSTART:20240317T191000Z
DTEND:20240317T201000Z
LOCATION:RCF East - Portland
CONTACT:
SUMMARY:SCA U12 Boys Red VS. RC Pythons
DESCRIPTION:League Name: Winter 2 5v5-Boys U12\nGame Type: Regular\nGame St
 atus: Complete\nHome Team: SCA U12 Boys Red\nAway Team: RC Pythons\nHome S
 core: 10\nAway Score: 3
END:VEVENT
BEGIN:VEVENT
UID:15567823@ezleagues.ezfacility.com
DTSTAMP:20260420T041411Z
CREATED:20260420T041411Z
DTSTART:20240324T153000Z
DTEND:20240324T163000Z
LOCATION:RCF East - Rio
CONTACT:
SUMMARY:Thunder FC VS. RC Pythons
DESCRIPTION:League Name: Winter 2 5v5-Boys U12\nGame Type: Regular\nGame St
 atus: Pending\nHome Team: Thunder FC\nAway Team: RC Pythons\n
END:VEVENT
BEGIN:VEVENT
UID:15679989@ezleagues.ezfacility.com
DTSTAMP:20260420T041411Z
CREATED:20260420T041411Z
DTSTART:20240407T223000Z
DTEND:20240407T233000Z
LOCATION:RCF East - Rio
CONTACT:
SUMMARY:RC Pythons VS. The Tigers
DESCRIPTION:League Name: Winter 2 5v5-Boys U12\nGame Type: Regular\nGame St
 atus: Complete\nHome Team: RC Pythons\nAway Team: The Tigers\nHome Score: 
 4\nAway Score: 11
END:VEVENT
END:VCALENDAR
