BEGIN:VCALENDAR
VERSION:2.0
PRODID:-//EZFacility.com, Inc.//EZL 2.5.5.28621
BEGIN:VEVENT
UID:15576170@ezleagues.ezfacility.com
DTSTAMP:20260424T170703Z
CREATED:20260424T170703Z
DTSTART:20240201T040000Z
DTEND:20240201T045500Z
LOCATION:PFFC Dome - 4
CONTACT:
SUMMARY:FMFC VS. UNFC
DESCRIPTION:League Name: MSL Winter 2024 - Wed/Thurs Men's First Games\nGam
 e Type: Regular\nGame Status: Complete\nHome Team: FMFC\nAway Team: UNFC\n
 Home Score: 3\nAway Score: 2
END:VEVENT
BEGIN:VEVENT
UID:15594516@ezleagues.ezfacility.com
DTSTAMP:20260424T170703Z
CREATED:20260424T170703Z
DTSTART:20240209T030000Z
DTEND:20240209T035500Z
LOCATION:PFFC Field House - D
CONTACT:
SUMMARY:FMFC VS. Phoenix
DESCRIPTION:League Name: MSL Winter 2024 - Wed/Thurs Men's First Games\nGam
 e Type: Regular\nGame Status: Complete\nHome Team: FMFC\nAway Team: Phoeni
 x\nHome Score: 5\nAway Score: 1
END:VEVENT
END:VCALENDAR
