BEGIN:VCALENDAR
VERSION:2.0
PRODID:-//EZFacility.com, Inc.//EZL 2.5.5.28621
BEGIN:VEVENT
UID:15569409@ezleagues.ezfacility.com
DTSTAMP:20260419T151957Z
CREATED:20260419T151957Z
DTSTART:20240129T040000Z
DTEND:20240129T045500Z
LOCATION:PFFC Field House - B
CONTACT:
SUMMARY:Westgrove VS. Banans FC 
DESCRIPTION:League Name: MSL Winter 2024 - Sunday Men's First Games\nGame T
 ype: Regular\nGame Status: Complete\nHome Team: Westgrove\nAway Team: Bana
 ns FC \nHome Score: 1\nAway Score: 5
END:VEVENT
BEGIN:VEVENT
UID:15562916@ezleagues.ezfacility.com
DTSTAMP:20260419T151957Z
CREATED:20260419T151957Z
DTSTART:20240205T021000Z
DTEND:20240205T030500Z
LOCATION:PFFC Field House - D
CONTACT:
SUMMARY:Banans FC  VS. Giroud Awakening
DESCRIPTION:League Name: MSL Winter 2024 - Sunday Men's First Games\nGame T
 ype: Regular\nGame Status: Complete\nHome Team: Banans FC \nAway Team: Gir
 oud Awakening\nHome Score: 7\nAway Score: 2
END:VEVENT
END:VCALENDAR
