BEGIN:VCALENDAR
VERSION:2.0
PRODID:-//EZFacility.com, Inc.//EZL 2.5.5.28621
BEGIN:VEVENT
UID:15579248@ezleagues.ezfacility.com
DTSTAMP:20260424T044305Z
CREATED:20260424T044305Z
DTSTART:20240204T225000Z
DTEND:20240204T235000Z
LOCATION:RCF East - Barcelona
CONTACT:
SUMMARY:Tsunamis VS. Cuervos FC U16
DESCRIPTION:League Name: Winter 2 5v5-Girls U14/15/16\nGame Type: Regular\n
 Game Status: Complete\nHome Team: Tsunamis\nAway Team: Cuervos FC U16\nHom
 e Score: 5\nAway Score: 4
END:VEVENT
BEGIN:VEVENT
UID:15579249@ezleagues.ezfacility.com
DTSTAMP:20260424T044305Z
CREATED:20260424T044305Z
DTSTART:20240211T031000Z
DTEND:20240211T041000Z
LOCATION:RCF West - Buenos Aires
CONTACT:
SUMMARY:Chicken Thunder VS. Tsunamis
DESCRIPTION:League Name: Winter 2 5v5-Girls U14/15/16\nGame Type: Regular\n
 Game Status: Complete\nHome Team: Chicken Thunder\nAway Team: Tsunamis\nHo
 me Score: 2\nAway Score: 4
END:VEVENT
BEGIN:VEVENT
UID:15579252@ezleagues.ezfacility.com
DTSTAMP:20260424T044305Z
CREATED:20260424T044305Z
DTSTART:20240218T011000Z
DTEND:20240218T021000Z
LOCATION:RCF East - Portland
CONTACT:
SUMMARY:Electric Girls VS. Tsunamis
DESCRIPTION:League Name: Winter 2 5v5-Girls U14/15/16\nGame Type: Regular\n
 Game Status: Complete\nHome Team: Electric Girls\nAway Team: Tsunamis\nHom
 e Score: 0\nAway Score: 7
END:VEVENT
BEGIN:VEVENT
UID:15579254@ezleagues.ezfacility.com
DTSTAMP:20260424T044305Z
CREATED:20260424T044305Z
DTSTART:20240225T011000Z
DTEND:20240225T021000Z
LOCATION:RCF West - Buenos Aires
CONTACT:
SUMMARY:Cuervos FC U16 VS. Tsunamis
DESCRIPTION:League Name: Winter 2 5v5-Girls U14/15/16\nGame Type: Regular\n
 Game Status: Complete\nHome Team: Cuervos FC U16\nAway Team: Tsunamis\nHom
 e Score: 7\nAway Score: 4
END:VEVENT
BEGIN:VEVENT
UID:15579255@ezleagues.ezfacility.com
DTSTAMP:20260424T044305Z
CREATED:20260424T044305Z
DTSTART:20240303T003000Z
DTEND:20240303T013000Z
LOCATION:RCF East - Rio
CONTACT:
SUMMARY:Tsunamis VS. Chicken Thunder
DESCRIPTION:League Name: Winter 2 5v5-Girls U14/15/16\nGame Type: Regular\n
 Game Status: Complete\nHome Team: Tsunamis\nAway Team: Chicken Thunder\nHo
 me Score: 4\nAway Score: 4
END:VEVENT
BEGIN:VEVENT
UID:15579258@ezleagues.ezfacility.com
DTSTAMP:20260424T044305Z
CREATED:20260424T044305Z
DTSTART:20240309T233000Z
DTEND:20240310T003000Z
LOCATION:RCF West - Montevideo
CONTACT:
SUMMARY:Tsunamis VS. Electric Girls
DESCRIPTION:League Name: Winter 2 5v5-Girls U14/15/16\nGame Type: Regular\n
 Game Status: Rescheduled\nHome Team: Tsunamis\nAway Team: Electric Girls\n
END:VEVENT
BEGIN:VEVENT
UID:15579260@ezleagues.ezfacility.com
DTSTAMP:20260424T044305Z
CREATED:20260424T044305Z
DTSTART:20240316T225000Z
DTEND:20240316T235000Z
LOCATION:RCF East - Barcelona
CONTACT:
SUMMARY:Cuervos FC U16 VS. Tsunamis
DESCRIPTION:League Name: Winter 2 5v5-Girls U14/15/16\nGame Type: Regular\n
 Game Status: Complete\nHome Team: Cuervos FC U16\nAway Team: Tsunamis\nHom
 e Score: 5\nAway Score: 8
END:VEVENT
BEGIN:VEVENT
UID:15579261@ezleagues.ezfacility.com
DTSTAMP:20260424T044305Z
CREATED:20260424T044305Z
DTSTART:20240323T203000Z
DTEND:20240323T213000Z
LOCATION:RCF West - Montevideo
CONTACT:
SUMMARY:Tsunamis VS. Chicken Thunder
DESCRIPTION:League Name: Winter 2 5v5-Girls U14/15/16\nGame Type: Regular\n
 Game Status: Complete\nHome Team: Tsunamis\nAway Team: Chicken Thunder\nHo
 me Score: 2\nAway Score: 4
END:VEVENT
BEGIN:VEVENT
UID:15678073@ezleagues.ezfacility.com
DTSTAMP:20260424T044305Z
CREATED:20260424T044305Z
DTSTART:20240406T233000Z
DTEND:20240407T003000Z
LOCATION:RCF East - Rio
CONTACT:
SUMMARY:Tsunamis VS. Electric Girls
DESCRIPTION:League Name: Winter 2 5v5-Girls U14/15/16\nGame Type: Regular\n
 Game Status: Complete\nHome Team: Tsunamis\nAway Team: Electric Girls\nHom
 e Score: 8\nAway Score: 1
END:VEVENT
END:VCALENDAR
