BEGIN:VCALENDAR
VERSION:2.0
PRODID:-//EZFacility.com, Inc.//EZL 2.5.5.28621
BEGIN:VEVENT
UID:15570159@ezleagues.ezfacility.com
DTSTAMP:20260426T034107Z
CREATED:20260426T034107Z
DTSTART:20240211T180000Z
DTEND:20240211T185000Z
LOCATION:Car Stereo One Small Field
CONTACT:
SUMMARY:SFC Jr. Mints-3 VS. Frogmen
DESCRIPTION:League Name: 2024 Maumee CS1 Small Field Coed 5/6 S3\nGame Type
 : Regular\nGame Status: Complete\nHome Team: SFC Jr. Mints-3\nAway Team: F
 rogmen\nHome Score: 2\nAway Score: 15
END:VEVENT
BEGIN:VEVENT
UID:15570161@ezleagues.ezfacility.com
DTSTAMP:20260426T034107Z
CREATED:20260426T034107Z
DTSTART:20240218T180000Z
DTEND:20240218T185000Z
LOCATION:Car Stereo One Small Field
CONTACT:Sweinhagen-C
SUMMARY:Thunder-Mejia VS. Frogmen
DESCRIPTION:League Name: 2024 Maumee CS1 Small Field Coed 5/6 S3\nGame Type
 : Regular\nGame Status: Complete\nHome Team: Thunder-Mejia\nAway Team: Fro
 gmen\nHome Score: 1\nAway Score: 13
END:VEVENT
BEGIN:VEVENT
UID:15570163@ezleagues.ezfacility.com
DTSTAMP:20260426T034107Z
CREATED:20260426T034107Z
DTSTART:20240224T162000Z
DTEND:20240224T171000Z
LOCATION:Car Stereo One Small Field
CONTACT:
SUMMARY:Frogmen VS. Thunder-Mejia
DESCRIPTION:League Name: 2024 Maumee CS1 Small Field Coed 5/6 S3\nGame Type
 : Regular\nGame Status: Complete\nHome Team: Frogmen\nAway Team: Thunder-M
 ejia\nHome Score: 13\nAway Score: 1
END:VEVENT
BEGIN:VEVENT
UID:15570166@ezleagues.ezfacility.com
DTSTAMP:20260426T034107Z
CREATED:20260426T034107Z
DTSTART:20240302T162000Z
DTEND:20240302T171000Z
LOCATION:Car Stereo One Small Field
CONTACT:Czerniakowski
SUMMARY:Frogmen VS. Lightning-1
DESCRIPTION:League Name: 2024 Maumee CS1 Small Field Coed 5/6 S3\nGame Type
 : Regular\nGame Status: Complete\nHome Team: Frogmen\nAway Team: Lightning
 -1\nHome Score: 5\nAway Score: 4
END:VEVENT
BEGIN:VEVENT
UID:15570169@ezleagues.ezfacility.com
DTSTAMP:20260426T034107Z
CREATED:20260426T034107Z
DTSTART:20240310T170000Z
DTEND:20240310T175000Z
LOCATION:Car Stereo One Small Field
CONTACT:Stock - L
SUMMARY:Thunder-Mejia VS. Frogmen
DESCRIPTION:League Name: 2024 Maumee CS1 Small Field Coed 5/6 S3\nGame Type
 : Regular\nGame Status: Complete\nHome Team: Thunder-Mejia\nAway Team: Fro
 gmen\nHome Score: 1\nAway Score: 9
END:VEVENT
BEGIN:VEVENT
UID:15570170@ezleagues.ezfacility.com
DTSTAMP:20260426T034107Z
CREATED:20260426T034107Z
DTSTART:20240316T152000Z
DTEND:20240316T161000Z
LOCATION:Car Stereo One Small Field
CONTACT:Czerniakowski
SUMMARY:Frogmen VS. Thunder-Mejia
DESCRIPTION:League Name: 2024 Maumee CS1 Small Field Coed 5/6 S3\nGame Type
 : Regular\nGame Status: Complete\nHome Team: Frogmen\nAway Team: Thunder-M
 ejia\nHome Score: 6\nAway Score: 8
END:VEVENT
BEGIN:VEVENT
UID:15583492@ezleagues.ezfacility.com
DTSTAMP:20260426T034107Z
CREATED:20260426T034107Z
DTSTART:20240323T152000Z
DTEND:20240323T161000Z
LOCATION:Car Stereo One Small Field
CONTACT:Stock - L
SUMMARY:Frogmen VS. Lightning-1
DESCRIPTION:League Name: 2024 Maumee CS1 Small Field Coed 5/6 S3\nGame Type
 : Regular\nGame Status: Complete\nHome Team: Frogmen\nAway Team: Lightning
 -1\nHome Score: 10\nAway Score: 5
END:VEVENT
BEGIN:VEVENT
UID:15583495@ezleagues.ezfacility.com
DTSTAMP:20260426T034107Z
CREATED:20260426T034107Z
DTSTART:20240330T161000Z
DTEND:20240330T170000Z
LOCATION:Car Stereo One Small Field
CONTACT:Ohene-Larbi
SUMMARY:SFC Jr. Mints-3 VS. Frogmen
DESCRIPTION:League Name: 2024 Maumee CS1 Small Field Coed 5/6 S3\nGame Type
 : Regular\nGame Status: Complete\nHome Team: SFC Jr. Mints-3\nAway Team: F
 rogmen\nHome Score: 2\nAway Score: 17
END:VEVENT
END:VCALENDAR
