BEGIN:VCALENDAR
VERSION:2.0
PRODID:-//EZFacility.com, Inc.//EZL 2.5.5.28621
BEGIN:VEVENT
UID:15605841@ezleagues.ezfacility.com
DTSTAMP:20260424T043159Z
CREATED:20260424T043159Z
DTSTART:20240129T021000Z
DTEND:20240129T030500Z
LOCATION:PFFC Field House - B
CONTACT:
SUMMARY:Wolfpack FC (Orange) VS. Gonna Get Messi (Blue)
DESCRIPTION:League Name: MSL Winter 2024 - Sunday Men's Division 4 East\nGa
 me Type: Regular\nGame Status: Complete\nHome Team: Wolfpack FC (Orange)\n
 Away Team: Gonna Get Messi (Blue)\nHome Score: 2\nAway Score: 1
END:VEVENT
BEGIN:VEVENT
UID:15605844@ezleagues.ezfacility.com
DTSTAMP:20260424T043159Z
CREATED:20260424T043159Z
DTSTART:20240205T035000Z
DTEND:20240205T044500Z
LOCATION:PFFC Dome - 1
CONTACT:
SUMMARY:Buttonbush FC  VS. Gonna Get Messi (Blue)
DESCRIPTION:League Name: MSL Winter 2024 - Sunday Men's Division 4 East\nGa
 me Type: Regular\nGame Status: Complete\nHome Team: Buttonbush FC \nAway T
 eam: Gonna Get Messi (Blue)\nHome Score: 3\nAway Score: 3
END:VEVENT
BEGIN:VEVENT
UID:15600221@ezleagues.ezfacility.com
DTSTAMP:20260424T043159Z
CREATED:20260424T043159Z
DTSTART:20240212T025500Z
DTEND:20240212T035000Z
LOCATION:PFFC Dome - 2
CONTACT:
SUMMARY:Gonna Get Messi (Blue) VS. Etobicoke Old Boys (Orange)
DESCRIPTION:League Name: MSL Winter 2024 - Sunday Men's Division 4 East\nGa
 me Type: Regular\nGame Status: Complete\nHome Team: Gonna Get Messi (Blue)
 \nAway Team: Etobicoke Old Boys (Orange)\nHome Score: 0\nAway Score: 3
END:VEVENT
BEGIN:VEVENT
UID:15600260@ezleagues.ezfacility.com
DTSTAMP:20260424T043159Z
CREATED:20260424T043159Z
DTSTART:20240219T040000Z
DTEND:20240219T045500Z
LOCATION:PFFC Field House - D
CONTACT:
SUMMARY:ABCDE FC VS. Gonna Get Messi (Blue)
DESCRIPTION:League Name: MSL Winter 2024 - Sunday Men's Division 4 East\nGa
 me Type: Regular\nGame Status: Complete\nHome Team: ABCDE FC\nAway Team: G
 onna Get Messi (Blue)\nHome Score: 2\nAway Score: 2
END:VEVENT
BEGIN:VEVENT
UID:15600301@ezleagues.ezfacility.com
DTSTAMP:20260424T043159Z
CREATED:20260424T043159Z
DTSTART:20240226T030500Z
DTEND:20240226T040000Z
LOCATION:PFFC Field House - C
CONTACT:
SUMMARY:Gonna Get Messi (Blue) VS. Gambli FC (Purple)
DESCRIPTION:League Name: MSL Winter 2024 - Sunday Men's Division 4 East\nGa
 me Type: Regular\nGame Status: Complete\nHome Team: Gonna Get Messi (Blue)
 \nAway Team: Gambli FC (Purple)\nHome Score: 3\nAway Score: 1
END:VEVENT
BEGIN:VEVENT
UID:15600342@ezleagues.ezfacility.com
DTSTAMP:20260424T043159Z
CREATED:20260424T043159Z
DTSTART:20240304T011500Z
DTEND:20240304T021000Z
LOCATION:PFFC Field House - C
CONTACT:
SUMMARY:Gonna Get Messi (Blue) VS. Acores Continente
DESCRIPTION:League Name: MSL Winter 2024 - Sunday Men's Division 4 East\nGa
 me Type: Regular\nGame Status: Complete\nHome Team: Gonna Get Messi (Blue)
 \nAway Team: Acores Continente\nHome Score: 1\nAway Score: 3
END:VEVENT
BEGIN:VEVENT
UID:15600383@ezleagues.ezfacility.com
DTSTAMP:20260424T043159Z
CREATED:20260424T043159Z
DTSTART:20240310T232000Z
DTEND:20240311T001500Z
LOCATION:PFFC Field House - B
CONTACT:
SUMMARY:Gonna Get Messi (Blue) VS. Sauga Panthers FC
DESCRIPTION:League Name: MSL Winter 2024 - Sunday Men's Division 4 East\nGa
 me Type: Regular\nGame Status: Complete\nHome Team: Gonna Get Messi (Blue)
 \nAway Team: Sauga Panthers FC\nHome Score: 0\nAway Score: 3
END:VEVENT
BEGIN:VEVENT
UID:15600424@ezleagues.ezfacility.com
DTSTAMP:20260424T043159Z
CREATED:20260424T043159Z
DTSTART:20240318T011000Z
DTEND:20240318T020500Z
LOCATION:PFFC Field House - D
CONTACT:
SUMMARY:Gonna Get Messi (Blue) VS. AA FC
DESCRIPTION:League Name: MSL Winter 2024 - Sunday Men's Division 4 East\nGa
 me Type: Regular\nGame Status: Complete\nHome Team: Gonna Get Messi (Blue)
 \nAway Team: AA FC\nHome Score: 3\nAway Score: 2
END:VEVENT
BEGIN:VEVENT
UID:15600464@ezleagues.ezfacility.com
DTSTAMP:20260424T043159Z
CREATED:20260424T043159Z
DTSTART:20240325T010000Z
DTEND:20240325T015500Z
LOCATION:PFFC Dome - 4
CONTACT:
SUMMARY:BDB FC VS. Gonna Get Messi (Blue)
DESCRIPTION:League Name: MSL Winter 2024 - Sunday Men's Division 4 East\nGa
 me Type: Regular\nGame Status: Complete\nHome Team: BDB FC\nAway Team: Gon
 na Get Messi (Blue)\nHome Score: 4\nAway Score: 3
END:VEVENT
BEGIN:VEVENT
UID:15600542@ezleagues.ezfacility.com
DTSTAMP:20260424T043159Z
CREATED:20260424T043159Z
DTSTART:20240408T011500Z
DTEND:20240408T021000Z
LOCATION:PFFC Dome - 1
CONTACT:
SUMMARY:Digsy FC VS. Gonna Get Messi (Blue)
DESCRIPTION:League Name: MSL Winter 2024 - Sunday Men's Division 4 East\nGa
 me Type: Regular\nGame Status: Complete\nHome Team: Digsy FC\nAway Team: G
 onna Get Messi (Blue)\nHome Score: 1\nAway Score: 0
END:VEVENT
BEGIN:VEVENT
UID:15600581@ezleagues.ezfacility.com
DTSTAMP:20260424T043159Z
CREATED:20260424T043159Z
DTSTART:20240414T222500Z
DTEND:20240414T232000Z
LOCATION:PFFC Field House - D
CONTACT:
SUMMARY:Etobicoke Old Boys (Orange) VS. Gonna Get Messi (Blue)
DESCRIPTION:League Name: MSL Winter 2024 - Sunday Men's Division 4 East\nGa
 me Type: Regular\nGame Status: Complete\nHome Team: Etobicoke Old Boys (Or
 ange)\nAway Team: Gonna Get Messi (Blue)\nHome Score: 1\nAway Score: 3
END:VEVENT
BEGIN:VEVENT
UID:15600620@ezleagues.ezfacility.com
DTSTAMP:20260424T043159Z
CREATED:20260424T043159Z
DTSTART:20240422T015500Z
DTEND:20240422T025000Z
LOCATION:PFFC Dome - 4
CONTACT:
SUMMARY:ABCDE FC VS. Gonna Get Messi (Blue)
DESCRIPTION:League Name: MSL Winter 2024 - Sunday Men's Division 4 East\nGa
 me Type: Regular\nGame Status: Complete\nHome Team: ABCDE FC\nAway Team: G
 onna Get Messi (Blue)\nHome Score: 2\nAway Score: 1
END:VEVENT
BEGIN:VEVENT
UID:15600503@ezleagues.ezfacility.com
DTSTAMP:20260424T043159Z
CREATED:20260424T043159Z
DTSTART:20240429T020500Z
DTEND:20240429T030000Z
LOCATION:PFFC Field House - D
CONTACT:
SUMMARY:Wolfpack FC (Orange) VS. Gonna Get Messi (Blue)
DESCRIPTION:League Name: MSL Winter 2024 - Sunday Men's Division 4 East\nGa
 me Type: Regular\nGame Status: Complete\nHome Team: Wolfpack FC (Orange)\n
 Away Team: Gonna Get Messi (Blue)\nHome Score: 1\nAway Score: 4
END:VEVENT
BEGIN:VEVENT
UID:15695066@ezleagues.ezfacility.com
DTSTAMP:20260424T043159Z
CREATED:20260424T043159Z
DTSTART:20240505T185000Z
DTEND:20240505T194500Z
LOCATION:PFFC Field House - D
CONTACT:
SUMMARY:AA FC VS. Gonna Get Messi (Blue)
DESCRIPTION:League Name: MSL Winter 2024 - Sunday Men's Division 4 East\nGa
 me Type: Postseason\nGame Status: Complete\nHome Team: AA FC\nAway Team: G
 onna Get Messi (Blue)\nHome Score: 2\nAway Score: 6
END:VEVENT
BEGIN:VEVENT
UID:15695074@ezleagues.ezfacility.com
DTSTAMP:20260424T043159Z
CREATED:20260424T043159Z
DTSTART:20240505T204000Z
DTEND:20240505T213500Z
LOCATION:PFFC Field House - C
CONTACT:
SUMMARY:Gambli FC (Purple) VS. Gonna Get Messi (Blue)
DESCRIPTION:League Name: MSL Winter 2024 - Sunday Men's Division 4 East\nGa
 me Type: Postseason\nGame Status: Complete\nHome Team: Gambli FC (Purple)\
 nAway Team: Gonna Get Messi (Blue)\nHome Score: 3\nAway Score: 2
END:VEVENT
END:VCALENDAR
