BEGIN:VCALENDAR
VERSION:2.0
PRODID:-//EZFacility.com, Inc.//EZL 2.5.5.28621
BEGIN:VEVENT
UID:15605840@ezleagues.ezfacility.com
DTSTAMP:20260424T044417Z
CREATED:20260424T044417Z
DTSTART:20240129T011500Z
DTEND:20240129T021000Z
LOCATION:PFFC Field House - B
CONTACT:
SUMMARY:Buttonbush FC  VS. Gambli FC (Purple)
DESCRIPTION:League Name: MSL Winter 2024 - Sunday Men's Division 4 East\nGa
 me Type: Regular\nGame Status: Complete\nHome Team: Buttonbush FC \nAway T
 eam: Gambli FC (Purple)\nHome Score: 2\nAway Score: 3
END:VEVENT
BEGIN:VEVENT
UID:15605861@ezleagues.ezfacility.com
DTSTAMP:20260424T044417Z
CREATED:20260424T044417Z
DTSTART:20240205T020000Z
DTEND:20240205T025500Z
LOCATION:PFFC Dome - 1
CONTACT:
SUMMARY:SKY VS. Gambli FC (Purple)
DESCRIPTION:League Name: MSL Winter 2024 - Sunday Men's Division 4 East\nGa
 me Type: Regular\nGame Status: Complete\nHome Team: SKY\nAway Team: Gambli
  FC (Purple)\nHome Score: 1\nAway Score: 3
END:VEVENT
BEGIN:VEVENT
UID:15600223@ezleagues.ezfacility.com
DTSTAMP:20260424T044417Z
CREATED:20260424T044417Z
DTSTART:20240212T025500Z
DTEND:20240212T035000Z
LOCATION:PFFC Dome - 3
CONTACT:
SUMMARY:Gambli FC (Purple) VS. Digsy FC
DESCRIPTION:League Name: MSL Winter 2024 - Sunday Men's Division 4 East\nGa
 me Type: Regular\nGame Status: Complete\nHome Team: Gambli FC (Purple)\nAw
 ay Team: Digsy FC\nHome Score: 7\nAway Score: 4
END:VEVENT
BEGIN:VEVENT
UID:15600262@ezleagues.ezfacility.com
DTSTAMP:20260424T044417Z
CREATED:20260424T044417Z
DTSTART:20240218T232500Z
DTEND:20240219T002000Z
LOCATION:PFFC Field House - D
CONTACT:
SUMMARY:Gambli FC (Purple) VS. Etobicoke Old Boys (Orange)
DESCRIPTION:League Name: MSL Winter 2024 - Sunday Men's Division 4 East\nGa
 me Type: Regular\nGame Status: Complete\nHome Team: Gambli FC (Purple)\nAw
 ay Team: Etobicoke Old Boys (Orange)\nHome Score: 9\nAway Score: 6
END:VEVENT
BEGIN:VEVENT
UID:15600301@ezleagues.ezfacility.com
DTSTAMP:20260424T044417Z
CREATED:20260424T044417Z
DTSTART:20240226T030500Z
DTEND:20240226T040000Z
LOCATION:PFFC Field House - C
CONTACT:
SUMMARY:Gonna Get Messi (Blue) VS. Gambli FC (Purple)
DESCRIPTION:League Name: MSL Winter 2024 - Sunday Men's Division 4 East\nGa
 me Type: Regular\nGame Status: Complete\nHome Team: Gonna Get Messi (Blue)
 \nAway Team: Gambli FC (Purple)\nHome Score: 3\nAway Score: 1
END:VEVENT
BEGIN:VEVENT
UID:15600340@ezleagues.ezfacility.com
DTSTAMP:20260424T044417Z
CREATED:20260424T044417Z
DTSTART:20240304T011500Z
DTEND:20240304T021000Z
LOCATION:PFFC Field House - B
CONTACT:
SUMMARY:ABCDE FC VS. Gambli FC (Purple)
DESCRIPTION:League Name: MSL Winter 2024 - Sunday Men's Division 4 East\nGa
 me Type: Regular\nGame Status: Complete\nHome Team: ABCDE FC\nAway Team: G
 ambli FC (Purple)\nHome Score: 2\nAway Score: 5
END:VEVENT
BEGIN:VEVENT
UID:15600381@ezleagues.ezfacility.com
DTSTAMP:20260424T044417Z
CREATED:20260424T044417Z
DTSTART:20240311T015500Z
DTEND:20240311T025000Z
LOCATION:PFFC Dome - 1
CONTACT:
SUMMARY:Gambli FC (Purple) VS. Acores Continente
DESCRIPTION:League Name: MSL Winter 2024 - Sunday Men's Division 4 East\nGa
 me Type: Regular\nGame Status: Complete\nHome Team: Gambli FC (Purple)\nAw
 ay Team: Acores Continente\nHome Score: 4\nAway Score: 2
END:VEVENT
BEGIN:VEVENT
UID:15600422@ezleagues.ezfacility.com
DTSTAMP:20260424T044417Z
CREATED:20260424T044417Z
DTSTART:20240318T020500Z
DTEND:20240318T030000Z
LOCATION:PFFC Field House - C
CONTACT:
SUMMARY:Gambli FC (Purple) VS. Sauga Panthers FC
DESCRIPTION:League Name: MSL Winter 2024 - Sunday Men's Division 4 East\nGa
 me Type: Regular\nGame Status: Complete\nHome Team: Gambli FC (Purple)\nAw
 ay Team: Sauga Panthers FC\nHome Score: 2\nAway Score: 3
END:VEVENT
BEGIN:VEVENT
UID:15600463@ezleagues.ezfacility.com
DTSTAMP:20260424T044417Z
CREATED:20260424T044417Z
DTSTART:20240324T213000Z
DTEND:20240324T222500Z
LOCATION:PFFC Field House - D
CONTACT:
SUMMARY:Gambli FC (Purple) VS. AA FC
DESCRIPTION:League Name: MSL Winter 2024 - Sunday Men's Division 4 East\nGa
 me Type: Regular\nGame Status: Complete\nHome Team: Gambli FC (Purple)\nAw
 ay Team: AA FC\nHome Score: 5\nAway Score: 6
END:VEVENT
BEGIN:VEVENT
UID:15600544@ezleagues.ezfacility.com
DTSTAMP:20260424T044417Z
CREATED:20260424T044417Z
DTSTART:20240407T185000Z
DTEND:20240407T194500Z
LOCATION:PFFC Dome - 1
CONTACT:
SUMMARY:Wolfpack FC (Orange) VS. Gambli FC (Purple)
DESCRIPTION:League Name: MSL Winter 2024 - Sunday Men's Division 4 East\nGa
 me Type: Regular\nGame Status: Complete\nHome Team: Wolfpack FC (Orange)\n
 Away Team: Gambli FC (Purple)\nHome Score: 1\nAway Score: 3
END:VEVENT
BEGIN:VEVENT
UID:15600583@ezleagues.ezfacility.com
DTSTAMP:20260424T044417Z
CREATED:20260424T044417Z
DTSTART:20240415T030000Z
DTEND:20240415T035500Z
LOCATION:PFFC Field House - D
CONTACT:
SUMMARY:Digsy FC VS. Gambli FC (Purple)
DESCRIPTION:League Name: MSL Winter 2024 - Sunday Men's Division 4 East\nGa
 me Type: Regular\nGame Status: Complete\nHome Team: Digsy FC\nAway Team: G
 ambli FC (Purple)\nHome Score: 3\nAway Score: 6
END:VEVENT
BEGIN:VEVENT
UID:15600622@ezleagues.ezfacility.com
DTSTAMP:20260424T044417Z
CREATED:20260424T044417Z
DTSTART:20240422T010000Z
DTEND:20240422T015500Z
LOCATION:PFFC Dome - 3
CONTACT:
SUMMARY:Etobicoke Old Boys (Orange) VS. Gambli FC (Purple)
DESCRIPTION:League Name: MSL Winter 2024 - Sunday Men's Division 4 East\nGa
 me Type: Regular\nGame Status: Complete\nHome Team: Etobicoke Old Boys (Or
 ange)\nAway Team: Gambli FC (Purple)\nHome Score: 3\nAway Score: 3
END:VEVENT
BEGIN:VEVENT
UID:15600504@ezleagues.ezfacility.com
DTSTAMP:20260424T044417Z
CREATED:20260424T044417Z
DTSTART:20240429T030000Z
DTEND:20240429T035500Z
LOCATION:PFFC Field House - D
CONTACT:
SUMMARY:Gambli FC (Purple) VS. BDB FC
DESCRIPTION:League Name: MSL Winter 2024 - Sunday Men's Division 4 East\nGa
 me Type: Regular\nGame Status: Complete\nHome Team: Gambli FC (Purple)\nAw
 ay Team: BDB FC\nHome Score: 3\nAway Score: 1
END:VEVENT
BEGIN:VEVENT
UID:15695074@ezleagues.ezfacility.com
DTSTAMP:20260424T044417Z
CREATED:20260424T044417Z
DTSTART:20240505T204000Z
DTEND:20240505T213500Z
LOCATION:PFFC Field House - C
CONTACT:
SUMMARY:Gambli FC (Purple) VS. Gonna Get Messi (Blue)
DESCRIPTION:League Name: MSL Winter 2024 - Sunday Men's Division 4 East\nGa
 me Type: Postseason\nGame Status: Complete\nHome Team: Gambli FC (Purple)\
 nAway Team: Gonna Get Messi (Blue)\nHome Score: 3\nAway Score: 2
END:VEVENT
BEGIN:VEVENT
UID:15695076@ezleagues.ezfacility.com
DTSTAMP:20260424T044417Z
CREATED:20260424T044417Z
DTSTART:20240512T223000Z
DTEND:20240512T232500Z
LOCATION:PFFC Field House - A
CONTACT:
SUMMARY:Gambli FC (Purple) VS. Etobicoke Old Boys (Orange)
DESCRIPTION:League Name: MSL Winter 2024 - Sunday Men's Division 4 East\nGa
 me Type: Postseason\nGame Status: Complete\nHome Team: Gambli FC (Purple)\
 nAway Team: Etobicoke Old Boys (Orange)\nHome Score: 7\nAway Score: 4
END:VEVENT
END:VCALENDAR
