BEGIN:VCALENDAR
VERSION:2.0
PRODID:-//EZFacility.com, Inc.//EZL 2.5.5.28621
BEGIN:VEVENT
UID:15605841@ezleagues.ezfacility.com
DTSTAMP:20260424T044219Z
CREATED:20260424T044219Z
DTSTART:20240129T021000Z
DTEND:20240129T030500Z
LOCATION:PFFC Field House - B
CONTACT:
SUMMARY:Wolfpack FC (Orange) VS. Gonna Get Messi (Blue)
DESCRIPTION:League Name: MSL Winter 2024 - Sunday Men's Division 4 East\nGa
 me Type: Regular\nGame Status: Complete\nHome Team: Wolfpack FC (Orange)\n
 Away Team: Gonna Get Messi (Blue)\nHome Score: 2\nAway Score: 1
END:VEVENT
BEGIN:VEVENT
UID:15606005@ezleagues.ezfacility.com
DTSTAMP:20260424T044219Z
CREATED:20260424T044219Z
DTSTART:20240205T020000Z
DTEND:20240205T025500Z
LOCATION:PFFC Dome - 2
CONTACT:
SUMMARY:Ecua Tacos  VS. Wolfpack FC (Orange)
DESCRIPTION:League Name: MSL Winter 2024 - Sunday Men's Division 4 East\nGa
 me Type: Regular\nGame Status: Complete\nHome Team: Ecua Tacos \nAway Team
 : Wolfpack FC (Orange)\nHome Score: 3\nAway Score: 6
END:VEVENT
BEGIN:VEVENT
UID:15600224@ezleagues.ezfacility.com
DTSTAMP:20260424T044219Z
CREATED:20260424T044219Z
DTSTART:20240211T223000Z
DTEND:20240211T232500Z
LOCATION:PFFC Field House - A
CONTACT:
SUMMARY:Wolfpack FC (Orange) VS. Acores Continente
DESCRIPTION:League Name: MSL Winter 2024 - Sunday Men's Division 4 East\nGa
 me Type: Regular\nGame Status: Complete\nHome Team: Wolfpack FC (Orange)\n
 Away Team: Acores Continente\nHome Score: 0\nAway Score: 3
END:VEVENT
BEGIN:VEVENT
UID:15600263@ezleagues.ezfacility.com
DTSTAMP:20260424T044219Z
CREATED:20260424T044219Z
DTSTART:20240219T021000Z
DTEND:20240219T030500Z
LOCATION:PFFC Field House - D
CONTACT:
SUMMARY:Wolfpack FC (Orange) VS. Sauga Panthers FC
DESCRIPTION:League Name: MSL Winter 2024 - Sunday Men's Division 4 East\nGa
 me Type: Regular\nGame Status: Complete\nHome Team: Wolfpack FC (Orange)\n
 Away Team: Sauga Panthers FC\nHome Score: 3\nAway Score: 3
END:VEVENT
BEGIN:VEVENT
UID:15600302@ezleagues.ezfacility.com
DTSTAMP:20260424T044219Z
CREATED:20260424T044219Z
DTSTART:20240226T040000Z
DTEND:20240226T045500Z
LOCATION:PFFC Field House - C
CONTACT:
SUMMARY:AA FC VS. Wolfpack FC (Orange)
DESCRIPTION:League Name: MSL Winter 2024 - Sunday Men's Division 4 East\nGa
 me Type: Regular\nGame Status: Complete\nHome Team: AA FC\nAway Team: Wolf
 pack FC (Orange)\nHome Score: 5\nAway Score: 4
END:VEVENT
BEGIN:VEVENT
UID:15600341@ezleagues.ezfacility.com
DTSTAMP:20260424T044219Z
CREATED:20260424T044219Z
DTSTART:20240304T021000Z
DTEND:20240304T030500Z
LOCATION:PFFC Field House - B
CONTACT:
SUMMARY:BDB FC VS. Wolfpack FC (Orange)
DESCRIPTION:League Name: MSL Winter 2024 - Sunday Men's Division 4 East\nGa
 me Type: Regular\nGame Status: Complete\nHome Team: BDB FC\nAway Team: Wol
 fpack FC (Orange)\nHome Score: 4\nAway Score: 2
END:VEVENT
BEGIN:VEVENT
UID:15600380@ezleagues.ezfacility.com
DTSTAMP:20260424T044219Z
CREATED:20260424T044219Z
DTSTART:20240310T232000Z
DTEND:20240311T001500Z
LOCATION:PFFC Field House - C
CONTACT:
SUMMARY:Wolfpack FC (Orange) VS. ABCDE FC
DESCRIPTION:League Name: MSL Winter 2024 - Sunday Men's Division 4 East\nGa
 me Type: Regular\nGame Status: Complete\nHome Team: Wolfpack FC (Orange)\n
 Away Team: ABCDE FC\nHome Score: 1\nAway Score: 5
END:VEVENT
BEGIN:VEVENT
UID:15600421@ezleagues.ezfacility.com
DTSTAMP:20260424T044219Z
CREATED:20260424T044219Z
DTSTART:20240317T222500Z
DTEND:20240317T232000Z
LOCATION:PFFC Field House - B
CONTACT:
SUMMARY:Wolfpack FC (Orange) VS. Digsy FC
DESCRIPTION:League Name: MSL Winter 2024 - Sunday Men's Division 4 East\nGa
 me Type: Regular\nGame Status: Complete\nHome Team: Wolfpack FC (Orange)\n
 Away Team: Digsy FC\nHome Score: 1\nAway Score: 4
END:VEVENT
BEGIN:VEVENT
UID:15600462@ezleagues.ezfacility.com
DTSTAMP:20260424T044219Z
CREATED:20260424T044219Z
DTSTART:20240324T213000Z
DTEND:20240324T222500Z
LOCATION:PFFC Field House - A
CONTACT:
SUMMARY:Etobicoke Old Boys (Orange) VS. Wolfpack FC (Orange)
DESCRIPTION:League Name: MSL Winter 2024 - Sunday Men's Division 4 East\nGa
 me Type: Regular\nGame Status: Complete\nHome Team: Etobicoke Old Boys (Or
 ange)\nAway Team: Wolfpack FC (Orange)\nHome Score: 1\nAway Score: 1
END:VEVENT
BEGIN:VEVENT
UID:15600544@ezleagues.ezfacility.com
DTSTAMP:20260424T044219Z
CREATED:20260424T044219Z
DTSTART:20240407T185000Z
DTEND:20240407T194500Z
LOCATION:PFFC Dome - 1
CONTACT:
SUMMARY:Wolfpack FC (Orange) VS. Gambli FC (Purple)
DESCRIPTION:League Name: MSL Winter 2024 - Sunday Men's Division 4 East\nGa
 me Type: Regular\nGame Status: Complete\nHome Team: Wolfpack FC (Orange)\n
 Away Team: Gambli FC (Purple)\nHome Score: 1\nAway Score: 3
END:VEVENT
BEGIN:VEVENT
UID:15600584@ezleagues.ezfacility.com
DTSTAMP:20260424T044219Z
CREATED:20260424T044219Z
DTSTART:20240415T020500Z
DTEND:20240415T030000Z
LOCATION:PFFC Field House - D
CONTACT:
SUMMARY:Acores Continente VS. Wolfpack FC (Orange)
DESCRIPTION:League Name: MSL Winter 2024 - Sunday Men's Division 4 East\nGa
 me Type: Regular\nGame Status: Complete\nHome Team: Acores Continente\nAwa
 y Team: Wolfpack FC (Orange)\nHome Score: 3\nAway Score: 5
END:VEVENT
BEGIN:VEVENT
UID:15600623@ezleagues.ezfacility.com
DTSTAMP:20260424T044219Z
CREATED:20260424T044219Z
DTSTART:20240422T015500Z
DTEND:20240422T025000Z
LOCATION:PFFC Dome - 1
CONTACT:
SUMMARY:Sauga Panthers FC VS. Wolfpack FC (Orange)
DESCRIPTION:League Name: MSL Winter 2024 - Sunday Men's Division 4 East\nGa
 me Type: Regular\nGame Status: Complete\nHome Team: Sauga Panthers FC\nAwa
 y Team: Wolfpack FC (Orange)\nHome Score: 1\nAway Score: 0
END:VEVENT
BEGIN:VEVENT
UID:15600503@ezleagues.ezfacility.com
DTSTAMP:20260424T044219Z
CREATED:20260424T044219Z
DTSTART:20240429T020500Z
DTEND:20240429T030000Z
LOCATION:PFFC Field House - D
CONTACT:
SUMMARY:Wolfpack FC (Orange) VS. Gonna Get Messi (Blue)
DESCRIPTION:League Name: MSL Winter 2024 - Sunday Men's Division 4 East\nGa
 me Type: Regular\nGame Status: Complete\nHome Team: Wolfpack FC (Orange)\n
 Away Team: Gonna Get Messi (Blue)\nHome Score: 1\nAway Score: 4
END:VEVENT
BEGIN:VEVENT
UID:15695010@ezleagues.ezfacility.com
DTSTAMP:20260424T044219Z
CREATED:20260424T044219Z
DTSTART:20240505T185000Z
DTEND:20240505T194500Z
LOCATION:PFFC Field House - C
CONTACT:
SUMMARY:Acores Continente VS. Wolfpack FC (Orange)
DESCRIPTION:League Name: MSL Winter 2024 - Sunday Men's Division 4 East\nGa
 me Type: Postseason\nGame Status: Complete\nHome Team: Acores Continente\n
 Away Team: Wolfpack FC (Orange)\nHome Score: 4\nAway Score: 0
END:VEVENT
END:VCALENDAR
