BEGIN:VCALENDAR
VERSION:2.0
PRODID:-//EZFacility.com, Inc.//EZL 2.5.5.28621
BEGIN:VEVENT
UID:15601856@ezleagues.ezfacility.com
DTSTAMP:20260424T044247Z
CREATED:20260424T044247Z
DTSTART:20240209T050000Z
DTEND:20240209T060000Z
LOCATION:Field 1
CONTACT:
SUMMARY:C.T. Classico VS. Xolos
DESCRIPTION:League Name: THURSDAY MENS OPEN\nGame Type: Regular\nGame Statu
 s: Complete\nHome Team: C.T. Classico\nAway Team: Xolos\nHome Score: 4\nAw
 ay Score: 5
END:VEVENT
BEGIN:VEVENT
UID:15601859@ezleagues.ezfacility.com
DTSTAMP:20260424T044247Z
CREATED:20260424T044247Z
DTSTART:20240216T020000Z
DTEND:20240216T030000Z
LOCATION:Field 1
CONTACT:
SUMMARY:Livingston FC VS. C.T. Classico
DESCRIPTION:League Name: THURSDAY MENS OPEN\nGame Type: Regular\nGame Statu
 s: Complete\nHome Team: Livingston FC\nAway Team: C.T. Classico\nHome Scor
 e: 8\nAway Score: 1
END:VEVENT
BEGIN:VEVENT
UID:15601862@ezleagues.ezfacility.com
DTSTAMP:20260424T044247Z
CREATED:20260424T044247Z
DTSTART:20240223T020000Z
DTEND:20240223T030000Z
LOCATION:Field 1
CONTACT:
SUMMARY:Aztecas VS. C.T. Classico
DESCRIPTION:League Name: THURSDAY MENS OPEN\nGame Type: Regular\nGame Statu
 s: Complete\nHome Team: Aztecas\nAway Team: C.T. Classico\nHome Score: 5\n
 Away Score: 5
END:VEVENT
BEGIN:VEVENT
UID:15601865@ezleagues.ezfacility.com
DTSTAMP:20260424T044247Z
CREATED:20260424T044247Z
DTSTART:20240301T030000Z
DTEND:20240301T040000Z
LOCATION:Field 1
CONTACT:
SUMMARY:L.M.V. F.C. VS. C.T. Classico
DESCRIPTION:League Name: THURSDAY MENS OPEN\nGame Type: Regular\nGame Statu
 s: Complete\nHome Team: L.M.V. F.C.\nAway Team: C.T. Classico\nHome Score:
  8\nAway Score: 5
END:VEVENT
BEGIN:VEVENT
UID:15601870@ezleagues.ezfacility.com
DTSTAMP:20260424T044247Z
CREATED:20260424T044247Z
DTSTART:20240308T040000Z
DTEND:20240308T050000Z
LOCATION:Field 1
CONTACT:
SUMMARY:C.T. Classico VS. Tornados
DESCRIPTION:League Name: THURSDAY MENS OPEN\nGame Type: Regular\nGame Statu
 s: Complete\nHome Team: C.T. Classico\nAway Team: Tornados\nHome Score: 4\
 nAway Score: 11
END:VEVENT
BEGIN:VEVENT
UID:15601875@ezleagues.ezfacility.com
DTSTAMP:20260424T044247Z
CREATED:20260424T044247Z
DTSTART:20240315T030000Z
DTEND:20240315T040000Z
LOCATION:Field 1
CONTACT:
SUMMARY:C.T. Classico VS. Cotija
DESCRIPTION:League Name: THURSDAY MENS OPEN\nGame Type: Regular\nGame Statu
 s: Complete\nHome Team: C.T. Classico\nAway Team: Cotija\nHome Score: 1\nA
 way Score: 11
END:VEVENT
BEGIN:VEVENT
UID:15601880@ezleagues.ezfacility.com
DTSTAMP:20260424T044247Z
CREATED:20260424T044247Z
DTSTART:20240322T030000Z
DTEND:20240322T040000Z
LOCATION:Field 1
CONTACT:
SUMMARY:C.T. Classico VS. Artilleros
DESCRIPTION:League Name: THURSDAY MENS OPEN\nGame Type: Regular\nGame Statu
 s: Complete\nHome Team: C.T. Classico\nAway Team: Artilleros\nHome Score: 
 3\nAway Score: 14
END:VEVENT
BEGIN:VEVENT
UID:15601884@ezleagues.ezfacility.com
DTSTAMP:20260424T044247Z
CREATED:20260424T044247Z
DTSTART:20240329T020000Z
DTEND:20240329T030000Z
LOCATION:Field 2
CONTACT:
SUMMARY:Xolos VS. C.T. Classico
DESCRIPTION:League Name: THURSDAY MENS OPEN\nGame Type: Regular\nGame Statu
 s: Complete\nHome Team: Xolos\nAway Team: C.T. Classico\nHome Score: 5\nAw
 ay Score: 0
END:VEVENT
END:VCALENDAR
