BEGIN:VCALENDAR
VERSION:2.0
PRODID:-//EZFacility.com, Inc.//EZL 2.5.5.28621
BEGIN:VEVENT
UID:15610743@ezleagues.ezfacility.com
DTSTAMP:20260424T044234Z
CREATED:20260424T044234Z
DTSTART:20240202T030000Z
DTEND:20240202T035500Z
LOCATION:PFFC Field House - D
CONTACT:
SUMMARY:Tea and Busquets VS. FCA
DESCRIPTION:League Name: MSL Winter 2024 - Wed/Thurs Men's Division 6 East\
 nGame Type: Regular\nGame Status: Complete\nHome Team: Tea and Busquets\nA
 way Team: FCA\nHome Score: 6\nAway Score: 2
END:VEVENT
BEGIN:VEVENT
UID:15610748@ezleagues.ezfacility.com
DTSTAMP:20260424T044234Z
CREATED:20260424T044234Z
DTSTART:20240208T040000Z
DTEND:20240208T045500Z
LOCATION:PFFC Dome - 3
CONTACT:
SUMMARY:Tea and Busquets VS. Angostura Black
DESCRIPTION:League Name: MSL Winter 2024 - Wed/Thurs Men's Division 6 East\
 nGame Type: Regular\nGame Status: Complete\nHome Team: Tea and Busquets\nA
 way Team: Angostura Black\nHome Score: 5\nAway Score: 2
END:VEVENT
BEGIN:VEVENT
UID:15607101@ezleagues.ezfacility.com
DTSTAMP:20260424T044234Z
CREATED:20260424T044234Z
DTSTART:20240215T030000Z
DTEND:20240215T035500Z
LOCATION:PFFC Dome - 2
CONTACT:
SUMMARY:Do Better United VS. Tea and Busquets
DESCRIPTION:League Name: MSL Winter 2024 - Wed/Thurs Men's Division 6 East\
 nGame Type: Regular\nGame Status: Complete\nHome Team: Do Better United\nA
 way Team: Tea and Busquets\nHome Score: 1\nAway Score: 2
END:VEVENT
BEGIN:VEVENT
UID:15607123@ezleagues.ezfacility.com
DTSTAMP:20260424T044234Z
CREATED:20260424T044234Z
DTSTART:20240223T030000Z
DTEND:20240223T035500Z
LOCATION:PFFC Dome - 4
CONTACT:
SUMMARY:Amigos FC  VS. Tea and Busquets
DESCRIPTION:League Name: MSL Winter 2024 - Wed/Thurs Men's Division 6 East\
 nGame Type: Regular\nGame Status: Complete\nHome Team: Amigos FC \nAway T
 eam: Tea and Busquets\nHome Score: 2\nAway Score: 4
END:VEVENT
BEGIN:VEVENT
UID:15607145@ezleagues.ezfacility.com
DTSTAMP:20260424T044234Z
CREATED:20260424T044234Z
DTSTART:20240229T041000Z
DTEND:20240229T050500Z
LOCATION:PFFC Field House - D
CONTACT:
SUMMARY:Tea and Busquets VS. Hospital FC
DESCRIPTION:League Name: MSL Winter 2024 - Wed/Thurs Men's Division 6 East\
 nGame Type: Regular\nGame Status: Rescheduled\nHome Team: Tea and Busquets
 \nAway Team: Hospital FC\n
END:VEVENT
BEGIN:VEVENT
UID:15607167@ezleagues.ezfacility.com
DTSTAMP:20260424T044234Z
CREATED:20260424T044234Z
DTSTART:20240308T020500Z
DTEND:20240308T030000Z
LOCATION:PFFC Field House - B
CONTACT:
SUMMARY:Eye of The Schweinsteiger (White) VS. Tea and Busquets
DESCRIPTION:League Name: MSL Winter 2024 - Wed/Thurs Men's Division 6 East\
 nGame Type: Regular\nGame Status: Complete\nHome Team: Eye of The Schweins
 teiger (White)\nAway Team: Tea and Busquets\nHome Score: 2\nAway Score: 1
END:VEVENT
BEGIN:VEVENT
UID:15607188@ezleagues.ezfacility.com
DTSTAMP:20260424T044234Z
CREATED:20260424T044234Z
DTSTART:20240313T235500Z
DTEND:20240314T005000Z
LOCATION:PFFC Dome - 3
CONTACT:
SUMMARY:EDBTZ FC VS. Tea and Busquets
DESCRIPTION:League Name: MSL Winter 2024 - Wed/Thurs Men's Division 6 East\
 nGame Type: Regular\nGame Status: Complete\nHome Team: EDBTZ FC\nAway Team
 : Tea and Busquets\nHome Score: 4\nAway Score: 2
END:VEVENT
BEGIN:VEVENT
UID:15607208@ezleagues.ezfacility.com
DTSTAMP:20260424T044234Z
CREATED:20260424T044234Z
DTSTART:20240322T030000Z
DTEND:20240322T035500Z
LOCATION:PFFC Field House - D
CONTACT:
SUMMARY:PDS VS. Tea and Busquets
DESCRIPTION:League Name: MSL Winter 2024 - Wed/Thurs Men's Division 6 East\
 nGame Type: Regular\nGame Status: Complete\nHome Team: PDS\nAway Team: Tea
  and Busquets\nHome Score: 1\nAway Score: 5
END:VEVENT
BEGIN:VEVENT
UID:15607228@ezleagues.ezfacility.com
DTSTAMP:20260424T044234Z
CREATED:20260424T044234Z
DTSTART:20240328T020000Z
DTEND:20240328T025500Z
LOCATION:PFFC Dome - 2
CONTACT:
SUMMARY:Bullrush FC (Green) VS. Tea and Busquets
DESCRIPTION:League Name: MSL Winter 2024 - Wed/Thurs Men's Division 6 East\
 nGame Type: Regular\nGame Status: Complete\nHome Team: Bullrush FC (Green)
 \nAway Team: Tea and Busquets\nHome Score: 3\nAway Score: 3
END:VEVENT
BEGIN:VEVENT
UID:15607248@ezleagues.ezfacility.com
DTSTAMP:20260424T044234Z
CREATED:20260424T044234Z
DTSTART:20240404T010500Z
DTEND:20240404T020000Z
LOCATION:PFFC Dome - 4
CONTACT:
SUMMARY:Tea and Busquets VS. Do Better United
DESCRIPTION:League Name: MSL Winter 2024 - Wed/Thurs Men's Division 6 East\
 nGame Type: Regular\nGame Status: Complete\nHome Team: Tea and Busquets\nA
 way Team: Do Better United\nHome Score: 2\nAway Score: 4
END:VEVENT
BEGIN:VEVENT
UID:15607270@ezleagues.ezfacility.com
DTSTAMP:20260424T044234Z
CREATED:20260424T044234Z
DTSTART:20240412T030000Z
DTEND:20240412T035500Z
LOCATION:PFFC Field House - D
CONTACT:
SUMMARY:Tea and Busquets VS. Amigos FC 
DESCRIPTION:League Name: MSL Winter 2024 - Wed/Thurs Men's Division 6 East\
 nGame Type: Regular\nGame Status: Complete\nHome Team: Tea and Busquets\nA
 way Team: Amigos FC \nHome Score: 3\nAway Score: 4
END:VEVENT
BEGIN:VEVENT
UID:15695913@ezleagues.ezfacility.com
DTSTAMP:20260424T044234Z
CREATED:20260424T044234Z
DTSTART:20240418T021500Z
DTEND:20240418T031000Z
LOCATION:PFFC Field House - D
CONTACT:
SUMMARY:Hospital FC VS. Tea and Busquets
DESCRIPTION:League Name: MSL Winter 2024 - Wed/Thurs Men's Division 6 East\
 nGame Type: Regular\nGame Status: Complete\nHome Team: Hospital FC\nAway T
 eam: Tea and Busquets\nHome Score: 3\nAway Score: 4
END:VEVENT
BEGIN:VEVENT
UID:15659673@ezleagues.ezfacility.com
DTSTAMP:20260424T044234Z
CREATED:20260424T044234Z
DTSTART:20240418T235500Z
DTEND:20240419T005000Z
LOCATION:PFFC Dome - 3
CONTACT:
SUMMARY:Tea and Busquets VS. Hospital FC
DESCRIPTION:League Name: MSL Winter 2024 - Wed/Thurs Men's Division 6 East\
 nGame Type: Regular\nGame Status: Complete\nHome Team: Tea and Busquets\nA
 way Team: Hospital FC\nHome Score: 6\nAway Score: 3
END:VEVENT
BEGIN:VEVENT
UID:15607314@ezleagues.ezfacility.com
DTSTAMP:20260424T044234Z
CREATED:20260424T044234Z
DTSTART:20240426T024000Z
DTEND:20240426T033500Z
LOCATION:PFFC Field House - D
CONTACT:
SUMMARY:Tea and Busquets VS. Eye of The Schweinsteiger (White)
DESCRIPTION:League Name: MSL Winter 2024 - Wed/Thurs Men's Division 6 East\
 nGame Type: Regular\nGame Status: Complete\nHome Team: Tea and Busquets\nA
 way Team: Eye of The Schweinsteiger (White)\nHome Score: 2\nAway Score: 0
END:VEVENT
BEGIN:VEVENT
UID:15691483@ezleagues.ezfacility.com
DTSTAMP:20260424T044234Z
CREATED:20260424T044234Z
DTSTART:20240502T014500Z
DTEND:20240502T024000Z
LOCATION:PFFC Field House - B
CONTACT:
SUMMARY:Tea and Busquets VS. Hospital FC
DESCRIPTION:League Name: MSL Winter 2024 - Wed/Thurs Men's Division 6 East\
 nGame Type: Postseason\nGame Status: Complete\nHome Team: Tea and Busquets
 \nAway Team: Hospital FC\nHome Score: 5\nAway Score: 3
END:VEVENT
BEGIN:VEVENT
UID:15691487@ezleagues.ezfacility.com
DTSTAMP:20260424T044234Z
CREATED:20260424T044234Z
DTSTART:20240508T230000Z
DTEND:20240508T235500Z
LOCATION:PFFC Field House - D
CONTACT:
SUMMARY:Tea and Busquets VS. PDS
DESCRIPTION:League Name: MSL Winter 2024 - Wed/Thurs Men's Division 6 East\
 nGame Type: Postseason\nGame Status: Complete\nHome Team: Tea and Busquets
 \nAway Team: PDS\nHome Score: 0\nAway Score: 3
END:VEVENT
END:VCALENDAR
