BEGIN:VCALENDAR
VERSION:2.0
PRODID:-//EZFacility.com, Inc.//EZL 2.5.5.28621
BEGIN:VEVENT
UID:15610143@ezleagues.ezfacility.com
DTSTAMP:20260426T035146Z
CREATED:20260426T035146Z
DTSTART:20240217T032000Z
DTEND:20240217T041000Z
LOCATION:Large Field
CONTACT:
SUMMARY:Sunset FC VS. Valadores
DESCRIPTION:League Name: Open CoEd Spring 2024\nGame Type: Regular\nGame St
 atus: Complete\nHome Team: Sunset FC\nAway Team: Valadores\nHome Score: 1\
 nAway Score: 27
END:VEVENT
BEGIN:VEVENT
UID:15610153@ezleagues.ezfacility.com
DTSTAMP:20260426T035146Z
CREATED:20260426T035146Z
DTSTART:20240302T032000Z
DTEND:20240302T041000Z
LOCATION:Large Field
CONTACT:
SUMMARY:Sunset FC VS. NOWA FC
DESCRIPTION:League Name: Open CoEd Spring 2024\nGame Type: Regular\nGame St
 atus: Complete\nHome Team: Sunset FC\nAway Team: NOWA FC\nHome Score: 2\nA
 way Score: 34
END:VEVENT
BEGIN:VEVENT
UID:15610157@ezleagues.ezfacility.com
DTSTAMP:20260426T035146Z
CREATED:20260426T035146Z
DTSTART:20240309T041000Z
DTEND:20240309T050000Z
LOCATION:Large Field
CONTACT:
SUMMARY:Real Bad FC VS. Sunset FC
DESCRIPTION:League Name: Open CoEd Spring 2024\nGame Type: Regular\nGame St
 atus: Complete\nHome Team: Real Bad FC\nAway Team: Sunset FC\nHome Score: 
 25\nAway Score: 14
END:VEVENT
BEGIN:VEVENT
UID:15610163@ezleagues.ezfacility.com
DTSTAMP:20260426T035146Z
CREATED:20260426T035146Z
DTSTART:20240323T013000Z
DTEND:20240323T022000Z
LOCATION:Large Field
CONTACT:
SUMMARY:Sunset FC VS. Deportivos
DESCRIPTION:League Name: Open CoEd Spring 2024\nGame Type: Regular\nGame St
 atus: Complete\nHome Team: Sunset FC\nAway Team: Deportivos\nHome Score: 3
 \nAway Score: 35
END:VEVENT
BEGIN:VEVENT
UID:15610166@ezleagues.ezfacility.com
DTSTAMP:20260426T035146Z
CREATED:20260426T035146Z
DTSTART:20240330T031000Z
DTEND:20240330T040000Z
LOCATION:Large Field
CONTACT:
SUMMARY:Huaches VS. Sunset FC
DESCRIPTION:League Name: Open CoEd Spring 2024\nGame Type: Regular\nGame St
 atus: Complete\nHome Team: Huaches\nAway Team: Sunset FC\nHome Score: 9\nA
 way Score: 5
END:VEVENT
BEGIN:VEVENT
UID:15610171@ezleagues.ezfacility.com
DTSTAMP:20260426T035146Z
CREATED:20260426T035146Z
DTSTART:20240406T013000Z
DTEND:20240406T022000Z
LOCATION:Large Field
CONTACT:
SUMMARY:Valadores VS. Sunset FC
DESCRIPTION:League Name: Open CoEd Spring 2024\nGame Type: Regular\nGame St
 atus: Complete\nHome Team: Valadores\nAway Team: Sunset FC\nHome Score: 27
 \nAway Score: 7
END:VEVENT
BEGIN:VEVENT
UID:15610184@ezleagues.ezfacility.com
DTSTAMP:20260426T035146Z
CREATED:20260426T035146Z
DTSTART:20240420T010000Z
DTEND:20240420T014500Z
LOCATION:Large Field
CONTACT:
SUMMARY:Sunset FC VS. Deportivos
DESCRIPTION:League Name: Open CoEd Spring 2024\nGame Type: Regular\nGame St
 atus: Complete\nHome Team: Sunset FC\nAway Team: Deportivos\nHome Score: 7
 \nAway Score: 28
END:VEVENT
BEGIN:VEVENT
UID:15610160@ezleagues.ezfacility.com
DTSTAMP:20260426T035146Z
CREATED:20260426T035146Z
DTSTART:20240420T015000Z
DTEND:20240420T024000Z
LOCATION:Large Field
CONTACT:
SUMMARY:NFH VS. Sunset FC
DESCRIPTION:League Name: Open CoEd Spring 2024\nGame Type: Regular\nGame St
 atus: Complete\nHome Team: NFH\nAway Team: Sunset FC\nHome Score: 26\nAway
  Score: 13
END:VEVENT
END:VCALENDAR
