BEGIN:VCALENDAR
VERSION:2.0
PRODID:-//EZFacility.com, Inc.//EZL 2.5.5.28621
BEGIN:VEVENT
UID:15624727@ezleagues.ezfacility.com
DTSTAMP:20260426T035048Z
CREATED:20260426T035048Z
DTSTART:20240227T233000Z
DTEND:20240228T003000Z
LOCATION:South Court
CONTACT:
SUMMARY:M4 buckets VS. PT 1's
DESCRIPTION:League Name: Basketball\nGame Type: Regular\nGame Status: Compl
 ete\nHome Team: M4 buckets\nAway Team: PT 1's\nHome Score: 61\nAway Score:
  64
END:VEVENT
BEGIN:VEVENT
UID:15624732@ezleagues.ezfacility.com
DTSTAMP:20260426T035048Z
CREATED:20260426T035048Z
DTSTART:20240306T023000Z
DTEND:20240306T033000Z
LOCATION:South Court
CONTACT:
SUMMARY:M4 buckets VS. PGY - 2 Old For This
DESCRIPTION:League Name: Basketball\nGame Type: Regular\nGame Status: Compl
 ete\nHome Team: M4 buckets\nAway Team: PGY - 2 Old For This\nHome Score: 6
 3\nAway Score: 52
END:VEVENT
BEGIN:VEVENT
UID:15624736@ezleagues.ezfacility.com
DTSTAMP:20260426T035048Z
CREATED:20260426T035048Z
DTSTART:20240312T233000Z
DTEND:20240313T003000Z
LOCATION:South Court
CONTACT:
SUMMARY:H1 - AND1 VS. M4 buckets
DESCRIPTION:League Name: Basketball\nGame Type: Regular\nGame Status: Compl
 ete\nHome Team: H1 - AND1\nAway Team: M4 buckets\nHome Score: 34\nAway Sco
 re: 49
END:VEVENT
BEGIN:VEVENT
UID:15624739@ezleagues.ezfacility.com
DTSTAMP:20260426T035048Z
CREATED:20260426T035048Z
DTSTART:20240319T223000Z
DTEND:20240319T233000Z
LOCATION:South Court
CONTACT:
SUMMARY:Murses R Us VS. M4 buckets
DESCRIPTION:League Name: Basketball\nGame Type: Regular\nGame Status: Compl
 ete\nHome Team: Murses R Us\nAway Team: M4 buckets\nHome Score: 60\nAway S
 core: 85
END:VEVENT
BEGIN:VEVENT
UID:15624742@ezleagues.ezfacility.com
DTSTAMP:20260426T035048Z
CREATED:20260426T035048Z
DTSTART:20240327T003000Z
DTEND:20240327T013000Z
LOCATION:South Court
CONTACT:
SUMMARY:PT2Peat VS. M4 buckets
DESCRIPTION:League Name: Basketball\nGame Type: Regular\nGame Status: Compl
 ete\nHome Team: PT2Peat\nAway Team: M4 buckets\nHome Score: 1\nAway Score:
  0
END:VEVENT
BEGIN:VEVENT
UID:15624745@ezleagues.ezfacility.com
DTSTAMP:20260426T035048Z
CREATED:20260426T035048Z
DTSTART:20240403T003000Z
DTEND:20240403T013000Z
LOCATION:South Court
CONTACT:
SUMMARY:GangLions VS. M4 buckets
DESCRIPTION:League Name: Basketball\nGame Type: Regular\nGame Status: Compl
 ete\nHome Team: GangLions\nAway Team: M4 buckets\nHome Score: 0\nAway Scor
 e: 1
END:VEVENT
BEGIN:VEVENT
UID:15624750@ezleagues.ezfacility.com
DTSTAMP:20260426T035048Z
CREATED:20260426T035048Z
DTSTART:20240409T233000Z
DTEND:20240410T003000Z
LOCATION:South Court
CONTACT:
SUMMARY:M4 buckets VS. LeBron's Favorite M1's
DESCRIPTION:League Name: Basketball\nGame Type: Regular\nGame Status: Compl
 ete\nHome Team: M4 buckets\nAway Team: LeBron's Favorite M1's\nHome Score:
  56\nAway Score: 58
END:VEVENT
BEGIN:VEVENT
UID:15702790@ezleagues.ezfacility.com
DTSTAMP:20260426T035048Z
CREATED:20260426T035048Z
DTSTART:20240416T230000Z
DTEND:20240417T000000Z
LOCATION:South Court
CONTACT:
SUMMARY:LeBron's Favorite M1's VS. M4 buckets
DESCRIPTION:League Name: Basketball\nGame Type: Regular\nGame Status: Compl
 ete\nHome Team: LeBron's Favorite M1's\nAway Team: M4 buckets\nHome Score:
  61\nAway Score: 50
END:VEVENT
END:VCALENDAR
