BEGIN:VCALENDAR
VERSION:2.0
PRODID:-//EZFacility.com, Inc.//EZL 2.5.5.28621
BEGIN:VEVENT
UID:15631805@ezleagues.ezfacility.com
DTSTAMP:20260426T034830Z
CREATED:20260426T034830Z
DTSTART:20240227T011500Z
DTEND:20240227T021500Z
LOCATION:Field 3
CONTACT:
SUMMARY:SNAFU VS. CNH / Legacy
DESCRIPTION:League Name: 2024 S1 Mon E Coed Lite- Feb 26\nGame Type: Regula
 r\nGame Status: Complete\nHome Team: SNAFU\nAway Team: CNH / Legacy\nHome 
 Score: 19\nAway Score: 8
END:VEVENT
BEGIN:VEVENT
UID:15631806@ezleagues.ezfacility.com
DTSTAMP:20260426T034830Z
CREATED:20260426T034830Z
DTSTART:20240227T021500Z
DTEND:20240227T031500Z
LOCATION:Field 3
CONTACT:
SUMMARY:CNH / Legacy VS. SNAFU
DESCRIPTION:League Name: 2024 S1 Mon E Coed Lite- Feb 26\nGame Type: Regula
 r\nGame Status: Complete\nHome Team: CNH / Legacy\nAway Team: SNAFU\nHome 
 Score: 11\nAway Score: 10
END:VEVENT
BEGIN:VEVENT
UID:15631813@ezleagues.ezfacility.com
DTSTAMP:20260426T034830Z
CREATED:20260426T034830Z
DTSTART:20240305T031500Z
DTEND:20240305T041500Z
LOCATION:Field 1
CONTACT:
SUMMARY:CNH / Legacy VS. Buzzed Batters
DESCRIPTION:League Name: 2024 S1 Mon E Coed Lite- Feb 26\nGame Type: Regula
 r\nGame Status: Complete\nHome Team: CNH / Legacy\nAway Team: Buzzed Batte
 rs\nHome Score: 19\nAway Score: 18
END:VEVENT
BEGIN:VEVENT
UID:15631814@ezleagues.ezfacility.com
DTSTAMP:20260426T034830Z
CREATED:20260426T034830Z
DTSTART:20240305T041500Z
DTEND:20240305T051500Z
LOCATION:Field 1
CONTACT:
SUMMARY:Buzzed Batters VS. CNH / Legacy
DESCRIPTION:League Name: 2024 S1 Mon E Coed Lite- Feb 26\nGame Type: Regula
 r\nGame Status: Complete\nHome Team: Buzzed Batters\nAway Team: CNH / Lega
 cy\nHome Score: 15\nAway Score: 14
END:VEVENT
BEGIN:VEVENT
UID:15631853@ezleagues.ezfacility.com
DTSTAMP:20260426T034830Z
CREATED:20260426T034830Z
DTSTART:20240326T011500Z
DTEND:20240326T021500Z
LOCATION:Field 3
CONTACT:
SUMMARY:Ump Yours VS. CNH / Legacy
DESCRIPTION:League Name: 2024 S1 Mon E Coed Lite- Feb 26\nGame Type: Regula
 r\nGame Status: Complete\nHome Team: Ump Yours\nAway Team: CNH / Legacy\nH
 ome Score: 11\nAway Score: 19
END:VEVENT
BEGIN:VEVENT
UID:15631854@ezleagues.ezfacility.com
DTSTAMP:20260426T034830Z
CREATED:20260426T034830Z
DTSTART:20240326T021500Z
DTEND:20240326T031500Z
LOCATION:Field 3
CONTACT:
SUMMARY:CNH / Legacy VS. Ump Yours
DESCRIPTION:League Name: 2024 S1 Mon E Coed Lite- Feb 26\nGame Type: Regula
 r\nGame Status: Complete\nHome Team: CNH / Legacy\nAway Team: Ump Yours\nH
 ome Score: 10\nAway Score: 6
END:VEVENT
BEGIN:VEVENT
UID:15631873@ezleagues.ezfacility.com
DTSTAMP:20260426T034830Z
CREATED:20260426T034830Z
DTSTART:20240409T031500Z
DTEND:20240409T041500Z
LOCATION:Field 3
CONTACT:
SUMMARY:CNH / Legacy VS. Buzzed Batters
DESCRIPTION:League Name: 2024 S1 Mon E Coed Lite- Feb 26\nGame Type: Regula
 r\nGame Status: Complete\nHome Team: CNH / Legacy\nAway Team: Buzzed Batte
 rs\nHome Score: 22\nAway Score: 8
END:VEVENT
BEGIN:VEVENT
UID:15631874@ezleagues.ezfacility.com
DTSTAMP:20260426T034830Z
CREATED:20260426T034830Z
DTSTART:20240409T041500Z
DTEND:20240409T051500Z
LOCATION:Field 3
CONTACT:
SUMMARY:Buzzed Batters VS. CNH / Legacy
DESCRIPTION:League Name: 2024 S1 Mon E Coed Lite- Feb 26\nGame Type: Regula
 r\nGame Status: Complete\nHome Team: Buzzed Batters\nAway Team: CNH / Lega
 cy\nHome Score: 7\nAway Score: 18
END:VEVENT
BEGIN:VEVENT
UID:15631827@ezleagues.ezfacility.com
DTSTAMP:20260426T034830Z
CREATED:20260426T034830Z
DTSTART:20240416T011500Z
DTEND:20240416T021500Z
LOCATION:Field 1
CONTACT:
SUMMARY:CNH / Legacy VS. Hot Mess
DESCRIPTION:League Name: 2024 S1 Mon E Coed Lite- Feb 26\nGame Type: Regula
 r\nGame Status: Complete\nHome Team: CNH / Legacy\nAway Team: Hot Mess\nHo
 me Score: 14\nAway Score: 12
END:VEVENT
BEGIN:VEVENT
UID:15631828@ezleagues.ezfacility.com
DTSTAMP:20260426T034830Z
CREATED:20260426T034830Z
DTSTART:20240416T021500Z
DTEND:20240416T031500Z
LOCATION:Field 1
CONTACT:
SUMMARY:Hot Mess VS. CNH / Legacy
DESCRIPTION:League Name: 2024 S1 Mon E Coed Lite- Feb 26\nGame Type: Regula
 r\nGame Status: Complete\nHome Team: Hot Mess\nAway Team: CNH / Legacy\nHo
 me Score: 11\nAway Score: 18
END:VEVENT
BEGIN:VEVENT
UID:15631841@ezleagues.ezfacility.com
DTSTAMP:20260426T034830Z
CREATED:20260426T034830Z
DTSTART:20240423T031500Z
DTEND:20240423T041500Z
LOCATION:Field 3
CONTACT:
SUMMARY:CNH / Legacy VS. Deal With It
DESCRIPTION:League Name: 2024 S1 Mon E Coed Lite- Feb 26\nGame Type: Regula
 r\nGame Status: Complete\nHome Team: CNH / Legacy\nAway Team: Deal With It
 \nHome Score: 15\nAway Score: 11
END:VEVENT
BEGIN:VEVENT
UID:15631842@ezleagues.ezfacility.com
DTSTAMP:20260426T034830Z
CREATED:20260426T034830Z
DTSTART:20240423T041500Z
DTEND:20240423T051500Z
LOCATION:Field 3
CONTACT:
SUMMARY:Deal With It VS. CNH / Legacy
DESCRIPTION:League Name: 2024 S1 Mon E Coed Lite- Feb 26\nGame Type: Regula
 r\nGame Status: Complete\nHome Team: Deal With It\nAway Team: CNH / Legacy
 \nHome Score: 16\nAway Score: 12
END:VEVENT
BEGIN:VEVENT
UID:15631865@ezleagues.ezfacility.com
DTSTAMP:20260426T034830Z
CREATED:20260426T034830Z
DTSTART:20240430T031500Z
DTEND:20240430T041500Z
LOCATION:Field 1
CONTACT:
SUMMARY:SNAFU VS. CNH / Legacy
DESCRIPTION:League Name: 2024 S1 Mon E Coed Lite- Feb 26\nGame Type: Regula
 r\nGame Status: Complete\nHome Team: SNAFU\nAway Team: CNH / Legacy\nHome 
 Score: 15\nAway Score: 3
END:VEVENT
BEGIN:VEVENT
UID:15631866@ezleagues.ezfacility.com
DTSTAMP:20260426T034830Z
CREATED:20260426T034830Z
DTSTART:20240430T041500Z
DTEND:20240430T051500Z
LOCATION:Field 1
CONTACT:
SUMMARY:CNH / Legacy VS. SNAFU
DESCRIPTION:League Name: 2024 S1 Mon E Coed Lite- Feb 26\nGame Type: Regula
 r\nGame Status: Complete\nHome Team: CNH / Legacy\nAway Team: SNAFU\nHome 
 Score: 7\nAway Score: 26
END:VEVENT
BEGIN:VEVENT
UID:15724937@ezleagues.ezfacility.com
DTSTAMP:20260426T034830Z
CREATED:20260426T034830Z
DTSTART:20240507T011500Z
DTEND:20240507T021500Z
LOCATION:Field 3
CONTACT:
SUMMARY:SNAFU VS. CNH / Legacy
DESCRIPTION:League Name: 2024 S1 Mon E Coed Lite- Feb 26\nGame Type: Postse
 ason\nGame Status: Complete\nHome Team: SNAFU\nAway Team: CNH / Legacy\nHo
 me Score: 14\nAway Score: 12
END:VEVENT
END:VCALENDAR
