BEGIN:VCALENDAR
VERSION:2.0
PRODID:-//EZFacility.com, Inc.//EZL 2.5.5.28621
BEGIN:VEVENT
UID:15633546@ezleagues.ezfacility.com
DTSTAMP:20260426T035053Z
CREATED:20260426T035053Z
DTSTART:20240223T140000Z
DTEND:20240223T150000Z
LOCATION:Turf 2
CONTACT:
SUMMARY:C-Bags VS. Cornaholics
DESCRIPTION:League Name: Cornhole Intermediate League (February 2024)\nGame
  Type: Regular\nGame Status: Complete\nHome Team: C-Bags\nAway Team: Corna
 holics\nHome Score: 21\nAway Score: 10
END:VEVENT
BEGIN:VEVENT
UID:15633555@ezleagues.ezfacility.com
DTSTAMP:20260426T035053Z
CREATED:20260426T035053Z
DTSTART:20240223T141000Z
DTEND:20240223T151000Z
LOCATION:Turf 2
CONTACT:
SUMMARY:DA VS. Cornaholics
DESCRIPTION:League Name: Cornhole Intermediate League (February 2024)\nGame
  Type: Regular\nGame Status: Complete\nHome Team: DA\nAway Team: Cornaholi
 cs\nHome Score: 6\nAway Score: 21
END:VEVENT
BEGIN:VEVENT
UID:15633609@ezleagues.ezfacility.com
DTSTAMP:20260426T035053Z
CREATED:20260426T035053Z
DTSTART:20240223T142000Z
DTEND:20240223T152000Z
LOCATION:Turf 2
CONTACT:
SUMMARY:Dirty Bags VS. Cornaholics
DESCRIPTION:League Name: Cornhole Intermediate League (February 2024)\nGame
  Type: Regular\nGame Status: Complete\nHome Team: Dirty Bags\nAway Team: C
 ornaholics\nHome Score: 21\nAway Score: 2
END:VEVENT
BEGIN:VEVENT
UID:15645739@ezleagues.ezfacility.com
DTSTAMP:20260426T035053Z
CREATED:20260426T035053Z
DTSTART:20240301T160000Z
DTEND:20240301T170000Z
LOCATION:Turf 2
CONTACT:
SUMMARY:Cornaholics VS. Reynolds Bags
DESCRIPTION:League Name: Cornhole Intermediate League (February 2024)\nGame
  Type: Regular\nGame Status: Complete\nHome Team: Cornaholics\nAway Team: 
 Reynolds Bags\nHome Score: 21\nAway Score: 12
END:VEVENT
BEGIN:VEVENT
UID:15645749@ezleagues.ezfacility.com
DTSTAMP:20260426T035053Z
CREATED:20260426T035053Z
DTSTART:20240301T161000Z
DTEND:20240301T171000Z
LOCATION:Turf 2
CONTACT:
SUMMARY:Cornaholics VS. Jofas
DESCRIPTION:League Name: Cornhole Intermediate League (February 2024)\nGame
  Type: Regular\nGame Status: Complete\nHome Team: Cornaholics\nAway Team: 
 Jofas\nHome Score: 2\nAway Score: 21
END:VEVENT
BEGIN:VEVENT
UID:15645753@ezleagues.ezfacility.com
DTSTAMP:20260426T035053Z
CREATED:20260426T035053Z
DTSTART:20240301T162000Z
DTEND:20240301T172000Z
LOCATION:Turf 2
CONTACT:
SUMMARY:Cornaholics VS. Asshats
DESCRIPTION:League Name: Cornhole Intermediate League (February 2024)\nGame
  Type: Regular\nGame Status: Complete\nHome Team: Cornaholics\nAway Team: 
 Asshats\nHome Score: 17\nAway Score: 21
END:VEVENT
BEGIN:VEVENT
UID:15652270@ezleagues.ezfacility.com
DTSTAMP:20260426T035053Z
CREATED:20260426T035053Z
DTSTART:20240308T160000Z
DTEND:20240308T170000Z
LOCATION:Turf 2
CONTACT:
SUMMARY:Cornaholics VS. Throwing Bags
DESCRIPTION:League Name: Cornhole Intermediate League (February 2024)\nGame
  Type: Regular\nGame Status: Complete\nHome Team: Cornaholics\nAway Team: 
 Throwing Bags\nHome Score: 21\nAway Score: 7
END:VEVENT
BEGIN:VEVENT
UID:15652283@ezleagues.ezfacility.com
DTSTAMP:20260426T035053Z
CREATED:20260426T035053Z
DTSTART:20240308T161000Z
DTEND:20240308T171000Z
LOCATION:Turf 2
CONTACT:
SUMMARY:Beers and Bags VS. Cornaholics
DESCRIPTION:League Name: Cornhole Intermediate League (February 2024)\nGame
  Type: Regular\nGame Status: Complete\nHome Team: Beers and Bags\nAway Tea
 m: Cornaholics\nHome Score: 17\nAway Score: 21
END:VEVENT
BEGIN:VEVENT
UID:15652293@ezleagues.ezfacility.com
DTSTAMP:20260426T035053Z
CREATED:20260426T035053Z
DTSTART:20240308T162000Z
DTEND:20240308T172000Z
LOCATION:Turf 2
CONTACT:
SUMMARY:Cornaholics VS. Jofas
DESCRIPTION:League Name: Cornhole Intermediate League (February 2024)\nGame
  Type: Regular\nGame Status: Complete\nHome Team: Cornaholics\nAway Team: 
 Jofas\nHome Score: 7\nAway Score: 21
END:VEVENT
BEGIN:VEVENT
UID:15671385@ezleagues.ezfacility.com
DTSTAMP:20260426T035053Z
CREATED:20260426T035053Z
DTSTART:20240315T190000Z
DTEND:20240315T200000Z
LOCATION:Turf 2
CONTACT:
SUMMARY:Cornaholics VS. We So Corny
DESCRIPTION:League Name: Cornhole Intermediate League (February 2024)\nGame
  Type: Regular\nGame Status: Complete\nHome Team: Cornaholics\nAway Team: 
 We So Corny\nHome Score: 21\nAway Score: 3
END:VEVENT
BEGIN:VEVENT
UID:15671393@ezleagues.ezfacility.com
DTSTAMP:20260426T035053Z
CREATED:20260426T035053Z
DTSTART:20240315T191000Z
DTEND:20240315T201000Z
LOCATION:Turf 2
CONTACT:
SUMMARY:Cornaholics VS. Dirty Old Bags
DESCRIPTION:League Name: Cornhole Intermediate League (February 2024)\nGame
  Type: Regular\nGame Status: Complete\nHome Team: Cornaholics\nAway Team: 
 Dirty Old Bags\nHome Score: 10\nAway Score: 21
END:VEVENT
BEGIN:VEVENT
UID:15671408@ezleagues.ezfacility.com
DTSTAMP:20260426T035053Z
CREATED:20260426T035053Z
DTSTART:20240315T192000Z
DTEND:20240315T202000Z
LOCATION:Turf 2
CONTACT:
SUMMARY:Cornaholics VS. Dirty Bags
DESCRIPTION:League Name: Cornhole Intermediate League (February 2024)\nGame
  Type: Regular\nGame Status: Complete\nHome Team: Cornaholics\nAway Team: 
 Dirty Bags\nHome Score: 8\nAway Score: 21
END:VEVENT
BEGIN:VEVENT
UID:15673570@ezleagues.ezfacility.com
DTSTAMP:20260426T035053Z
CREATED:20260426T035053Z
DTSTART:20240322T200000Z
DTEND:20240322T210000Z
LOCATION:Turf 2
CONTACT:
SUMMARY:B.T. Boarders VS. Cornaholics
DESCRIPTION:League Name: Cornhole Intermediate League (February 2024)\nGame
  Type: Regular\nGame Status: Complete\nHome Team: B.T. Boarders\nAway Team
 : Cornaholics\nHome Score: 0\nAway Score: 0
END:VEVENT
BEGIN:VEVENT
UID:15673590@ezleagues.ezfacility.com
DTSTAMP:20260426T035053Z
CREATED:20260426T035053Z
DTSTART:20240322T201000Z
DTEND:20240322T211000Z
LOCATION:Turf 2
CONTACT:
SUMMARY:Bag Assassins VS. Cornaholics
DESCRIPTION:League Name: Cornhole Intermediate League (February 2024)\nGame
  Type: Regular\nGame Status: Complete\nHome Team: Bag Assassins\nAway Team
 : Cornaholics\nHome Score: 21\nAway Score: 0
END:VEVENT
BEGIN:VEVENT
UID:15673607@ezleagues.ezfacility.com
DTSTAMP:20260426T035053Z
CREATED:20260426T035053Z
DTSTART:20240322T202000Z
DTEND:20240322T212000Z
LOCATION:Turf 2
CONTACT:
SUMMARY:Cornaholics VS. Just Chucking
DESCRIPTION:League Name: Cornhole Intermediate League (February 2024)\nGame
  Type: Regular\nGame Status: Complete\nHome Team: Cornaholics\nAway Team: 
 Just Chucking\nHome Score: 0\nAway Score: 21
END:VEVENT
END:VCALENDAR
