BEGIN:VCALENDAR
VERSION:2.0
PRODID:-//EZFacility.com, Inc.//EZL 2.5.5.28621
BEGIN:VEVENT
UID:15642488@ezleagues.ezfacility.com
DTSTAMP:20260424T044209Z
CREATED:20260424T044209Z
DTSTART:20240306T031500Z
DTEND:20240306T041500Z
LOCATION:Field 2
CONTACT:
SUMMARY:Good for 1 More VS. DE Insurance
DESCRIPTION:League Name: 2024 S2 Tues Men's Rec March 5\nGame Type: Regular
 \nGame Status: Complete\nHome Team: Good for 1 More\nAway Team: DE Insuran
 ce\nHome Score: 13\nAway Score: 28
END:VEVENT
BEGIN:VEVENT
UID:15642489@ezleagues.ezfacility.com
DTSTAMP:20260424T044209Z
CREATED:20260424T044209Z
DTSTART:20240306T041500Z
DTEND:20240306T051500Z
LOCATION:Field 2
CONTACT:
SUMMARY:DE Insurance VS. Good for 1 More
DESCRIPTION:League Name: 2024 S2 Tues Men's Rec March 5\nGame Type: Regular
 \nGame Status: Complete\nHome Team: DE Insurance\nAway Team: Good for 1 Mo
 re\nHome Score: 23\nAway Score: 17
END:VEVENT
BEGIN:VEVENT
UID:15642502@ezleagues.ezfacility.com
DTSTAMP:20260424T044209Z
CREATED:20260424T044209Z
DTSTART:20240313T031500Z
DTEND:20240313T041500Z
LOCATION:Field 3
CONTACT:
SUMMARY:Leftovers VS. DE Insurance
DESCRIPTION:League Name: 2024 S2 Tues Men's Rec March 5\nGame Type: Regular
 \nGame Status: Complete\nHome Team: Leftovers\nAway Team: DE Insurance\nHo
 me Score: 6\nAway Score: 23
END:VEVENT
BEGIN:VEVENT
UID:15642503@ezleagues.ezfacility.com
DTSTAMP:20260424T044209Z
CREATED:20260424T044209Z
DTSTART:20240313T041500Z
DTEND:20240313T051500Z
LOCATION:Field 3
CONTACT:
SUMMARY:DE Insurance VS. Leftovers
DESCRIPTION:League Name: 2024 S2 Tues Men's Rec March 5\nGame Type: Regular
 \nGame Status: Complete\nHome Team: DE Insurance\nAway Team: Leftovers\nHo
 me Score: 18\nAway Score: 11
END:VEVENT
BEGIN:VEVENT
UID:15642524@ezleagues.ezfacility.com
DTSTAMP:20260424T044209Z
CREATED:20260424T044209Z
DTSTART:20240320T011500Z
DTEND:20240320T021500Z
LOCATION:Field 3
CONTACT:
SUMMARY:McGlovin VS. DE Insurance
DESCRIPTION:League Name: 2024 S2 Tues Men's Rec March 5\nGame Type: Regular
 \nGame Status: Complete\nHome Team: McGlovin\nAway Team: DE Insurance\nHom
 e Score: 12\nAway Score: 10
END:VEVENT
BEGIN:VEVENT
UID:15642525@ezleagues.ezfacility.com
DTSTAMP:20260424T044209Z
CREATED:20260424T044209Z
DTSTART:20240320T021500Z
DTEND:20240320T031500Z
LOCATION:Field 3
CONTACT:
SUMMARY:DE Insurance VS. McGlovin
DESCRIPTION:League Name: 2024 S2 Tues Men's Rec March 5\nGame Type: Regular
 \nGame Status: Complete\nHome Team: DE Insurance\nAway Team: McGlovin\nHom
 e Score: 10\nAway Score: 20
END:VEVENT
BEGIN:VEVENT
UID:15642540@ezleagues.ezfacility.com
DTSTAMP:20260424T044209Z
CREATED:20260424T044209Z
DTSTART:20240327T011500Z
DTEND:20240327T021500Z
LOCATION:Field 4
CONTACT:
SUMMARY:Jagerbombers VS. DE Insurance
DESCRIPTION:League Name: 2024 S2 Tues Men's Rec March 5\nGame Type: Regular
 \nGame Status: Complete\nHome Team: Jagerbombers\nAway Team: DE Insurance\
 nHome Score: 16\nAway Score: 12
END:VEVENT
BEGIN:VEVENT
UID:15642541@ezleagues.ezfacility.com
DTSTAMP:20260424T044209Z
CREATED:20260424T044209Z
DTSTART:20240327T021500Z
DTEND:20240327T031500Z
LOCATION:Field 4
CONTACT:
SUMMARY:DE Insurance VS. Jagerbombers
DESCRIPTION:League Name: 2024 S2 Tues Men's Rec March 5\nGame Type: Regular
 \nGame Status: Complete\nHome Team: DE Insurance\nAway Team: Jagerbombers\
 nHome Score: 17\nAway Score: 12
END:VEVENT
BEGIN:VEVENT
UID:15642552@ezleagues.ezfacility.com
DTSTAMP:20260424T044209Z
CREATED:20260424T044209Z
DTSTART:20240403T011500Z
DTEND:20240403T021500Z
LOCATION:Field 1
CONTACT:
SUMMARY:Los Boca Secas VS. DE Insurance
DESCRIPTION:League Name: 2024 S2 Tues Men's Rec March 5\nGame Type: Regular
 \nGame Status: Complete\nHome Team: Los Boca Secas\nAway Team: DE Insuranc
 e\nHome Score: 16\nAway Score: 19
END:VEVENT
BEGIN:VEVENT
UID:15642553@ezleagues.ezfacility.com
DTSTAMP:20260424T044209Z
CREATED:20260424T044209Z
DTSTART:20240403T021500Z
DTEND:20240403T031500Z
LOCATION:Field 1
CONTACT:
SUMMARY:DE Insurance VS. Los Boca Secas
DESCRIPTION:League Name: 2024 S2 Tues Men's Rec March 5\nGame Type: Regular
 \nGame Status: Complete\nHome Team: DE Insurance\nAway Team: Los Boca Seca
 s\nHome Score: 13\nAway Score: 19
END:VEVENT
BEGIN:VEVENT
UID:15642572@ezleagues.ezfacility.com
DTSTAMP:20260424T044209Z
CREATED:20260424T044209Z
DTSTART:20240410T011500Z
DTEND:20240410T021500Z
LOCATION:Field 3
CONTACT:
SUMMARY:Loti Builders Group VS. DE Insurance
DESCRIPTION:League Name: 2024 S2 Tues Men's Rec March 5\nGame Type: Regular
 \nGame Status: Complete\nHome Team: Loti Builders Group\nAway Team: DE Ins
 urance\nHome Score: 8\nAway Score: 21
END:VEVENT
BEGIN:VEVENT
UID:15642573@ezleagues.ezfacility.com
DTSTAMP:20260424T044209Z
CREATED:20260424T044209Z
DTSTART:20240410T021500Z
DTEND:20240410T031500Z
LOCATION:Field 3
CONTACT:
SUMMARY:DE Insurance VS. Loti Builders Group
DESCRIPTION:League Name: 2024 S2 Tues Men's Rec March 5\nGame Type: Regular
 \nGame Status: Complete\nHome Team: DE Insurance\nAway Team: Loti Builders
  Group\nHome Score: 22\nAway Score: 19
END:VEVENT
BEGIN:VEVENT
UID:15642584@ezleagues.ezfacility.com
DTSTAMP:20260424T044209Z
CREATED:20260424T044209Z
DTSTART:20240417T031500Z
DTEND:20240417T041500Z
LOCATION:Field 3
CONTACT:
SUMMARY:FA Dawgs VS. DE Insurance
DESCRIPTION:League Name: 2024 S2 Tues Men's Rec March 5\nGame Type: Regular
 \nGame Status: Complete\nHome Team: FA Dawgs\nAway Team: DE Insurance\nHom
 e Score: 10\nAway Score: 15
END:VEVENT
BEGIN:VEVENT
UID:15642585@ezleagues.ezfacility.com
DTSTAMP:20260424T044209Z
CREATED:20260424T044209Z
DTSTART:20240417T041500Z
DTEND:20240417T051500Z
LOCATION:Field 3
CONTACT:
SUMMARY:DE Insurance VS. FA Dawgs
DESCRIPTION:League Name: 2024 S2 Tues Men's Rec March 5\nGame Type: Regular
 \nGame Status: Complete\nHome Team: DE Insurance\nAway Team: FA Dawgs\nHom
 e Score: 11\nAway Score: 18
END:VEVENT
BEGIN:VEVENT
UID:15713627@ezleagues.ezfacility.com
DTSTAMP:20260424T044209Z
CREATED:20260424T044209Z
DTSTART:20240424T011500Z
DTEND:20240424T021500Z
LOCATION:Field 4
CONTACT:
SUMMARY:Los Boca Secas VS. DE Insurance
DESCRIPTION:League Name: 2024 S2 Tues Men's Rec March 5\nGame Type: Postsea
 son\nGame Status: Complete\nHome Team: Los Boca Secas\nAway Team: DE Insur
 ance\nHome Score: 15\nAway Score: 17
END:VEVENT
END:VCALENDAR
