BEGIN:VCALENDAR
VERSION:2.0
PRODID:-//EZFacility.com, Inc.//EZL 2.5.5.28621
BEGIN:VEVENT
UID:15642486@ezleagues.ezfacility.com
DTSTAMP:20260424T044333Z
CREATED:20260424T044333Z
DTSTART:20240306T031500Z
DTEND:20240306T041500Z
LOCATION:Field 4
CONTACT:
SUMMARY:FA Dawgs VS. Leftovers
DESCRIPTION:League Name: 2024 S2 Tues Men's Rec March 5\nGame Type: Regular
 \nGame Status: Complete\nHome Team: FA Dawgs\nAway Team: Leftovers\nHome S
 core: 9\nAway Score: 24
END:VEVENT
BEGIN:VEVENT
UID:15642487@ezleagues.ezfacility.com
DTSTAMP:20260424T044333Z
CREATED:20260424T044333Z
DTSTART:20240306T041500Z
DTEND:20240306T051500Z
LOCATION:Field 4
CONTACT:
SUMMARY:Leftovers VS. FA Dawgs
DESCRIPTION:League Name: 2024 S2 Tues Men's Rec March 5\nGame Type: Regular
 \nGame Status: Complete\nHome Team: Leftovers\nAway Team: FA Dawgs\nHome S
 core: 21\nAway Score: 19
END:VEVENT
BEGIN:VEVENT
UID:15642502@ezleagues.ezfacility.com
DTSTAMP:20260424T044333Z
CREATED:20260424T044333Z
DTSTART:20240313T031500Z
DTEND:20240313T041500Z
LOCATION:Field 3
CONTACT:
SUMMARY:Leftovers VS. DE Insurance
DESCRIPTION:League Name: 2024 S2 Tues Men's Rec March 5\nGame Type: Regular
 \nGame Status: Complete\nHome Team: Leftovers\nAway Team: DE Insurance\nHo
 me Score: 6\nAway Score: 23
END:VEVENT
BEGIN:VEVENT
UID:15642503@ezleagues.ezfacility.com
DTSTAMP:20260424T044333Z
CREATED:20260424T044333Z
DTSTART:20240313T041500Z
DTEND:20240313T051500Z
LOCATION:Field 3
CONTACT:
SUMMARY:DE Insurance VS. Leftovers
DESCRIPTION:League Name: 2024 S2 Tues Men's Rec March 5\nGame Type: Regular
 \nGame Status: Complete\nHome Team: DE Insurance\nAway Team: Leftovers\nHo
 me Score: 18\nAway Score: 11
END:VEVENT
BEGIN:VEVENT
UID:15642520@ezleagues.ezfacility.com
DTSTAMP:20260424T044333Z
CREATED:20260424T044333Z
DTSTART:20240320T031500Z
DTEND:20240320T041500Z
LOCATION:Field 3
CONTACT:
SUMMARY:Leftovers VS. Jagerbombers
DESCRIPTION:League Name: 2024 S2 Tues Men's Rec March 5\nGame Type: Regular
 \nGame Status: Complete\nHome Team: Leftovers\nAway Team: Jagerbombers\nHo
 me Score: 5\nAway Score: 25
END:VEVENT
BEGIN:VEVENT
UID:15642521@ezleagues.ezfacility.com
DTSTAMP:20260424T044333Z
CREATED:20260424T044333Z
DTSTART:20240320T041500Z
DTEND:20240320T051500Z
LOCATION:Field 3
CONTACT:
SUMMARY:Jagerbombers VS. Leftovers
DESCRIPTION:League Name: 2024 S2 Tues Men's Rec March 5\nGame Type: Regular
 \nGame Status: Complete\nHome Team: Jagerbombers\nAway Team: Leftovers\nHo
 me Score: 18\nAway Score: 19
END:VEVENT
BEGIN:VEVENT
UID:15642538@ezleagues.ezfacility.com
DTSTAMP:20260424T044333Z
CREATED:20260424T044333Z
DTSTART:20240327T011500Z
DTEND:20240327T021500Z
LOCATION:Field 1
CONTACT:
SUMMARY:Leftovers VS. Loti Builders Group
DESCRIPTION:League Name: 2024 S2 Tues Men's Rec March 5\nGame Type: Regular
 \nGame Status: Complete\nHome Team: Leftovers\nAway Team: Loti Builders Gr
 oup\nHome Score: 9\nAway Score: 22
END:VEVENT
BEGIN:VEVENT
UID:15642539@ezleagues.ezfacility.com
DTSTAMP:20260424T044333Z
CREATED:20260424T044333Z
DTSTART:20240327T021500Z
DTEND:20240327T031500Z
LOCATION:Field 1
CONTACT:
SUMMARY:Loti Builders Group VS. Leftovers
DESCRIPTION:League Name: 2024 S2 Tues Men's Rec March 5\nGame Type: Regular
 \nGame Status: Complete\nHome Team: Loti Builders Group\nAway Team: Leftov
 ers\nHome Score: 18\nAway Score: 17
END:VEVENT
BEGIN:VEVENT
UID:15642550@ezleagues.ezfacility.com
DTSTAMP:20260424T044333Z
CREATED:20260424T044333Z
DTSTART:20240403T031500Z
DTEND:20240403T041500Z
LOCATION:Field 2
CONTACT:
SUMMARY:Leftovers VS. Good for 1 More
DESCRIPTION:League Name: 2024 S2 Tues Men's Rec March 5\nGame Type: Regular
 \nGame Status: Complete\nHome Team: Leftovers\nAway Team: Good for 1 More\
 nHome Score: 15\nAway Score: 14
END:VEVENT
BEGIN:VEVENT
UID:15642551@ezleagues.ezfacility.com
DTSTAMP:20260424T044333Z
CREATED:20260424T044333Z
DTSTART:20240403T041500Z
DTEND:20240403T051500Z
LOCATION:Field 2
CONTACT:
SUMMARY:Good for 1 More VS. Leftovers
DESCRIPTION:League Name: 2024 S2 Tues Men's Rec March 5\nGame Type: Regular
 \nGame Status: Complete\nHome Team: Good for 1 More\nAway Team: Leftovers\
 nHome Score: 14\nAway Score: 20
END:VEVENT
BEGIN:VEVENT
UID:15642570@ezleagues.ezfacility.com
DTSTAMP:20260424T044333Z
CREATED:20260424T044333Z
DTSTART:20240410T011500Z
DTEND:20240410T021500Z
LOCATION:Field 2
CONTACT:
SUMMARY:McGlovin VS. Leftovers
DESCRIPTION:League Name: 2024 S2 Tues Men's Rec March 5\nGame Type: Regular
 \nGame Status: Complete\nHome Team: McGlovin\nAway Team: Leftovers\nHome S
 core: 21\nAway Score: 9
END:VEVENT
BEGIN:VEVENT
UID:15642571@ezleagues.ezfacility.com
DTSTAMP:20260424T044333Z
CREATED:20260424T044333Z
DTSTART:20240410T021500Z
DTEND:20240410T031500Z
LOCATION:Field 2
CONTACT:
SUMMARY:Leftovers VS. McGlovin
DESCRIPTION:League Name: 2024 S2 Tues Men's Rec March 5\nGame Type: Regular
 \nGame Status: Complete\nHome Team: Leftovers\nAway Team: McGlovin\nHome S
 core: 9\nAway Score: 8
END:VEVENT
BEGIN:VEVENT
UID:15642582@ezleagues.ezfacility.com
DTSTAMP:20260424T044333Z
CREATED:20260424T044333Z
DTSTART:20240417T031500Z
DTEND:20240417T041500Z
LOCATION:Field 4
CONTACT:
SUMMARY:Los Boca Secas VS. Leftovers
DESCRIPTION:League Name: 2024 S2 Tues Men's Rec March 5\nGame Type: Regular
 \nGame Status: Complete\nHome Team: Los Boca Secas\nAway Team: Leftovers\n
 Home Score: 12\nAway Score: 8
END:VEVENT
BEGIN:VEVENT
UID:15642583@ezleagues.ezfacility.com
DTSTAMP:20260424T044333Z
CREATED:20260424T044333Z
DTSTART:20240417T041500Z
DTEND:20240417T051500Z
LOCATION:Field 4
CONTACT:
SUMMARY:Leftovers VS. Los Boca Secas
DESCRIPTION:League Name: 2024 S2 Tues Men's Rec March 5\nGame Type: Regular
 \nGame Status: Complete\nHome Team: Leftovers\nAway Team: Los Boca Secas\n
 Home Score: 11\nAway Score: 15
END:VEVENT
BEGIN:VEVENT
UID:15713633@ezleagues.ezfacility.com
DTSTAMP:20260424T044333Z
CREATED:20260424T044333Z
DTSTART:20240424T031500Z
DTEND:20240424T041500Z
LOCATION:Field 1
CONTACT:
SUMMARY:Leftovers VS. Jagerbombers
DESCRIPTION:League Name: 2024 S2 Tues Men's Rec March 5\nGame Type: Postsea
 son\nGame Status: Complete\nHome Team: Leftovers\nAway Team: Jagerbombers\
 nHome Score: 17\nAway Score: 7
END:VEVENT
BEGIN:VEVENT
UID:15713632@ezleagues.ezfacility.com
DTSTAMP:20260424T044333Z
CREATED:20260424T044333Z
DTSTART:20240424T041500Z
DTEND:20240424T051500Z
LOCATION:Field 1
CONTACT:
SUMMARY:Jagerbombers VS. Leftovers
DESCRIPTION:League Name: 2024 S2 Tues Men's Rec March 5\nGame Type: Postsea
 son\nGame Status: Complete\nHome Team: Jagerbombers\nAway Team: Leftovers\
 nHome Score: 17\nAway Score: 7
END:VEVENT
END:VCALENDAR
