BEGIN:VCALENDAR
VERSION:2.0
PRODID:-//EZFacility.com, Inc.//EZL 2.5.5.28621
BEGIN:VEVENT
UID:15658236@ezleagues.ezfacility.com
DTSTAMP:20260426T004208Z
CREATED:20260426T004208Z
DTSTART:20240318T003000Z
DTEND:20240318T013000Z
LOCATION:6v6 Field 2
CONTACT:
SUMMARY:Woodside VS. The cripples
DESCRIPTION:League Name: 3rd Session 2024- Coed Open Sunday Boarded White\n
 Game Type: Regular\nGame Status: Complete\nHome Team: Woodside\nAway Team:
  The cripples\nHome Score: 7\nAway Score: 8
END:VEVENT
BEGIN:VEVENT
UID:15658239@ezleagues.ezfacility.com
DTSTAMP:20260426T004208Z
CREATED:20260426T004208Z
DTSTART:20240324T213000Z
DTEND:20240324T223000Z
LOCATION:6v6 Field 2
CONTACT:
SUMMARY:The cripples VS. Retirement Club
DESCRIPTION:League Name: 3rd Session 2024- Coed Open Sunday Boarded White\n
 Game Type: Regular\nGame Status: Complete\nHome Team: The cripples\nAway T
 eam: Retirement Club\nHome Score: 7\nAway Score: 14
END:VEVENT
BEGIN:VEVENT
UID:15658243@ezleagues.ezfacility.com
DTSTAMP:20260426T004208Z
CREATED:20260426T004208Z
DTSTART:20240407T200000Z
DTEND:20240407T210000Z
LOCATION:6v6 Field 1
CONTACT:
SUMMARY:Jones VS. The cripples
DESCRIPTION:League Name: 3rd Session 2024- Coed Open Sunday Boarded White\n
 Game Type: Regular\nGame Status: Complete\nHome Team: Jones\nAway Team: Th
 e cripples\nHome Score: 11\nAway Score: 7
END:VEVENT
BEGIN:VEVENT
UID:15658247@ezleagues.ezfacility.com
DTSTAMP:20260426T004208Z
CREATED:20260426T004208Z
DTSTART:20240414T170000Z
DTEND:20240414T180000Z
LOCATION:6v6 Field 1
CONTACT:
SUMMARY:The cripples VS. Team Katie Yates
DESCRIPTION:League Name: 3rd Session 2024- Coed Open Sunday Boarded White\n
 Game Type: Regular\nGame Status: Rescheduled\nHome Team: The cripples\nAwa
 y Team: Team Katie Yates\n
END:VEVENT
BEGIN:VEVENT
UID:15658251@ezleagues.ezfacility.com
DTSTAMP:20260426T004208Z
CREATED:20260426T004208Z
DTSTART:20240421T233000Z
DTEND:20240422T003000Z
LOCATION:6v6 Field 2
CONTACT:
SUMMARY:The cripples VS. Woodside
DESCRIPTION:League Name: 3rd Session 2024- Coed Open Sunday Boarded White\n
 Game Type: Regular\nGame Status: Complete\nHome Team: The cripples\nAway T
 eam: Woodside\nHome Score: 11\nAway Score: 10
END:VEVENT
BEGIN:VEVENT
UID:15658254@ezleagues.ezfacility.com
DTSTAMP:20260426T004208Z
CREATED:20260426T004208Z
DTSTART:20240428T203000Z
DTEND:20240428T213000Z
LOCATION:6v6 Field 2
CONTACT:
SUMMARY:Retirement Club VS. The cripples
DESCRIPTION:League Name: 3rd Session 2024- Coed Open Sunday Boarded White\n
 Game Type: Regular\nGame Status: Complete\nHome Team: Retirement Club\nAwa
 y Team: The cripples\nHome Score: 9\nAway Score: 3
END:VEVENT
BEGIN:VEVENT
UID:15658256@ezleagues.ezfacility.com
DTSTAMP:20260426T004208Z
CREATED:20260426T004208Z
DTSTART:20240505T213000Z
DTEND:20240505T223000Z
LOCATION:6v6 Field 2
CONTACT:
SUMMARY:Washed Up FC VS. The cripples
DESCRIPTION:League Name: 3rd Session 2024- Coed Open Sunday Boarded White\n
 Game Type: Regular\nGame Status: Complete\nHome Team: Washed Up FC\nAway T
 eam: The cripples\nHome Score: 7\nAway Score: 9
END:VEVENT
BEGIN:VEVENT
UID:15658241@ezleagues.ezfacility.com
DTSTAMP:20260426T004208Z
CREATED:20260426T004208Z
DTSTART:20240512T233000Z
DTEND:20240513T003000Z
LOCATION:6v6 Field 2
CONTACT:
SUMMARY:The cripples VS. Naseem The Dream
DESCRIPTION:League Name: 3rd Session 2024- Coed Open Sunday Boarded White\n
 Game Type: Regular\nGame Status: Complete\nHome Team: The cripples\nAway T
 eam: Naseem The Dream\nHome Score: 12\nAway Score: 7
END:VEVENT
BEGIN:VEVENT
UID:15733246@ezleagues.ezfacility.com
DTSTAMP:20260426T004208Z
CREATED:20260426T004208Z
DTSTART:20240513T230000Z
DTEND:20240514T000000Z
LOCATION:6v6 Field 1
CONTACT:
SUMMARY:The cripples VS. Team Katie Yates
DESCRIPTION:League Name: 3rd Session 2024- Coed Open Sunday Boarded White\n
 Game Type: Regular\nGame Status: Complete\nHome Team: The cripples\nAway T
 eam: Team Katie Yates\nHome Score: 6\nAway Score: 7
END:VEVENT
END:VCALENDAR
