BEGIN:VCALENDAR
VERSION:2.0
PRODID:-//EZFacility.com, Inc.//EZL 2.5.5.28621
BEGIN:VEVENT
UID:15663976@ezleagues.ezfacility.com
DTSTAMP:20260424T050539Z
CREATED:20260424T050539Z
DTSTART:20240320T020000Z
DTEND:20240320T030000Z
LOCATION:Soccer Field 1A
CONTACT:
SUMMARY:Stingers VS. Futbol Fire
DESCRIPTION:League Name: Mens O30 Spring 2024\nGame Type: Regular\nGame Sta
 tus: Complete\nHome Team: Stingers\nAway Team: Futbol Fire\nHome Score: 4\
 nAway Score: 2
END:VEVENT
BEGIN:VEVENT
UID:15663980@ezleagues.ezfacility.com
DTSTAMP:20260424T050539Z
CREATED:20260424T050539Z
DTSTART:20240327T020000Z
DTEND:20240327T030000Z
LOCATION:Soccer Field 3A
CONTACT:
SUMMARY:Stingers VS. HPMNT
DESCRIPTION:League Name: Mens O30 Spring 2024\nGame Type: Regular\nGame Sta
 tus: Complete\nHome Team: Stingers\nAway Team: HPMNT\nHome Score: 2\nAway 
 Score: 3
END:VEVENT
BEGIN:VEVENT
UID:15663984@ezleagues.ezfacility.com
DTSTAMP:20260424T050539Z
CREATED:20260424T050539Z
DTSTART:20240403T020000Z
DTEND:20240403T030000Z
LOCATION:Soccer Field 4A
CONTACT:
SUMMARY:Stingers VS. Superior Felt
DESCRIPTION:League Name: Mens O30 Spring 2024\nGame Type: Regular\nGame Sta
 tus: Complete\nHome Team: Stingers\nAway Team: Superior Felt\nHome Score: 
 1\nAway Score: 5
END:VEVENT
BEGIN:VEVENT
UID:15663988@ezleagues.ezfacility.com
DTSTAMP:20260424T050539Z
CREATED:20260424T050539Z
DTSTART:20240410T020000Z
DTEND:20240410T030000Z
LOCATION:Soccer Field 2A
CONTACT:
SUMMARY:Spaniards VS. Stingers
DESCRIPTION:League Name: Mens O30 Spring 2024\nGame Type: Regular\nGame Sta
 tus: Complete\nHome Team: Spaniards\nAway Team: Stingers\nHome Score: 3\nA
 way Score: 5
END:VEVENT
BEGIN:VEVENT
UID:15663992@ezleagues.ezfacility.com
DTSTAMP:20260424T050539Z
CREATED:20260424T050539Z
DTSTART:20240417T020000Z
DTEND:20240417T030000Z
LOCATION:Soccer Field 2A
CONTACT:
SUMMARY:Diamong Dogs VS. Stingers
DESCRIPTION:League Name: Mens O30 Spring 2024\nGame Type: Regular\nGame Sta
 tus: Complete\nHome Team: Diamong Dogs\nAway Team: Stingers\nHome Score: 5
 \nAway Score: 2
END:VEVENT
BEGIN:VEVENT
UID:15663996@ezleagues.ezfacility.com
DTSTAMP:20260424T050539Z
CREATED:20260424T050539Z
DTSTART:20240424T020000Z
DTEND:20240424T030000Z
LOCATION:Soccer Field 1A
CONTACT:
SUMMARY:Cville Lions VS. Stingers
DESCRIPTION:League Name: Mens O30 Spring 2024\nGame Type: Regular\nGame Sta
 tus: Complete\nHome Team: Cville Lions\nAway Team: Stingers\nHome Score: 4
 \nAway Score: 5
END:VEVENT
BEGIN:VEVENT
UID:15724513@ezleagues.ezfacility.com
DTSTAMP:20260424T050539Z
CREATED:20260424T050539Z
DTSTART:20240501T020000Z
DTEND:20240501T030000Z
LOCATION:Soccer Field 2
CONTACT:
SUMMARY:Superior Felt VS. Stingers
DESCRIPTION:League Name: Mens O30 Spring 2024\nGame Type: Regular\nGame Sta
 tus: Complete\nHome Team: Superior Felt\nAway Team: Stingers\nHome Score: 
 7\nAway Score: 8
END:VEVENT
BEGIN:VEVENT
UID:15726609@ezleagues.ezfacility.com
DTSTAMP:20260424T050539Z
CREATED:20260424T050539Z
DTSTART:20240508T020000Z
DTEND:20240508T030000Z
LOCATION:Soccer Field 1A
CONTACT:
SUMMARY:HPMNT VS. Stingers
DESCRIPTION:League Name: Mens O30 Spring 2024\nGame Type: Regular\nGame Sta
 tus: Pending\nHome Team: HPMNT\nAway Team: Stingers\n
END:VEVENT
END:VCALENDAR
