BEGIN:VCALENDAR
VERSION:2.0
PRODID:-//EZFacility.com, Inc.//EZL 2.5.5.28621
BEGIN:VEVENT
UID:16288780@ezleagues.ezfacility.com
DTSTAMP:20260426T034824Z
CREATED:20260426T034824Z
DTSTART:20250318T004000Z
DTEND:20250318T013000Z
LOCATION:Harmans Premier Field #4
CONTACT:
SUMMARY:Maryland FC VS. S.O.L.
DESCRIPTION:League Name: Mon Mens Open 3rd div \nGame Type: Regular\nGame S
 tatus: Complete\nHome Team: Maryland FC\nAway Team: S.O.L.\nHome Score: 7\
 nAway Score: 0
END:VEVENT
BEGIN:VEVENT
UID:16288792@ezleagues.ezfacility.com
DTSTAMP:20260426T034824Z
CREATED:20260426T034824Z
DTSTART:20250325T013000Z
DTEND:20250325T022000Z
LOCATION:Harmans Premier Field #4
CONTACT:
SUMMARY:Dirty Dena FC VS. Maryland FC
DESCRIPTION:League Name: Mon Mens Open 3rd div \nGame Type: Regular\nGame S
 tatus: Complete\nHome Team: Dirty Dena FC\nAway Team: Maryland FC\nHome Sc
 ore: 6\nAway Score: 2
END:VEVENT
BEGIN:VEVENT
UID:16288804@ezleagues.ezfacility.com
DTSTAMP:20260426T034824Z
CREATED:20260426T034824Z
DTSTART:20250331T235000Z
DTEND:20250401T004000Z
LOCATION:Harmans Premier Field #5
CONTACT:
SUMMARY:Allstars FC VS. Maryland FC
DESCRIPTION:League Name: Mon Mens Open 3rd div \nGame Type: Regular\nGame S
 tatus: Complete\nHome Team: Allstars FC\nAway Team: Maryland FC\nHome Scor
 e: 2\nAway Score: 6
END:VEVENT
BEGIN:VEVENT
UID:16288816@ezleagues.ezfacility.com
DTSTAMP:20260426T034824Z
CREATED:20260426T034824Z
DTSTART:20250407T230000Z
DTEND:20250407T235000Z
LOCATION:Harmans Premier Field #4
CONTACT:
SUMMARY:Solteros y Casados VS. Maryland FC
DESCRIPTION:League Name: Mon Mens Open 3rd div \nGame Type: Regular\nGame S
 tatus: Complete\nHome Team: Solteros y Casados\nAway Team: Maryland FC\nHo
 me Score: 3\nAway Score: 7
END:VEVENT
BEGIN:VEVENT
UID:16288838@ezleagues.ezfacility.com
DTSTAMP:20260426T034824Z
CREATED:20260426T034824Z
DTSTART:20250415T022000Z
DTEND:20250415T031000Z
LOCATION:Harmans Premier Field #4
CONTACT:
SUMMARY:Sporting FC VS. Maryland FC
DESCRIPTION:League Name: Mon Mens Open 3rd div \nGame Type: Regular\nGame S
 tatus: Complete\nHome Team: Sporting FC\nAway Team: Maryland FC\nHome Scor
 e: 2\nAway Score: 5
END:VEVENT
BEGIN:VEVENT
UID:16288863@ezleagues.ezfacility.com
DTSTAMP:20260426T034824Z
CREATED:20260426T034824Z
DTSTART:20250421T230000Z
DTEND:20250421T235000Z
LOCATION:Harmans Premier Field #4
CONTACT:
SUMMARY:Maryland FC VS. Average Joe's FC
DESCRIPTION:League Name: Mon Mens Open 3rd div \nGame Type: Regular\nGame S
 tatus: Complete\nHome Team: Maryland FC\nAway Team: Average Joe's FC\nHome
  Score: 10\nAway Score: 2
END:VEVENT
BEGIN:VEVENT
UID:16288887@ezleagues.ezfacility.com
DTSTAMP:20260426T034824Z
CREATED:20260426T034824Z
DTSTART:20250429T004000Z
DTEND:20250429T013000Z
LOCATION:Harmans Premier Field #5
CONTACT:
SUMMARY:Maryland FC VS. El Chal FC
DESCRIPTION:League Name: Mon Mens Open 3rd div \nGame Type: Regular\nGame S
 tatus: Complete\nHome Team: Maryland FC\nAway Team: El Chal FC\nHome Score
 : 5\nAway Score: 3
END:VEVENT
BEGIN:VEVENT
UID:16413106@ezleagues.ezfacility.com
DTSTAMP:20260426T034824Z
CREATED:20260426T034824Z
DTSTART:20250506T022000Z
DTEND:20250506T031000Z
LOCATION:Harmans Premier Field #5
CONTACT:
SUMMARY:Maryland FC VS. El Chal FC
DESCRIPTION:League Name: Mon Mens Open 3rd div \nGame Type: Regular\nGame S
 tatus: Complete\nHome Team: Maryland FC\nAway Team: El Chal FC\nHome Score
 : 6\nAway Score: 5
END:VEVENT
BEGIN:VEVENT
UID:16420493@ezleagues.ezfacility.com
DTSTAMP:20260426T034824Z
CREATED:20260426T034824Z
DTSTART:20250513T013000Z
DTEND:20250513T022000Z
LOCATION:Harmans Premier Field #4
CONTACT:
SUMMARY:Solteros y Casados VS. Maryland FC
DESCRIPTION:League Name: Mon Mens Open 3rd div \nGame Type: Regular\nGame S
 tatus: Complete\nHome Team: Solteros y Casados\nAway Team: Maryland FC\nHo
 me Score: 2\nAway Score: 6
END:VEVENT
END:VCALENDAR
