BEGIN:VCALENDAR
VERSION:2.0
PRODID:-//EZFacility.com, Inc.//EZL 2.5.5.28621
BEGIN:VEVENT
UID:15693436@ezleagues.ezfacility.com
DTSTAMP:20260424T044310Z
CREATED:20260424T044310Z
DTSTART:20240405T233000Z
DTEND:20240405T235000Z
LOCATION:Turf 2
CONTACT:
SUMMARY:Dirty Bags  VS. Corny Bros Inc
DESCRIPTION:League Name: Cornhole Competitive League (April 2024)\nGame Typ
 e: Regular\nGame Status: Complete\nHome Team: Dirty Bags \nAway Team: Corn
 y Bros Inc\nHome Score: 21\nAway Score: 5
END:VEVENT
BEGIN:VEVENT
UID:15693440@ezleagues.ezfacility.com
DTSTAMP:20260424T044310Z
CREATED:20260424T044310Z
DTSTART:20240406T000000Z
DTEND:20240406T002000Z
LOCATION:Turf 2
CONTACT:
SUMMARY:Pirates of the Cornibbean VS. Corny Bros Inc
DESCRIPTION:League Name: Cornhole Competitive League (April 2024)\nGame Typ
 e: Regular\nGame Status: Complete\nHome Team: Pirates of the Cornibbean\nA
 way Team: Corny Bros Inc\nHome Score: 21\nAway Score: 6
END:VEVENT
BEGIN:VEVENT
UID:15693441@ezleagues.ezfacility.com
DTSTAMP:20260424T044310Z
CREATED:20260424T044310Z
DTSTART:20240406T001500Z
DTEND:20240406T003500Z
LOCATION:Turf 2
CONTACT:
SUMMARY:Pirates of the Cornibbean VS. Corny Bros Inc
DESCRIPTION:League Name: Cornhole Competitive League (April 2024)\nGame Typ
 e: Regular\nGame Status: Complete\nHome Team: Pirates of the Cornibbean\nA
 way Team: Corny Bros Inc\nHome Score: 21\nAway Score: 0
END:VEVENT
BEGIN:VEVENT
UID:15707744@ezleagues.ezfacility.com
DTSTAMP:20260424T044310Z
CREATED:20260424T044310Z
DTSTART:20240412T230000Z
DTEND:20240412T232000Z
LOCATION:Turf 2
CONTACT:
SUMMARY:Pops  VS. Corny Bros Inc
DESCRIPTION:League Name: Cornhole Competitive League (April 2024)\nGame Typ
 e: Regular\nGame Status: Complete\nHome Team: Pops \nAway Team: Corny Bros
  Inc\nHome Score: 21\nAway Score: 19
END:VEVENT
BEGIN:VEVENT
UID:15707750@ezleagues.ezfacility.com
DTSTAMP:20260424T044310Z
CREATED:20260424T044310Z
DTSTART:20240412T233000Z
DTEND:20240412T235000Z
LOCATION:Turf 2
CONTACT:
SUMMARY:It’s in the Bag VS. Corny Bros Inc
DESCRIPTION:League Name: Cornhole Competitive League (April 2024)\nGame Typ
 e: Regular\nGame Status: Complete\nHome Team: It’s in the Bag\nAway Team
 : Corny Bros Inc\nHome Score: 21\nAway Score: 8
END:VEVENT
BEGIN:VEVENT
UID:15707780@ezleagues.ezfacility.com
DTSTAMP:20260424T044310Z
CREATED:20260424T044310Z
DTSTART:20240413T001500Z
DTEND:20240413T003500Z
LOCATION:Turf 2
CONTACT:
SUMMARY:Corny Bros Inc VS. CornHoes
DESCRIPTION:League Name: Cornhole Competitive League (April 2024)\nGame Typ
 e: Regular\nGame Status: Complete\nHome Team: Corny Bros Inc\nAway Team: C
 ornHoes\nHome Score: 12\nAway Score: 21
END:VEVENT
BEGIN:VEVENT
UID:15714497@ezleagues.ezfacility.com
DTSTAMP:20260424T044310Z
CREATED:20260424T044310Z
DTSTART:20240419T230000Z
DTEND:20240419T232000Z
LOCATION:Turf 2
CONTACT:
SUMMARY:Team Jacked Asses VS. Corny Bros Inc
DESCRIPTION:League Name: Cornhole Competitive League (April 2024)\nGame Typ
 e: Regular\nGame Status: Complete\nHome Team: Team Jacked Asses\nAway Team
 : Corny Bros Inc\nHome Score: 21\nAway Score: 13
END:VEVENT
BEGIN:VEVENT
UID:15714573@ezleagues.ezfacility.com
DTSTAMP:20260424T044310Z
CREATED:20260424T044310Z
DTSTART:20240419T233000Z
DTEND:20240419T235000Z
LOCATION:Turf 2
CONTACT:
SUMMARY:Pops  VS. Corny Bros Inc
DESCRIPTION:League Name: Cornhole Competitive League (April 2024)\nGame Typ
 e: Regular\nGame Status: Complete\nHome Team: Pops \nAway Team: Corny Bros
  Inc\nHome Score: 21\nAway Score: 2
END:VEVENT
BEGIN:VEVENT
UID:15714576@ezleagues.ezfacility.com
DTSTAMP:20260424T044310Z
CREATED:20260424T044310Z
DTSTART:20240420T000000Z
DTEND:20240420T002000Z
LOCATION:Turf 2
CONTACT:
SUMMARY:CornHoes VS. Corny Bros Inc
DESCRIPTION:League Name: Cornhole Competitive League (April 2024)\nGame Typ
 e: Regular\nGame Status: Complete\nHome Team: CornHoes\nAway Team: Corny B
 ros Inc\nHome Score: 21\nAway Score: 7
END:VEVENT
BEGIN:VEVENT
UID:15723991@ezleagues.ezfacility.com
DTSTAMP:20260424T044310Z
CREATED:20260424T044310Z
DTSTART:20240426T230000Z
DTEND:20240426T232000Z
LOCATION:Turf 2
CONTACT:
SUMMARY:Corny Bros Inc VS. Team Jacked Asses
DESCRIPTION:League Name: Cornhole Competitive League (April 2024)\nGame Typ
 e: Regular\nGame Status: Complete\nHome Team: Corny Bros Inc\nAway Team: T
 eam Jacked Asses\nHome Score: 4\nAway Score: 21
END:VEVENT
BEGIN:VEVENT
UID:15723995@ezleagues.ezfacility.com
DTSTAMP:20260424T044310Z
CREATED:20260424T044310Z
DTSTART:20240426T232000Z
DTEND:20240426T234000Z
LOCATION:Turf 2
CONTACT:
SUMMARY:Corny Bros Inc VS. It’s in the Bag
DESCRIPTION:League Name: Cornhole Competitive League (April 2024)\nGame Typ
 e: Regular\nGame Status: Complete\nHome Team: Corny Bros Inc\nAway Team: I
 t’s in the Bag\nHome Score: 2\nAway Score: 21
END:VEVENT
BEGIN:VEVENT
UID:15723999@ezleagues.ezfacility.com
DTSTAMP:20260424T044310Z
CREATED:20260424T044310Z
DTSTART:20240426T234000Z
DTEND:20240427T000000Z
LOCATION:Turf 2
CONTACT:
SUMMARY:Pirates of the Cornibbean VS. Corny Bros Inc
DESCRIPTION:League Name: Cornhole Competitive League (April 2024)\nGame Typ
 e: Regular\nGame Status: Complete\nHome Team: Pirates of the Cornibbean\nA
 way Team: Corny Bros Inc\nHome Score: 21\nAway Score: 19
END:VEVENT
BEGIN:VEVENT
UID:15724001@ezleagues.ezfacility.com
DTSTAMP:20260424T044310Z
CREATED:20260424T044310Z
DTSTART:20240427T000000Z
DTEND:20240427T002000Z
LOCATION:Turf 2
CONTACT:
SUMMARY:Dirty Bags  VS. Corny Bros Inc
DESCRIPTION:League Name: Cornhole Competitive League (April 2024)\nGame Typ
 e: Regular\nGame Status: Complete\nHome Team: Dirty Bags \nAway Team: Corn
 y Bros Inc\nHome Score: 0\nAway Score: 21
END:VEVENT
BEGIN:VEVENT
UID:15747287@ezleagues.ezfacility.com
DTSTAMP:20260424T044310Z
CREATED:20260424T044310Z
DTSTART:20240517T230000Z
DTEND:20240517T232000Z
LOCATION:Turf 2
CONTACT:
SUMMARY:Corny Bros Inc VS. Pops 
DESCRIPTION:League Name: Cornhole Competitive League (April 2024)\nGame Typ
 e: Regular\nGame Status: Complete\nHome Team: Corny Bros Inc\nAway Team: P
 ops \nHome Score: 0\nAway Score: 21
END:VEVENT
BEGIN:VEVENT
UID:15747290@ezleagues.ezfacility.com
DTSTAMP:20260424T044310Z
CREATED:20260424T044310Z
DTSTART:20240517T233000Z
DTEND:20240517T235000Z
LOCATION:Turf 2
CONTACT:
SUMMARY:Corny Bros Inc VS. It’s in the Bag
DESCRIPTION:League Name: Cornhole Competitive League (April 2024)\nGame Typ
 e: Regular\nGame Status: Complete\nHome Team: Corny Bros Inc\nAway Team: I
 t’s in the Bag\nHome Score: 5\nAway Score: 21
END:VEVENT
BEGIN:VEVENT
UID:15747292@ezleagues.ezfacility.com
DTSTAMP:20260424T044310Z
CREATED:20260424T044310Z
DTSTART:20240518T000000Z
DTEND:20240518T002000Z
LOCATION:Turf 2
CONTACT:
SUMMARY:Dirty Bags  VS. Corny Bros Inc
DESCRIPTION:League Name: Cornhole Competitive League (April 2024)\nGame Typ
 e: Regular\nGame Status: Complete\nHome Team: Dirty Bags \nAway Team: Corn
 y Bros Inc\nHome Score: 0\nAway Score: 21
END:VEVENT
END:VCALENDAR
