BEGIN:VCALENDAR
VERSION:2.0
PRODID:-//EZFacility.com, Inc.//EZL 2.5.5.28621
BEGIN:VEVENT
UID:16385748@ezleagues.ezfacility.com
DTSTAMP:20260426T034932Z
CREATED:20260426T034932Z
DTSTART:20250418T000000Z
DTEND:20250418T010000Z
LOCATION:Jessup Premier Field #1
CONTACT:
SUMMARY:Phoenix  FC VS. Anatolia FC
DESCRIPTION:League Name: Thurs Mens Open 2nd II div    \nGame Type: Regular
 \nGame Status: Complete\nHome Team: Phoenix  FC\nAway Team: Anatolia FC\nH
 ome Score: 4\nAway Score: 3
END:VEVENT
BEGIN:VEVENT
UID:16385757@ezleagues.ezfacility.com
DTSTAMP:20260426T034932Z
CREATED:20260426T034932Z
DTSTART:20250425T000000Z
DTEND:20250425T010000Z
LOCATION:Jessup Premier Field #2
CONTACT:
SUMMARY:Phoenix  FC VS. Lab Spacimens
DESCRIPTION:League Name: Thurs Mens Open 2nd II div    \nGame Type: Regular
 \nGame Status: Complete\nHome Team: Phoenix  FC\nAway Team: Lab Spacimens\
 nHome Score: 8\nAway Score: 5
END:VEVENT
BEGIN:VEVENT
UID:16385766@ezleagues.ezfacility.com
DTSTAMP:20260426T034932Z
CREATED:20260426T034932Z
DTSTART:20250502T010000Z
DTEND:20250502T020000Z
LOCATION:Jessup Premier Field #1
CONTACT:
SUMMARY:Phoenix  FC VS. Leon FC
DESCRIPTION:League Name: Thurs Mens Open 2nd II div    \nGame Type: Regular
 \nGame Status: Complete\nHome Team: Phoenix  FC\nAway Team: Leon FC\nHome 
 Score: 5\nAway Score: 4
END:VEVENT
BEGIN:VEVENT
UID:16385775@ezleagues.ezfacility.com
DTSTAMP:20260426T034932Z
CREATED:20260426T034932Z
DTSTART:20250509T000000Z
DTEND:20250509T010000Z
LOCATION:Jessup Premier Field #2
CONTACT:
SUMMARY:Phoenix  FC VS. Palin
DESCRIPTION:League Name: Thurs Mens Open 2nd II div    \nGame Type: Regular
 \nGame Status: Complete\nHome Team: Phoenix  FC\nAway Team: Palin\nHome Sc
 ore: 1\nAway Score: 6
END:VEVENT
BEGIN:VEVENT
UID:16385784@ezleagues.ezfacility.com
DTSTAMP:20260426T034932Z
CREATED:20260426T034932Z
DTSTART:20250515T230000Z
DTEND:20250516T000000Z
LOCATION:Jessup Premier Field #1
CONTACT:
SUMMARY:Los Galacticos VS. Phoenix  FC
DESCRIPTION:League Name: Thurs Mens Open 2nd II div    \nGame Type: Regular
 \nGame Status: Complete\nHome Team: Los Galacticos\nAway Team: Phoenix  FC
 \nHome Score: 2\nAway Score: 6
END:VEVENT
BEGIN:VEVENT
UID:16385793@ezleagues.ezfacility.com
DTSTAMP:20260426T034932Z
CREATED:20260426T034932Z
DTSTART:20250523T030000Z
DTEND:20250523T040000Z
LOCATION:Jessup Premier Field #1
CONTACT:
SUMMARY:Anatolia FC VS. Phoenix  FC
DESCRIPTION:League Name: Thurs Mens Open 2nd II div    \nGame Type: Regular
 \nGame Status: Complete\nHome Team: Anatolia FC\nAway Team: Phoenix  FC\nH
 ome Score: 3\nAway Score: 1
END:VEVENT
BEGIN:VEVENT
UID:16385802@ezleagues.ezfacility.com
DTSTAMP:20260426T034932Z
CREATED:20260426T034932Z
DTSTART:20250529T230000Z
DTEND:20250530T000000Z
LOCATION:Jessup Premier Field #2
CONTACT:
SUMMARY:Lab Spacimens VS. Phoenix  FC
DESCRIPTION:League Name: Thurs Mens Open 2nd II div    \nGame Type: Regular
 \nGame Status: Complete\nHome Team: Lab Spacimens\nAway Team: Phoenix  FC\
 nHome Score: 6\nAway Score: 8
END:VEVENT
BEGIN:VEVENT
UID:16478287@ezleagues.ezfacility.com
DTSTAMP:20260426T034932Z
CREATED:20260426T034932Z
DTSTART:20250605T230000Z
DTEND:20250605T234800Z
LOCATION:Jessup Premier Field #1
CONTACT:
SUMMARY:Phoenix  FC VS. Palin
DESCRIPTION:League Name: Thurs Mens Open 2nd II div    \nGame Type: Regular
 \nGame Status: Complete\nHome Team: Phoenix  FC\nAway Team: Palin\nHome Sc
 ore: 7\nAway Score: 3
END:VEVENT
BEGIN:VEVENT
UID:16489523@ezleagues.ezfacility.com
DTSTAMP:20260426T034932Z
CREATED:20260426T034932Z
DTSTART:20250613T010000Z
DTEND:20250613T014800Z
LOCATION:Jessup Premier Field #1
CONTACT:
SUMMARY:Los Galacticos VS. Phoenix  FC
DESCRIPTION:League Name: Thurs Mens Open 2nd II div    \nGame Type: Regular
 \nGame Status: Complete\nHome Team: Los Galacticos\nAway Team: Phoenix  FC
 \nHome Score: 5\nAway Score: 2
END:VEVENT
END:VCALENDAR
