BEGIN:VCALENDAR
VERSION:2.0
PRODID:-//EZFacility.com, Inc.//EZL 2.5.5.28621
BEGIN:VEVENT
UID:15697873@ezleagues.ezfacility.com
DTSTAMP:20260426T033451Z
CREATED:20260426T033451Z
DTSTART:20240416T011500Z
DTEND:20240416T021500Z
LOCATION:Field 4
CONTACT:
SUMMARY:Los Cervezeros VS. Rangers
DESCRIPTION:League Name: S2 Mens BB Wood Bat Apr 15-16, 24\nGame Type: Regu
 lar\nGame Status: Complete\nHome Team: Los Cervezeros\nAway Team: Rangers\
 nHome Score: 1\nAway Score: 10
END:VEVENT
BEGIN:VEVENT
UID:15697881@ezleagues.ezfacility.com
DTSTAMP:20260426T033451Z
CREATED:20260426T033451Z
DTSTART:20240423T011500Z
DTEND:20240423T021500Z
LOCATION:Field 4
CONTACT:
SUMMARY:Dusters VS. Los Cervezeros
DESCRIPTION:League Name: S2 Mens BB Wood Bat Apr 15-16, 24\nGame Type: Regu
 lar\nGame Status: Complete\nHome Team: Dusters\nAway Team: Los Cervezeros\
 nHome Score: 10\nAway Score: 2
END:VEVENT
BEGIN:VEVENT
UID:15697885@ezleagues.ezfacility.com
DTSTAMP:20260426T033451Z
CREATED:20260426T033451Z
DTSTART:20240430T032500Z
DTEND:20240430T042500Z
LOCATION:Field 4
CONTACT:
SUMMARY:Sidewinders VS. Los Cervezeros
DESCRIPTION:League Name: S2 Mens BB Wood Bat Apr 15-16, 24\nGame Type: Regu
 lar\nGame Status: Complete\nHome Team: Sidewinders\nAway Team: Los Cerveze
 ros\nHome Score: 3\nAway Score: 7
END:VEVENT
BEGIN:VEVENT
UID:15697892@ezleagues.ezfacility.com
DTSTAMP:20260426T033451Z
CREATED:20260426T033451Z
DTSTART:20240508T011500Z
DTEND:20240508T021500Z
LOCATION:Field 5
CONTACT:
SUMMARY:Scared Hitless VS. Los Cervezeros
DESCRIPTION:League Name: S2 Mens BB Wood Bat Apr 15-16, 24\nGame Type: Regu
 lar\nGame Status: Complete\nHome Team: Scared Hitless\nAway Team: Los Cerv
 ezeros\nHome Score: 2\nAway Score: 15
END:VEVENT
BEGIN:VEVENT
UID:15697898@ezleagues.ezfacility.com
DTSTAMP:20260426T033451Z
CREATED:20260426T033451Z
DTSTART:20240514T011500Z
DTEND:20240514T021500Z
LOCATION:Field 4
CONTACT:
SUMMARY:Tunesquad VS. Los Cervezeros
DESCRIPTION:League Name: S2 Mens BB Wood Bat Apr 15-16, 24\nGame Type: Regu
 lar\nGame Status: Complete\nHome Team: Tunesquad\nAway Team: Los Cervezero
 s\nHome Score: 9\nAway Score: 11
END:VEVENT
BEGIN:VEVENT
UID:15697906@ezleagues.ezfacility.com
DTSTAMP:20260426T033451Z
CREATED:20260426T033451Z
DTSTART:20240522T032500Z
DTEND:20240522T042500Z
LOCATION:Field 5
CONTACT:
SUMMARY:Pepsters VS. Los Cervezeros
DESCRIPTION:League Name: S2 Mens BB Wood Bat Apr 15-16, 24\nGame Type: Regu
 lar\nGame Status: Complete\nHome Team: Pepsters\nAway Team: Los Cervezeros
 \nHome Score: 6\nAway Score: 7
END:VEVENT
BEGIN:VEVENT
UID:15697912@ezleagues.ezfacility.com
DTSTAMP:20260426T033451Z
CREATED:20260426T033451Z
DTSTART:20240604T032500Z
DTEND:20240604T042500Z
LOCATION:Field 4
CONTACT:
SUMMARY:Bird Gang VS. Los Cervezeros
DESCRIPTION:League Name: S2 Mens BB Wood Bat Apr 15-16, 24\nGame Type: Regu
 lar\nGame Status: Complete\nHome Team: Bird Gang\nAway Team: Los Cervezero
 s\nHome Score: 4\nAway Score: 12
END:VEVENT
BEGIN:VEVENT
UID:15697915@ezleagues.ezfacility.com
DTSTAMP:20260426T033451Z
CREATED:20260426T033451Z
DTSTART:20240612T011500Z
DTEND:20240612T021500Z
LOCATION:Field 5
CONTACT:
SUMMARY:Los Cervezeros VS. Rays
DESCRIPTION:League Name: S2 Mens BB Wood Bat Apr 15-16, 24\nGame Type: Post
 season\nGame Status: Complete\nHome Team: Los Cervezeros\nAway Team: Rays\
 nHome Score: 7\nAway Score: 0
END:VEVENT
BEGIN:VEVENT
UID:15697924@ezleagues.ezfacility.com
DTSTAMP:20260426T033451Z
CREATED:20260426T033451Z
DTSTART:20240618T032500Z
DTEND:20240618T042500Z
LOCATION:Field 4
CONTACT:
SUMMARY:Bird Gang VS. Los Cervezeros
DESCRIPTION:League Name: S2 Mens BB Wood Bat Apr 15-16, 24\nGame Type: Post
 season\nGame Status: Complete\nHome Team: Bird Gang\nAway Team: Los Cervez
 eros\nHome Score: 8\nAway Score: 2
END:VEVENT
BEGIN:VEVENT
UID:15697930@ezleagues.ezfacility.com
DTSTAMP:20260426T033451Z
CREATED:20260426T033451Z
DTSTART:20240625T032500Z
DTEND:20240625T042500Z
LOCATION:Field 4
CONTACT:
SUMMARY:Sidewinders VS. Los Cervezeros
DESCRIPTION:League Name: S2 Mens BB Wood Bat Apr 15-16, 24\nGame Type: Regu
 lar\nGame Status: Complete\nHome Team: Sidewinders\nAway Team: Los Cerveze
 ros\nHome Score: 7\nAway Score: 0
END:VEVENT
END:VCALENDAR
