BEGIN:VCALENDAR
VERSION:2.0
PRODID:-//EZFacility.com, Inc.//EZL 2.5.5.28621
BEGIN:VEVENT
UID:15697877@ezleagues.ezfacility.com
DTSTAMP:20260426T033426Z
CREATED:20260426T033426Z
DTSTART:20240417T011500Z
DTEND:20240417T021500Z
LOCATION:Field 5
CONTACT:
SUMMARY:Pepsters VS. Devils
DESCRIPTION:League Name: S2 Mens BB Wood Bat Apr 15-16, 24\nGame Type: Regu
 lar\nGame Status: Complete\nHome Team: Pepsters\nAway Team: Devils\nHome S
 core: 5\nAway Score: 2
END:VEVENT
BEGIN:VEVENT
UID:15697883@ezleagues.ezfacility.com
DTSTAMP:20260426T033426Z
CREATED:20260426T033426Z
DTSTART:20240423T011500Z
DTEND:20240423T021500Z
LOCATION:Field 5
CONTACT:
SUMMARY:Devils VS. Rangers
DESCRIPTION:League Name: S2 Mens BB Wood Bat Apr 15-16, 24\nGame Type: Regu
 lar\nGame Status: Complete\nHome Team: Devils\nAway Team: Rangers\nHome Sc
 ore: 1\nAway Score: 4
END:VEVENT
BEGIN:VEVENT
UID:15697886@ezleagues.ezfacility.com
DTSTAMP:20260426T033426Z
CREATED:20260426T033426Z
DTSTART:20240501T011500Z
DTEND:20240501T021500Z
LOCATION:Field 5
CONTACT:
SUMMARY:Team Mexico VS. Devils
DESCRIPTION:League Name: S2 Mens BB Wood Bat Apr 15-16, 24\nGame Type: Regu
 lar\nGame Status: Complete\nHome Team: Team Mexico\nAway Team: Devils\nHom
 e Score: 5\nAway Score: 7
END:VEVENT
BEGIN:VEVENT
UID:15697895@ezleagues.ezfacility.com
DTSTAMP:20260426T033426Z
CREATED:20260426T033426Z
DTSTART:20240507T011500Z
DTEND:20240507T021500Z
LOCATION:Field 5
CONTACT:
SUMMARY:Dusters VS. Devils
DESCRIPTION:League Name: S2 Mens BB Wood Bat Apr 15-16, 24\nGame Type: Regu
 lar\nGame Status: Complete\nHome Team: Dusters\nAway Team: Devils\nHome Sc
 ore: 12\nAway Score: 7
END:VEVENT
BEGIN:VEVENT
UID:15697899@ezleagues.ezfacility.com
DTSTAMP:20260426T033426Z
CREATED:20260426T033426Z
DTSTART:20240515T011500Z
DTEND:20240515T021500Z
LOCATION:Field 5
CONTACT:
SUMMARY:Devils VS. Scared Hitless
DESCRIPTION:League Name: S2 Mens BB Wood Bat Apr 15-16, 24\nGame Type: Regu
 lar\nGame Status: Complete\nHome Team: Devils\nAway Team: Scared Hitless\n
 Home Score: 11\nAway Score: 0
END:VEVENT
BEGIN:VEVENT
UID:15697903@ezleagues.ezfacility.com
DTSTAMP:20260426T033426Z
CREATED:20260426T033426Z
DTSTART:20240522T011500Z
DTEND:20240522T021500Z
LOCATION:Field 5
CONTACT:
SUMMARY:Devils VS. Tunesquad
DESCRIPTION:League Name: S2 Mens BB Wood Bat Apr 15-16, 24\nGame Type: Regu
 lar\nGame Status: Complete\nHome Team: Devils\nAway Team: Tunesquad\nHome 
 Score: 7\nAway Score: 4
END:VEVENT
BEGIN:VEVENT
UID:15697911@ezleagues.ezfacility.com
DTSTAMP:20260426T033426Z
CREATED:20260426T033426Z
DTSTART:20240605T011500Z
DTEND:20240605T021500Z
LOCATION:Field 5
CONTACT:
SUMMARY:Devils VS. Team Mexico
DESCRIPTION:League Name: S2 Mens BB Wood Bat Apr 15-16, 24\nGame Type: Post
 season\nGame Status: Complete\nHome Team: Devils\nAway Team: Team Mexico\n
 Home Score: 9\nAway Score: 11
END:VEVENT
BEGIN:VEVENT
UID:15697919@ezleagues.ezfacility.com
DTSTAMP:20260426T033426Z
CREATED:20260426T033426Z
DTSTART:20240611T011500Z
DTEND:20240611T021500Z
LOCATION:Field 5
CONTACT:
SUMMARY:Devils VS. Sidewinders
DESCRIPTION:League Name: S2 Mens BB Wood Bat Apr 15-16, 24\nGame Type: Regu
 lar\nGame Status: Complete\nHome Team: Devils\nAway Team: Sidewinders\nHom
 e Score: 0\nAway Score: 7
END:VEVENT
BEGIN:VEVENT
UID:15697923@ezleagues.ezfacility.com
DTSTAMP:20260426T033426Z
CREATED:20260426T033426Z
DTSTART:20240619T011500Z
DTEND:20240619T021500Z
LOCATION:Field 5
CONTACT:
SUMMARY:Devils VS. Rays
DESCRIPTION:League Name: S2 Mens BB Wood Bat Apr 15-16, 24\nGame Type: Regu
 lar\nGame Status: Complete\nHome Team: Devils\nAway Team: Rays\nHome Score
 : 7\nAway Score: 4
END:VEVENT
BEGIN:VEVENT
UID:15697927@ezleagues.ezfacility.com
DTSTAMP:20260426T033426Z
CREATED:20260426T033426Z
DTSTART:20240626T011500Z
DTEND:20240626T021500Z
LOCATION:Field 5
CONTACT:
SUMMARY:Pepsters VS. Devils
DESCRIPTION:League Name: S2 Mens BB Wood Bat Apr 15-16, 24\nGame Type: Regu
 lar\nGame Status: Complete\nHome Team: Pepsters\nAway Team: Devils\nHome S
 core: 10\nAway Score: 4
END:VEVENT
END:VCALENDAR
