BEGIN:VCALENDAR
VERSION:2.0
PRODID:-//EZFacility.com, Inc.//EZL 2.5.5.28621
BEGIN:VEVENT
UID:16138990@ezleagues.ezfacility.com
DTSTAMP:20260426T033443Z
CREATED:20260426T033443Z
DTSTART:20241221T235000Z
DTEND:20241222T003800Z
LOCATION:Jessup Premier Field #2
CONTACT:
SUMMARY:Juniors VS. Arsenal
DESCRIPTION:League Name: Sat Mens Open 1st div  \nGame Type: Regular\nGame 
 Status: Complete\nHome Team: Juniors\nAway Team: Arsenal\nHome Score: 3\nA
 way Score: 6
END:VEVENT
BEGIN:VEVENT
UID:16139014@ezleagues.ezfacility.com
DTSTAMP:20260426T033443Z
CREATED:20260426T033443Z
DTSTART:20250104T230000Z
DTEND:20250104T234800Z
LOCATION:Jessup Premier Field #1
CONTACT:
SUMMARY:Phoenix VS. Arsenal
DESCRIPTION:League Name: Sat Mens Open 1st div  \nGame Type: Regular\nGame 
 Status: Complete\nHome Team: Phoenix\nAway Team: Arsenal\nHome Score: 4\nA
 way Score: 10
END:VEVENT
BEGIN:VEVENT
UID:16139026@ezleagues.ezfacility.com
DTSTAMP:20260426T033443Z
CREATED:20260426T033443Z
DTSTART:20250112T004000Z
DTEND:20250112T012800Z
LOCATION:Jessup Premier Field #2
CONTACT:
SUMMARY:Arsenal VS. Deportivo Palestina
DESCRIPTION:League Name: Sat Mens Open 1st div  \nGame Type: Regular\nGame 
 Status: Complete\nHome Team: Arsenal\nAway Team: Deportivo Palestina\nHome
  Score: 5\nAway Score: 2
END:VEVENT
BEGIN:VEVENT
UID:16139040@ezleagues.ezfacility.com
DTSTAMP:20260426T033443Z
CREATED:20260426T033443Z
DTSTART:20250119T040000Z
DTEND:20250119T044800Z
LOCATION:Jessup Premier Field #1
CONTACT:
SUMMARY:Arsenal VS. Insufribles 1202
DESCRIPTION:League Name: Sat Mens Open 1st div  \nGame Type: Regular\nGame 
 Status: Complete\nHome Team: Arsenal\nAway Team: Insufribles 1202\nHome Sc
 ore: 2\nAway Score: 3
END:VEVENT
BEGIN:VEVENT
UID:16139054@ezleagues.ezfacility.com
DTSTAMP:20260426T033443Z
CREATED:20260426T033443Z
DTSTART:20250125T235000Z
DTEND:20250126T003800Z
LOCATION:Jessup Premier Field #2
CONTACT:
SUMMARY:Arsenal VS. Chelsea 
DESCRIPTION:League Name: Sat Mens Open 1st div  \nGame Type: Regular\nGame 
 Status: Complete\nHome Team: Arsenal\nAway Team: Chelsea \nHome Score: 4\n
 Away Score: 5
END:VEVENT
BEGIN:VEVENT
UID:16139068@ezleagues.ezfacility.com
DTSTAMP:20260426T033443Z
CREATED:20260426T033443Z
DTSTART:20250202T031000Z
DTEND:20250202T035800Z
LOCATION:Jessup Premier Field #2
CONTACT:
SUMMARY:Arsenal VS. Machetes FC
DESCRIPTION:League Name: Sat Mens Open 1st div  \nGame Type: Regular\nGame 
 Status: Complete\nHome Team: Arsenal\nAway Team: Machetes FC\nHome Score: 
 3\nAway Score: 3
END:VEVENT
BEGIN:VEVENT
UID:16139002@ezleagues.ezfacility.com
DTSTAMP:20260426T033443Z
CREATED:20260426T033443Z
DTSTART:20250209T022000Z
DTEND:20250209T030800Z
LOCATION:Jessup Premier Field #1
CONTACT:
SUMMARY:DC Metro Team VS. Arsenal
DESCRIPTION:League Name: Sat Mens Open 1st div  \nGame Type: Regular\nGame 
 Status: Complete\nHome Team: DC Metro Team\nAway Team: Arsenal\nHome Score
 : 2\nAway Score: 5
END:VEVENT
BEGIN:VEVENT
UID:16233865@ezleagues.ezfacility.com
DTSTAMP:20260426T033443Z
CREATED:20260426T033443Z
DTSTART:20250216T022000Z
DTEND:20250216T030800Z
LOCATION:Jessup Premier Field #1
CONTACT:
SUMMARY:Arsenal VS. Chelsea 
DESCRIPTION:League Name: Sat Mens Open 1st div  \nGame Type: Regular\nGame 
 Status: Complete\nHome Team: Arsenal\nAway Team: Chelsea \nHome Score: 2\n
 Away Score: 3
END:VEVENT
BEGIN:VEVENT
UID:16243384@ezleagues.ezfacility.com
DTSTAMP:20260426T033443Z
CREATED:20260426T033443Z
DTSTART:20250222T230000Z
DTEND:20250222T234800Z
LOCATION:Jessup Premier Field #2
CONTACT:
SUMMARY:Machetes FC VS. Arsenal
DESCRIPTION:League Name: Sat Mens Open 1st div  \nGame Type: Regular\nGame 
 Status: Complete\nHome Team: Machetes FC\nAway Team: Arsenal\nHome Score: 
 0\nAway Score: 3
END:VEVENT
END:VCALENDAR
