BEGIN:VCALENDAR
VERSION:2.0
PRODID:-//EZFacility.com, Inc.//EZL 2.5.5.28621
BEGIN:VEVENT
UID:16072260@ezleagues.ezfacility.com
DTSTAMP:20260419T145946Z
CREATED:20260419T145946Z
DTSTART:20241125T020000Z
DTEND:20241125T030000Z
LOCATION:Jessup Premier Field #2
CONTACT:
SUMMARY:About to Get Messi VS. Net Six and Chill
DESCRIPTION:League Name: Sun Coed Open 4th div \nGame Type: Regular\nGame S
 tatus: Complete\nHome Team: About to Get Messi\nAway Team: Net Six and Chi
 ll\nHome Score: 1\nAway Score: 2
END:VEVENT
BEGIN:VEVENT
UID:16072285@ezleagues.ezfacility.com
DTSTAMP:20260419T145946Z
CREATED:20260419T145946Z
DTSTART:20241209T000000Z
DTEND:20241209T010000Z
LOCATION:Jessup Premier Field #2
CONTACT:
SUMMARY:About to Get Messi VS. Aerials
DESCRIPTION:League Name: Sun Coed Open 4th div \nGame Type: Regular\nGame S
 tatus: Complete\nHome Team: About to Get Messi\nAway Team: Aerials\nHome S
 core: 4\nAway Score: 5
END:VEVENT
BEGIN:VEVENT
UID:16072297@ezleagues.ezfacility.com
DTSTAMP:20260419T145946Z
CREATED:20260419T145946Z
DTSTART:20241216T030000Z
DTEND:20241216T040000Z
LOCATION:Jessup Premier Field #2
CONTACT:
SUMMARY:Peak Performers VS. About to Get Messi
DESCRIPTION:League Name: Sun Coed Open 4th div \nGame Type: Regular\nGame S
 tatus: Complete\nHome Team: Peak Performers\nAway Team: About to Get Messi
 \nHome Score: 3\nAway Score: 6
END:VEVENT
BEGIN:VEVENT
UID:16072331@ezleagues.ezfacility.com
DTSTAMP:20260419T145946Z
CREATED:20260419T145946Z
DTSTART:20250105T220000Z
DTEND:20250105T230000Z
LOCATION:Jessup Premier Field #1
CONTACT:
SUMMARY:Jigglypuffs VS. About to Get Messi
DESCRIPTION:League Name: Sun Coed Open 4th div \nGame Type: Regular\nGame S
 tatus: Complete\nHome Team: Jigglypuffs\nAway Team: About to Get Messi\nHo
 me Score: 1\nAway Score: 2
END:VEVENT
BEGIN:VEVENT
UID:16072273@ezleagues.ezfacility.com
DTSTAMP:20260419T145946Z
CREATED:20260419T145946Z
DTSTART:20250112T220000Z
DTEND:20250112T230000Z
LOCATION:Jessup Premier Field #2
CONTACT:
SUMMARY:About to Get Messi VS. FIFA irl
DESCRIPTION:League Name: Sun Coed Open 4th div \nGame Type: Regular\nGame S
 tatus: Complete\nHome Team: About to Get Messi\nAway Team: FIFA irl\nHome 
 Score: 9\nAway Score: 3
END:VEVENT
BEGIN:VEVENT
UID:16072318@ezleagues.ezfacility.com
DTSTAMP:20260419T145946Z
CREATED:20260419T145946Z
DTSTART:20250120T010000Z
DTEND:20250120T020000Z
LOCATION:Jessup Premier Field #1
CONTACT:
SUMMARY:Milan FC VS. About to Get Messi
DESCRIPTION:League Name: Sun Coed Open 4th div \nGame Type: Regular\nGame S
 tatus: Complete\nHome Team: Milan FC\nAway Team: About to Get Messi\nHome 
 Score: 3\nAway Score: 0
END:VEVENT
BEGIN:VEVENT
UID:16072308@ezleagues.ezfacility.com
DTSTAMP:20260419T145946Z
CREATED:20260419T145946Z
DTSTART:20250126T230000Z
DTEND:20250127T000000Z
LOCATION:Jessup Premier Field #2
CONTACT:
SUMMARY:Band of Misfits VS. About to Get Messi
DESCRIPTION:League Name: Sun Coed Open 4th div \nGame Type: Regular\nGame S
 tatus: Complete\nHome Team: Band of Misfits\nAway Team: About to Get Messi
 \nHome Score: 5\nAway Score: 3
END:VEVENT
BEGIN:VEVENT
UID:16213012@ezleagues.ezfacility.com
DTSTAMP:20260419T145946Z
CREATED:20260419T145946Z
DTSTART:20250202T220000Z
DTEND:20250202T230000Z
LOCATION:Jessup Premier Field #2
CONTACT:
SUMMARY:About to Get Messi VS. Peak Performers
DESCRIPTION:League Name: Sun Coed Open 4th div \nGame Type: Regular\nGame S
 tatus: Complete\nHome Team: About to Get Messi\nAway Team: Peak Performers
 \nHome Score: 4\nAway Score: 6
END:VEVENT
BEGIN:VEVENT
UID:16233857@ezleagues.ezfacility.com
DTSTAMP:20260419T145946Z
CREATED:20260419T145946Z
DTSTART:20250217T020000Z
DTEND:20250217T030000Z
LOCATION:Jessup Premier Field #1
CONTACT:
SUMMARY:About to Get Messi VS. FIFA irl
DESCRIPTION:League Name: Sun Coed Open 4th div \nGame Type: Regular\nGame S
 tatus: Complete\nHome Team: About to Get Messi\nAway Team: FIFA irl\nHome 
 Score: 7\nAway Score: 2
END:VEVENT
END:VCALENDAR
