BEGIN:VCALENDAR
VERSION:2.0
PRODID:-//EZFacility.com, Inc.//EZL 2.5.5.28621
BEGIN:VEVENT
UID:16410919@ezleagues.ezfacility.com
DTSTAMP:20260426T033507Z
CREATED:20260426T033507Z
DTSTART:20250504T070000Z
DTEND:20250504T080000Z
LOCATION:Jessup Premier Field #1
CONTACT:
SUMMARY:Alianza VS. Azteca Mix
DESCRIPTION:League Name: Sun Coed Open 3rd div \nGame Type: Regular\nGame S
 tatus: Rescheduled\nHome Team: Alianza\nAway Team: Azteca Mix\n
END:VEVENT
BEGIN:VEVENT
UID:16410929@ezleagues.ezfacility.com
DTSTAMP:20260426T033507Z
CREATED:20260426T033507Z
DTSTART:20250511T220000Z
DTEND:20250511T230000Z
LOCATION:Jessup Premier Field #1
CONTACT:
SUMMARY:River Hawks VS. Azteca Mix
DESCRIPTION:League Name: Sun Coed Open 3rd div \nGame Type: Regular\nGame S
 tatus: Complete\nHome Team: River Hawks\nAway Team: Azteca Mix\nHome Score
 : 0\nAway Score: 3
END:VEVENT
BEGIN:VEVENT
UID:16419245@ezleagues.ezfacility.com
DTSTAMP:20260426T033507Z
CREATED:20260426T033507Z
DTSTART:20250518T200000Z
DTEND:20250518T210000Z
LOCATION:Jessup Premier Field #2
CONTACT:
SUMMARY:Alianza VS. Azteca Mix
DESCRIPTION:League Name: Sun Coed Open 3rd div \nGame Type: Regular\nGame S
 tatus: Complete\nHome Team: Alianza\nAway Team: Azteca Mix\nHome Score: 5\
 nAway Score: 5
END:VEVENT
BEGIN:VEVENT
UID:16410939@ezleagues.ezfacility.com
DTSTAMP:20260426T033507Z
CREATED:20260426T033507Z
DTSTART:20250518T220000Z
DTEND:20250518T230000Z
LOCATION:Jessup Premier Field #1
CONTACT:
SUMMARY:Azteca Mix VS. Strikers
DESCRIPTION:League Name: Sun Coed Open 3rd div \nGame Type: Regular\nGame S
 tatus: Complete\nHome Team: Azteca Mix\nAway Team: Strikers\nHome Score: 7
 \nAway Score: 4
END:VEVENT
BEGIN:VEVENT
UID:16410963@ezleagues.ezfacility.com
DTSTAMP:20260426T033507Z
CREATED:20260426T033507Z
DTSTART:20250602T010000Z
DTEND:20250602T020000Z
LOCATION:Jessup Premier Field #1
CONTACT:
SUMMARY:Azteca Mix VS. Blue Wings
DESCRIPTION:League Name: Sun Coed Open 3rd div \nGame Type: Regular\nGame S
 tatus: Complete\nHome Team: Azteca Mix\nAway Team: Blue Wings\nHome Score:
  3\nAway Score: 3
END:VEVENT
BEGIN:VEVENT
UID:16410975@ezleagues.ezfacility.com
DTSTAMP:20260426T033507Z
CREATED:20260426T033507Z
DTSTART:20250608T070000Z
DTEND:20250608T080000Z
LOCATION:Jessup Premier Field #2
CONTACT:
SUMMARY:Azteca Mix VS. Trivets
DESCRIPTION:League Name: Sun Coed Open 3rd div \nGame Type: Regular\nGame S
 tatus: Complete\nHome Team: Azteca Mix\nAway Team: Trivets\nHome Score: 0\
 nAway Score: 3
END:VEVENT
BEGIN:VEVENT
UID:16410986@ezleagues.ezfacility.com
DTSTAMP:20260426T033507Z
CREATED:20260426T033507Z
DTSTART:20250615T220000Z
DTEND:20250615T230000Z
LOCATION:Jessup Premier Field #2
CONTACT:
SUMMARY:Elkridge VS. Azteca Mix
DESCRIPTION:League Name: Sun Coed Open 3rd div \nGame Type: Regular\nGame S
 tatus: Complete\nHome Team: Elkridge\nAway Team: Azteca Mix\nHome Score: 6
 \nAway Score: 5
END:VEVENT
BEGIN:VEVENT
UID:16410951@ezleagues.ezfacility.com
DTSTAMP:20260426T033507Z
CREATED:20260426T033507Z
DTSTART:20250622T220000Z
DTEND:20250622T230000Z
LOCATION:Jessup Premier Field #2
CONTACT:
SUMMARY:Azteca Mix VS. Java Jaguars
DESCRIPTION:League Name: Sun Coed Open 3rd div \nGame Type: Regular\nGame S
 tatus: Complete\nHome Team: Azteca Mix\nAway Team: Java Jaguars\nHome Scor
 e: 0\nAway Score: 3
END:VEVENT
BEGIN:VEVENT
UID:16530643@ezleagues.ezfacility.com
DTSTAMP:20260426T033507Z
CREATED:20260426T033507Z
DTSTART:20250630T020000Z
DTEND:20250630T030000Z
LOCATION:Jessup Premier Field #1
CONTACT:
SUMMARY:Elkridge VS. Azteca Mix
DESCRIPTION:League Name: Sun Coed Open 3rd div \nGame Type: Regular\nGame S
 tatus: Complete\nHome Team: Elkridge\nAway Team: Azteca Mix\nHome Score: 0
 \nAway Score: 3
END:VEVENT
BEGIN:VEVENT
UID:16541273@ezleagues.ezfacility.com
DTSTAMP:20260426T033507Z
CREATED:20260426T033507Z
DTSTART:20250713T220000Z
DTEND:20250713T230000Z
LOCATION:Jessup Premier Field #1
CONTACT:
SUMMARY:Azteca Mix VS. Elkridge
DESCRIPTION:League Name: Sun Coed Open 3rd div \nGame Type: Regular\nGame S
 tatus: Complete\nHome Team: Azteca Mix\nAway Team: Elkridge\nHome Score: 0
 \nAway Score: 3
END:VEVENT
END:VCALENDAR
