BEGIN:VCALENDAR
VERSION:2.0
PRODID:-//EZFacility.com, Inc.//EZL 2.5.5.28621
BEGIN:VEVENT
UID:16410921@ezleagues.ezfacility.com
DTSTAMP:20260423T184752Z
CREATED:20260423T184752Z
DTSTART:20250504T230000Z
DTEND:20250505T000000Z
LOCATION:Jessup Premier Field #1
CONTACT:
SUMMARY:Atletico San Pancho VS. Reyes
DESCRIPTION:League Name: Sun Coed Open 4th Eagles div  \nGame Type: Regular
 \nGame Status: Complete\nHome Team: Atletico San Pancho\nAway Team: Reyes\
 nHome Score: 6\nAway Score: 5
END:VEVENT
BEGIN:VEVENT
UID:16410933@ezleagues.ezfacility.com
DTSTAMP:20260423T184752Z
CREATED:20260423T184752Z
DTSTART:20250511T230000Z
DTEND:20250512T000000Z
LOCATION:Jessup Premier Field #2
CONTACT:
SUMMARY:Infamous VS. Reyes
DESCRIPTION:League Name: Sun Coed Open 4th Eagles div  \nGame Type: Regular
 \nGame Status: Complete\nHome Team: Infamous\nAway Team: Reyes\nHome Score
 : 4\nAway Score: 6
END:VEVENT
BEGIN:VEVENT
UID:16410945@ezleagues.ezfacility.com
DTSTAMP:20260423T184752Z
CREATED:20260423T184752Z
DTSTART:20250519T010000Z
DTEND:20250519T020000Z
LOCATION:Jessup Premier Field #2
CONTACT:
SUMMARY:Reyes VS. 2 Goals 1 Cup
DESCRIPTION:League Name: Sun Coed Open 4th Eagles div  \nGame Type: Regular
 \nGame Status: Complete\nHome Team: Reyes\nAway Team: 2 Goals 1 Cup\nHome 
 Score: 7\nAway Score: 5
END:VEVENT
BEGIN:VEVENT
UID:16410966@ezleagues.ezfacility.com
DTSTAMP:20260423T184752Z
CREATED:20260423T184752Z
DTSTART:20250602T000000Z
DTEND:20250602T010000Z
LOCATION:Jessup Premier Field #1
CONTACT:
SUMMARY:JMJ VS. Reyes
DESCRIPTION:League Name: Sun Coed Open 4th Eagles div  \nGame Type: Regular
 \nGame Status: Complete\nHome Team: JMJ\nAway Team: Reyes\nHome Score: 2\n
 Away Score: 3
END:VEVENT
BEGIN:VEVENT
UID:16410976@ezleagues.ezfacility.com
DTSTAMP:20260423T184752Z
CREATED:20260423T184752Z
DTSTART:20250608T230000Z
DTEND:20250609T000000Z
LOCATION:Jessup Premier Field #1
CONTACT:
SUMMARY:Reyes VS. Atletico San Pancho
DESCRIPTION:League Name: Sun Coed Open 4th Eagles div  \nGame Type: Regular
 \nGame Status: Complete\nHome Team: Reyes\nAway Team: Atletico San Pancho\
 nHome Score: 2\nAway Score: 4
END:VEVENT
BEGIN:VEVENT
UID:16410988@ezleagues.ezfacility.com
DTSTAMP:20260423T184752Z
CREATED:20260423T184752Z
DTSTART:20250615T210000Z
DTEND:20250615T220000Z
LOCATION:Jessup Premier Field #1
CONTACT:
SUMMARY:Reyes VS. Infamous
DESCRIPTION:League Name: Sun Coed Open 4th Eagles div  \nGame Type: Regular
 \nGame Status: Complete\nHome Team: Reyes\nAway Team: Infamous\nHome Score
 : 7\nAway Score: 3
END:VEVENT
BEGIN:VEVENT
UID:16410956@ezleagues.ezfacility.com
DTSTAMP:20260423T184752Z
CREATED:20260423T184752Z
DTSTART:20250623T010000Z
DTEND:20250623T020000Z
LOCATION:Jessup Premier Field #2
CONTACT:
SUMMARY:Jigglypuffs VS. Reyes
DESCRIPTION:League Name: Sun Coed Open 4th Eagles div  \nGame Type: Regular
 \nGame Status: Complete\nHome Team: Jigglypuffs\nAway Team: Reyes\nHome Sc
 ore: 0\nAway Score: 3
END:VEVENT
BEGIN:VEVENT
UID:16530645@ezleagues.ezfacility.com
DTSTAMP:20260423T184752Z
CREATED:20260423T184752Z
DTSTART:20250629T220000Z
DTEND:20250629T230000Z
LOCATION:Jessup Premier Field #2
CONTACT:
SUMMARY:2 Goals 1 Cup VS. Reyes
DESCRIPTION:League Name: Sun Coed Open 4th Eagles div  \nGame Type: Regular
 \nGame Status: Complete\nHome Team: 2 Goals 1 Cup\nAway Team: Reyes\nHome 
 Score: 4\nAway Score: 3
END:VEVENT
BEGIN:VEVENT
UID:16541276@ezleagues.ezfacility.com
DTSTAMP:20260423T184752Z
CREATED:20260423T184752Z
DTSTART:20250713T210000Z
DTEND:20250713T220000Z
LOCATION:Jessup Premier Field #2
CONTACT:
SUMMARY:Reyes VS. Infamous
DESCRIPTION:League Name: Sun Coed Open 4th Eagles div  \nGame Type: Regular
 \nGame Status: Complete\nHome Team: Reyes\nAway Team: Infamous\nHome Score
 : 4\nAway Score: 6
END:VEVENT
END:VCALENDAR
