BEGIN:VCALENDAR
VERSION:2.0
PRODID:-//EZFacility.com, Inc.//EZL 2.5.5.28621
BEGIN:VEVENT
UID:15699167@ezleagues.ezfacility.com
DTSTAMP:20260426T033404Z
CREATED:20260426T033404Z
DTSTART:20240406T010000Z
DTEND:20240406T020000Z
LOCATION:Turf 1
CONTACT:
SUMMARY:OOR FC VS. Nutmeg FC (Dark Blue)
DESCRIPTION:League Name: Men's Soccer (April 2024)\nGame Type: Regular\nGam
 e Status: Complete\nHome Team: OOR FC\nAway Team: Nutmeg FC (Dark Blue)\nH
 ome Score: 1\nAway Score: 2
END:VEVENT
BEGIN:VEVENT
UID:15699224@ezleagues.ezfacility.com
DTSTAMP:20260426T033404Z
CREATED:20260426T033404Z
DTSTART:20240413T000000Z
DTEND:20240413T010000Z
LOCATION:Turf 1
CONTACT:
SUMMARY:GFC  VS. OOR FC
DESCRIPTION:League Name: Men's Soccer (April 2024)\nGame Type: Regular\nGam
 e Status: Complete\nHome Team: GFC \nAway Team: OOR FC\nHome Score: 14\nAw
 ay Score: 0
END:VEVENT
BEGIN:VEVENT
UID:15699450@ezleagues.ezfacility.com
DTSTAMP:20260426T033404Z
CREATED:20260426T033404Z
DTSTART:20240420T020000Z
DTEND:20240420T030000Z
LOCATION:Turf 2
CONTACT:
SUMMARY:OOR FC VS. Uniao Futebol Clube 
DESCRIPTION:League Name: Men's Soccer (April 2024)\nGame Type: Regular\nGam
 e Status: Complete\nHome Team: OOR FC\nAway Team: Uniao Futebol Clube \nHo
 me Score: 0\nAway Score: 3
END:VEVENT
BEGIN:VEVENT
UID:15699454@ezleagues.ezfacility.com
DTSTAMP:20260426T033404Z
CREATED:20260426T033404Z
DTSTART:20240427T010000Z
DTEND:20240427T020000Z
LOCATION:Turf 2
CONTACT:
SUMMARY:Diamond FC (Black)  VS. OOR FC
DESCRIPTION:League Name: Men's Soccer (April 2024)\nGame Type: Regular\nGam
 e Status: Complete\nHome Team: Diamond FC (Black) \nAway Team: OOR FC\nHom
 e Score: 9\nAway Score: 2
END:VEVENT
BEGIN:VEVENT
UID:15699511@ezleagues.ezfacility.com
DTSTAMP:20260426T033404Z
CREATED:20260426T033404Z
DTSTART:20240504T030000Z
DTEND:20240504T040000Z
LOCATION:Turf 1
CONTACT:
SUMMARY:OOR FC VS. C. D. 5 ESTRELLAS (Cream/Red)  
DESCRIPTION:League Name: Men's Soccer (April 2024)\nGame Type: Regular\nGam
 e Status: Complete\nHome Team: OOR FC\nAway Team: C. D. 5 ESTRELLAS (Cream
 /Red)  \nHome Score: 1\nAway Score: 0
END:VEVENT
BEGIN:VEVENT
UID:15699553@ezleagues.ezfacility.com
DTSTAMP:20260426T033404Z
CREATED:20260426T033404Z
DTSTART:20240518T010000Z
DTEND:20240518T020000Z
LOCATION:Turf 2
CONTACT:
SUMMARY:Blue Lions VS. OOR FC
DESCRIPTION:League Name: Men's Soccer (April 2024)\nGame Type: Regular\nGam
 e Status: Complete\nHome Team: Blue Lions\nAway Team: OOR FC\nHome Score: 
 1\nAway Score: 0
END:VEVENT
BEGIN:VEVENT
UID:15699558@ezleagues.ezfacility.com
DTSTAMP:20260426T033404Z
CREATED:20260426T033404Z
DTSTART:20240524T230000Z
DTEND:20240525T000000Z
LOCATION:Turf 1
CONTACT:
SUMMARY:OOR FC VS. PDE F.C.
DESCRIPTION:League Name: Men's Soccer (April 2024)\nGame Type: Regular\nGam
 e Status: Complete\nHome Team: OOR FC\nAway Team: PDE F.C.\nHome Score: 1\
 nAway Score: 1
END:VEVENT
BEGIN:VEVENT
UID:15699579@ezleagues.ezfacility.com
DTSTAMP:20260426T033404Z
CREATED:20260426T033404Z
DTSTART:20240601T020000Z
DTEND:20240601T030000Z
LOCATION:Turf 2
CONTACT:
SUMMARY:New Bedford FC (Purple) VS. OOR FC
DESCRIPTION:League Name: Men's Soccer (April 2024)\nGame Type: Regular\nGam
 e Status: Complete\nHome Team: New Bedford FC (Purple)\nAway Team: OOR FC\
 nHome Score: 5\nAway Score: 5
END:VEVENT
BEGIN:VEVENT
UID:15761395@ezleagues.ezfacility.com
DTSTAMP:20260426T033404Z
CREATED:20260426T033404Z
DTSTART:20240614T230000Z
DTEND:20240614T233000Z
LOCATION:Turf 1
CONTACT:
SUMMARY:C. D. 5 ESTRELLAS (Cream/Red)   VS. OOR FC
DESCRIPTION:League Name: Men's Soccer (April 2024)\nGame Type: Regular\nGam
 e Status: Complete\nHome Team: C. D. 5 ESTRELLAS (Cream/Red)  \nAway Team:
  OOR FC\nHome Score: 0\nAway Score: 1
END:VEVENT
BEGIN:VEVENT
UID:15761397@ezleagues.ezfacility.com
DTSTAMP:20260426T033404Z
CREATED:20260426T033404Z
DTSTART:20240615T000000Z
DTEND:20240615T003000Z
LOCATION:Turf 1
CONTACT:
SUMMARY:Diamond FC (Black)  VS. OOR FC
DESCRIPTION:League Name: Men's Soccer (April 2024)\nGame Type: Regular\nGam
 e Status: Complete\nHome Team: Diamond FC (Black) \nAway Team: OOR FC\nHom
 e Score: 3\nAway Score: 1
END:VEVENT
END:VCALENDAR
