BEGIN:VCALENDAR
VERSION:2.0
PRODID:-//EZFacility.com, Inc.//EZL 2.5.5.28621
BEGIN:VEVENT
UID:15713383@ezleagues.ezfacility.com
DTSTAMP:20260423T011154Z
CREATED:20260423T011154Z
DTSTART:20240427T203000Z
DTEND:20240427T223000Z
LOCATION:Baseball Field 2
CONTACT:
SUMMARY:South Jersey Young Guns - Carolina (8) VS. Keystone Nationals White
  (4)
DESCRIPTION:League Name: Spring '24 April Classic Showdown - 12U, 4/26-4/28
 \nGame Type: Regular\nGame Status: Complete\nHome Team: South Jersey Young
  Guns - Carolina (8)\nAway Team: Keystone Nationals White (4)\nHome Score:
  2\nAway Score: 6
END:VEVENT
BEGIN:VEVENT
UID:15713384@ezleagues.ezfacility.com
DTSTAMP:20260423T011154Z
CREATED:20260423T011154Z
DTSTART:20240427T223000Z
DTEND:20240428T003000Z
LOCATION:Baseball Field 2
CONTACT:
SUMMARY:South Jersey Young Guns - Carolina (8) VS. Kings 12U (14)
DESCRIPTION:League Name: Spring '24 April Classic Showdown - 12U, 4/26-4/28
 \nGame Type: Regular\nGame Status: Complete\nHome Team: South Jersey Young
  Guns - Carolina (8)\nAway Team: Kings 12U (14)\nHome Score: 7\nAway Score
 : 6
END:VEVENT
BEGIN:VEVENT
UID:15713388@ezleagues.ezfacility.com
DTSTAMP:20260423T011154Z
CREATED:20260423T011154Z
DTSTART:20240428T181500Z
DTEND:20240428T201500Z
LOCATION:Baseball Field 2
CONTACT:
SUMMARY:PA Shockers 11/12U (1) VS. South Jersey Young Guns - Carolina (8)
DESCRIPTION:League Name: Spring '24 April Classic Showdown - 12U, 4/26-4/28
 \nGame Type: Regular\nGame Status: Complete\nHome Team: PA Shockers 11/12U
  (1)\nAway Team: South Jersey Young Guns - Carolina (8)\nHome Score: 16\nA
 way Score: 9
END:VEVENT
END:VCALENDAR
