BEGIN:VCALENDAR
VERSION:2.0
PRODID:-//EZFacility.com, Inc.//EZL 2.5.5.28621
BEGIN:VEVENT
UID:15719265@ezleagues.ezfacility.com
DTSTAMP:20260420T025937Z
CREATED:20260420T025937Z
DTSTART:20240427T005000Z
DTEND:20240427T014500Z
LOCATION:Field 2
CONTACT:Stojanovski
SUMMARY:Euro 2004 VS. AKFC
DESCRIPTION:League Name: Friday Over 35 (Spring - 2024)-Division 1\nGame Ty
 pe: Regular\nGame Status: Complete\nHome Team: Euro 2004\nAway Team: AKFC\
 nHome Score: 3\nAway Score: 5
END:VEVENT
BEGIN:VEVENT
UID:15726538@ezleagues.ezfacility.com
DTSTAMP:20260420T025937Z
CREATED:20260420T025937Z
DTSTART:20240504T014500Z
DTEND:20240504T024000Z
LOCATION:Field 1
CONTACT:Ferreira
SUMMARY:AKFC VS. Joga For Life
DESCRIPTION:League Name: Friday Over 35 (Spring - 2024)-Division 1\nGame Ty
 pe: Regular\nGame Status: Complete\nHome Team: AKFC\nAway Team: Joga For L
 ife\nHome Score: 3\nAway Score: 2
END:VEVENT
BEGIN:VEVENT
UID:15726542@ezleagues.ezfacility.com
DTSTAMP:20260420T025937Z
CREATED:20260420T025937Z
DTSTART:20240511T005000Z
DTEND:20240511T014500Z
LOCATION:Field 1
CONTACT:Ferreira
SUMMARY:AKFC VS. Hairitage F.C
DESCRIPTION:League Name: Friday Over 35 (Spring - 2024)-Division 1\nGame Ty
 pe: Regular\nGame Status: Complete\nHome Team: AKFC\nAway Team: Hairitage 
 F.C\nHome Score: 5\nAway Score: 3
END:VEVENT
BEGIN:VEVENT
UID:15726544@ezleagues.ezfacility.com
DTSTAMP:20260420T025937Z
CREATED:20260420T025937Z
DTSTART:20240531T000000Z
DTEND:20240531T010000Z
LOCATION:Field 1
CONTACT:Ferreira
SUMMARY:AKFC VS. Joga For Life
DESCRIPTION:League Name: Friday Over 35 (Spring - 2024)-Division 1\nGame Ty
 pe: Regular\nGame Status: Complete\nHome Team: AKFC\nAway Team: Joga For L
 ife\nHome Score: 3\nAway Score: 3
END:VEVENT
BEGIN:VEVENT
UID:15719266@ezleagues.ezfacility.com
DTSTAMP:20260420T025937Z
CREATED:20260420T025937Z
DTSTART:20240531T020000Z
DTEND:20240531T030000Z
LOCATION:Field 2
CONTACT:
SUMMARY:AKFC VS. Veteranos Fc
DESCRIPTION:League Name: Friday Over 35 (Spring - 2024)-Division 1\nGame Ty
 pe: Regular\nGame Status: Complete\nHome Team: AKFC\nAway Team: Veteranos 
 Fc\nHome Score: 2\nAway Score: 5
END:VEVENT
BEGIN:VEVENT
UID:15737216@ezleagues.ezfacility.com
DTSTAMP:20260420T025937Z
CREATED:20260420T025937Z
DTSTART:20240601T024000Z
DTEND:20240601T033500Z
LOCATION:Field 2
CONTACT:Formoso
SUMMARY:AKFC VS. Atenas
DESCRIPTION:League Name: Friday Over 35 (Spring - 2024)-Division 1\nGame Ty
 pe: Regular\nGame Status: Complete\nHome Team: AKFC\nAway Team: Atenas\nHo
 me Score: 2\nAway Score: 6
END:VEVENT
BEGIN:VEVENT
UID:15765886@ezleagues.ezfacility.com
DTSTAMP:20260420T025937Z
CREATED:20260420T025937Z
DTSTART:20240615T024000Z
DTEND:20240615T033500Z
LOCATION:Field 1
CONTACT:Ferreira
SUMMARY:AKFC VS. Joga For Life
DESCRIPTION:League Name: Friday Over 35 (Spring - 2024)-Division 1\nGame Ty
 pe: Postseason\nGame Status: Complete\nHome Team: AKFC\nAway Team: Joga Fo
 r Life\nHome Score: 2\nAway Score: 5
END:VEVENT
END:VCALENDAR
