BEGIN:VCALENDAR
VERSION:2.0
PRODID:-//EZFacility.com, Inc.//EZL 2.5.5.28621
BEGIN:VEVENT
UID:15735153@ezleagues.ezfacility.com
DTSTAMP:20260420T100456Z
CREATED:20260420T100456Z
DTSTART:20240514T031500Z
DTEND:20240514T041500Z
LOCATION:Field 1
CONTACT:
SUMMARY:Misfits VS. Deal With It
DESCRIPTION:League Name: 2024 S2 Mon E Coed Lite- May 13\nGame Type: Regula
 r\nGame Status: Complete\nHome Team: Misfits\nAway Team: Deal With It\nHom
 e Score: 9\nAway Score: 13
END:VEVENT
BEGIN:VEVENT
UID:15735154@ezleagues.ezfacility.com
DTSTAMP:20260420T100456Z
CREATED:20260420T100456Z
DTSTART:20240514T041500Z
DTEND:20240514T051500Z
LOCATION:Field 1
CONTACT:
SUMMARY:Deal With It VS. Misfits
DESCRIPTION:League Name: 2024 S2 Mon E Coed Lite- May 13\nGame Type: Regula
 r\nGame Status: Complete\nHome Team: Deal With It\nAway Team: Misfits\nHom
 e Score: 15\nAway Score: 29
END:VEVENT
BEGIN:VEVENT
UID:15735165@ezleagues.ezfacility.com
DTSTAMP:20260420T100456Z
CREATED:20260420T100456Z
DTSTART:20240521T031500Z
DTEND:20240521T041500Z
LOCATION:Field 3
CONTACT:
SUMMARY:Misfits VS. Andy Parker Real Estate
DESCRIPTION:League Name: 2024 S2 Mon E Coed Lite- May 13\nGame Type: Regula
 r\nGame Status: Complete\nHome Team: Misfits\nAway Team: Andy Parker Real 
 Estate\nHome Score: 19\nAway Score: 12
END:VEVENT
BEGIN:VEVENT
UID:15735166@ezleagues.ezfacility.com
DTSTAMP:20260420T100456Z
CREATED:20260420T100456Z
DTSTART:20240521T041500Z
DTEND:20240521T051500Z
LOCATION:Field 3
CONTACT:
SUMMARY:Andy Parker Real Estate VS. Misfits
DESCRIPTION:League Name: 2024 S2 Mon E Coed Lite- May 13\nGame Type: Regula
 r\nGame Status: Complete\nHome Team: Andy Parker Real Estate\nAway Team: M
 isfits\nHome Score: 14\nAway Score: 13
END:VEVENT
BEGIN:VEVENT
UID:15735187@ezleagues.ezfacility.com
DTSTAMP:20260420T100456Z
CREATED:20260420T100456Z
DTSTART:20240604T031500Z
DTEND:20240604T041500Z
LOCATION:Field 2
CONTACT:
SUMMARY:Ump Yours VS. Misfits
DESCRIPTION:League Name: 2024 S2 Mon E Coed Lite- May 13\nGame Type: Regula
 r\nGame Status: Complete\nHome Team: Ump Yours\nAway Team: Misfits\nHome S
 core: 13\nAway Score: 10
END:VEVENT
BEGIN:VEVENT
UID:15735188@ezleagues.ezfacility.com
DTSTAMP:20260420T100456Z
CREATED:20260420T100456Z
DTSTART:20240604T041500Z
DTEND:20240604T051500Z
LOCATION:Field 2
CONTACT:
SUMMARY:Misfits VS. Ump Yours
DESCRIPTION:League Name: 2024 S2 Mon E Coed Lite- May 13\nGame Type: Regula
 r\nGame Status: Complete\nHome Team: Misfits\nAway Team: Ump Yours\nHome S
 core: 14\nAway Score: 15
END:VEVENT
BEGIN:VEVENT
UID:15735201@ezleagues.ezfacility.com
DTSTAMP:20260420T100456Z
CREATED:20260420T100456Z
DTSTART:20240611T031500Z
DTEND:20240611T041500Z
LOCATION:Field 2
CONTACT:
SUMMARY:SNAFU VS. Misfits
DESCRIPTION:League Name: 2024 S2 Mon E Coed Lite- May 13\nGame Type: Regula
 r\nGame Status: Complete\nHome Team: SNAFU\nAway Team: Misfits\nHome Score
 : 19\nAway Score: 19
END:VEVENT
BEGIN:VEVENT
UID:15735202@ezleagues.ezfacility.com
DTSTAMP:20260420T100456Z
CREATED:20260420T100456Z
DTSTART:20240611T041500Z
DTEND:20240611T051500Z
LOCATION:Field 2
CONTACT:
SUMMARY:Misfits VS. SNAFU
DESCRIPTION:League Name: 2024 S2 Mon E Coed Lite- May 13\nGame Type: Regula
 r\nGame Status: Complete\nHome Team: Misfits\nAway Team: SNAFU\nHome Score
 : 12\nAway Score: 17
END:VEVENT
BEGIN:VEVENT
UID:15735213@ezleagues.ezfacility.com
DTSTAMP:20260420T100456Z
CREATED:20260420T100456Z
DTSTART:20240618T031500Z
DTEND:20240618T041500Z
LOCATION:Field 1
CONTACT:
SUMMARY:Misfits VS. Deal With It
DESCRIPTION:League Name: 2024 S2 Mon E Coed Lite- May 13\nGame Type: Regula
 r\nGame Status: Complete\nHome Team: Misfits\nAway Team: Deal With It\nHom
 e Score: 19\nAway Score: 18
END:VEVENT
BEGIN:VEVENT
UID:15735214@ezleagues.ezfacility.com
DTSTAMP:20260420T100456Z
CREATED:20260420T100456Z
DTSTART:20240618T041500Z
DTEND:20240618T051500Z
LOCATION:Field 1
CONTACT:
SUMMARY:Deal With It VS. Misfits
DESCRIPTION:League Name: 2024 S2 Mon E Coed Lite- May 13\nGame Type: Regula
 r\nGame Status: Complete\nHome Team: Deal With It\nAway Team: Misfits\nHom
 e Score: 14\nAway Score: 10
END:VEVENT
BEGIN:VEVENT
UID:15735175@ezleagues.ezfacility.com
DTSTAMP:20260420T100456Z
CREATED:20260420T100456Z
DTSTART:20240702T011500Z
DTEND:20240702T021500Z
LOCATION:Field 3
CONTACT:
SUMMARY:Misfits VS. Hot Mess
DESCRIPTION:League Name: 2024 S2 Mon E Coed Lite- May 13\nGame Type: Regula
 r\nGame Status: Complete\nHome Team: Misfits\nAway Team: Hot Mess\nHome Sc
 ore: 10\nAway Score: 5
END:VEVENT
BEGIN:VEVENT
UID:15735176@ezleagues.ezfacility.com
DTSTAMP:20260420T100456Z
CREATED:20260420T100456Z
DTSTART:20240702T021500Z
DTEND:20240702T031500Z
LOCATION:Field 3
CONTACT:
SUMMARY:Hot Mess VS. Misfits
DESCRIPTION:League Name: 2024 S2 Mon E Coed Lite- May 13\nGame Type: Regula
 r\nGame Status: Complete\nHome Team: Hot Mess\nAway Team: Misfits\nHome Sc
 ore: 9\nAway Score: 19
END:VEVENT
BEGIN:VEVENT
UID:15735225@ezleagues.ezfacility.com
DTSTAMP:20260420T100456Z
CREATED:20260420T100456Z
DTSTART:20240709T031500Z
DTEND:20240709T041500Z
LOCATION:Field 1
CONTACT:
SUMMARY:Misfits VS. Andy Parker Real Estate
DESCRIPTION:League Name: 2024 S2 Mon E Coed Lite- May 13\nGame Type: Regula
 r\nGame Status: Complete\nHome Team: Misfits\nAway Team: Andy Parker Real 
 Estate\nHome Score: 9\nAway Score: 8
END:VEVENT
BEGIN:VEVENT
UID:15735226@ezleagues.ezfacility.com
DTSTAMP:20260420T100456Z
CREATED:20260420T100456Z
DTSTART:20240709T041500Z
DTEND:20240709T051500Z
LOCATION:Field 1
CONTACT:
SUMMARY:Andy Parker Real Estate VS. Misfits
DESCRIPTION:League Name: 2024 S2 Mon E Coed Lite- May 13\nGame Type: Regula
 r\nGame Status: Complete\nHome Team: Andy Parker Real Estate\nAway Team: M
 isfits\nHome Score: 17\nAway Score: 18
END:VEVENT
BEGIN:VEVENT
UID:15816764@ezleagues.ezfacility.com
DTSTAMP:20260420T100456Z
CREATED:20260420T100456Z
DTSTART:20240716T011500Z
DTEND:20240716T021500Z
LOCATION:Field 3
CONTACT:
SUMMARY:SNAFU VS. Misfits
DESCRIPTION:League Name: 2024 S2 Mon E Coed Lite- May 13\nGame Type: Postse
 ason\nGame Status: Complete\nHome Team: SNAFU\nAway Team: Misfits\nHome Sc
 ore: 19\nAway Score: 3
END:VEVENT
END:VCALENDAR
