BEGIN:VCALENDAR
VERSION:2.0
PRODID:-//EZFacility.com, Inc.//EZL 2.5.5.28621
BEGIN:VEVENT
UID:15732904@ezleagues.ezfacility.com
DTSTAMP:20260422T084550Z
CREATED:20260422T084550Z
DTSTART:20240510T011500Z
DTEND:20240510T021500Z
LOCATION:Field 3
CONTACT:
SUMMARY:Assyrians VS. Toby’s boys
DESCRIPTION:League Name: 2024 S3 Thurs E Men's May 9\nGame Type: Regular\nG
 ame Status: Complete\nHome Team: Assyrians\nAway Team: Toby’s boys\nHome
  Score: 0\nAway Score: 7
END:VEVENT
BEGIN:VEVENT
UID:15732905@ezleagues.ezfacility.com
DTSTAMP:20260422T084550Z
CREATED:20260422T084550Z
DTSTART:20240510T021500Z
DTEND:20240510T031500Z
LOCATION:Field 3
CONTACT:
SUMMARY:Toby’s boys VS. Assyrians
DESCRIPTION:League Name: 2024 S3 Thurs E Men's May 9\nGame Type: Regular\nG
 ame Status: Complete\nHome Team: Toby’s boys\nAway Team: Assyrians\nHome
  Score: 7\nAway Score: 0
END:VEVENT
BEGIN:VEVENT
UID:15732924@ezleagues.ezfacility.com
DTSTAMP:20260422T084550Z
CREATED:20260422T084550Z
DTSTART:20240517T011500Z
DTEND:20240517T021500Z
LOCATION:Field 3
CONTACT:
SUMMARY:Diamond Kings VS. Toby’s boys
DESCRIPTION:League Name: 2024 S3 Thurs E Men's May 9\nGame Type: Regular\nG
 ame Status: Complete\nHome Team: Diamond Kings\nAway Team: Toby’s boys\n
 Home Score: 15\nAway Score: 13
END:VEVENT
BEGIN:VEVENT
UID:15732925@ezleagues.ezfacility.com
DTSTAMP:20260422T084550Z
CREATED:20260422T084550Z
DTSTART:20240517T021500Z
DTEND:20240517T031500Z
LOCATION:Field 3
CONTACT:
SUMMARY:Toby’s boys VS. Diamond Kings
DESCRIPTION:League Name: 2024 S3 Thurs E Men's May 9\nGame Type: Regular\nG
 ame Status: Complete\nHome Team: Toby’s boys\nAway Team: Diamond Kings\n
 Home Score: 12\nAway Score: 14
END:VEVENT
BEGIN:VEVENT
UID:15732936@ezleagues.ezfacility.com
DTSTAMP:20260422T084550Z
CREATED:20260422T084550Z
DTSTART:20240524T031500Z
DTEND:20240524T041500Z
LOCATION:Field 2
CONTACT:
SUMMARY:Toby’s boys VS. Batstreet Boys
DESCRIPTION:League Name: 2024 S3 Thurs E Men's May 9\nGame Type: Regular\nG
 ame Status: Complete\nHome Team: Toby’s boys\nAway Team: Batstreet Boys\
 nHome Score: 15\nAway Score: 16
END:VEVENT
BEGIN:VEVENT
UID:15732937@ezleagues.ezfacility.com
DTSTAMP:20260422T084550Z
CREATED:20260422T084550Z
DTSTART:20240524T041500Z
DTEND:20240524T051500Z
LOCATION:Field 2
CONTACT:
SUMMARY:Batstreet Boys VS. Toby’s boys
DESCRIPTION:League Name: 2024 S3 Thurs E Men's May 9\nGame Type: Regular\nG
 ame Status: Complete\nHome Team: Batstreet Boys\nAway Team: Toby’s boys\
 nHome Score: 8\nAway Score: 21
END:VEVENT
BEGIN:VEVENT
UID:15732956@ezleagues.ezfacility.com
DTSTAMP:20260422T084550Z
CREATED:20260422T084550Z
DTSTART:20240531T011500Z
DTEND:20240531T021500Z
LOCATION:Field 3
CONTACT:
SUMMARY:Toby’s boys VS. Sickness Squad
DESCRIPTION:League Name: 2024 S3 Thurs E Men's May 9\nGame Type: Regular\nG
 ame Status: Complete\nHome Team: Toby’s boys\nAway Team: Sickness Squad\
 nHome Score: 24\nAway Score: 7
END:VEVENT
BEGIN:VEVENT
UID:15732957@ezleagues.ezfacility.com
DTSTAMP:20260422T084550Z
CREATED:20260422T084550Z
DTSTART:20240531T021500Z
DTEND:20240531T031500Z
LOCATION:Field 3
CONTACT:
SUMMARY:Sickness Squad VS. Toby’s boys
DESCRIPTION:League Name: 2024 S3 Thurs E Men's May 9\nGame Type: Regular\nG
 ame Status: Complete\nHome Team: Sickness Squad\nAway Team: Toby’s boys\
 nHome Score: 13\nAway Score: 26
END:VEVENT
BEGIN:VEVENT
UID:15732968@ezleagues.ezfacility.com
DTSTAMP:20260422T084550Z
CREATED:20260422T084550Z
DTSTART:20240607T031500Z
DTEND:20240607T041500Z
LOCATION:Field 4
CONTACT:
SUMMARY:Toby’s boys VS. Bricked Up
DESCRIPTION:League Name: 2024 S3 Thurs E Men's May 9\nGame Type: Regular\nG
 ame Status: Complete\nHome Team: Toby’s boys\nAway Team: Bricked Up\nHom
 e Score: 18\nAway Score: 12
END:VEVENT
BEGIN:VEVENT
UID:15732969@ezleagues.ezfacility.com
DTSTAMP:20260422T084550Z
CREATED:20260422T084550Z
DTSTART:20240607T041500Z
DTEND:20240607T051500Z
LOCATION:Field 4
CONTACT:
SUMMARY:Bricked Up VS. Toby’s boys
DESCRIPTION:League Name: 2024 S3 Thurs E Men's May 9\nGame Type: Regular\nG
 ame Status: Complete\nHome Team: Bricked Up\nAway Team: Toby’s boys\nHom
 e Score: 13\nAway Score: 14
END:VEVENT
BEGIN:VEVENT
UID:15732988@ezleagues.ezfacility.com
DTSTAMP:20260422T084550Z
CREATED:20260422T084550Z
DTSTART:20240614T031500Z
DTEND:20240614T041500Z
LOCATION:Field 4
CONTACT:
SUMMARY:Toby’s boys VS. RKS PLUMBING
DESCRIPTION:League Name: 2024 S3 Thurs E Men's May 9\nGame Type: Regular\nG
 ame Status: Complete\nHome Team: Toby’s boys\nAway Team: RKS PLUMBING\nH
 ome Score: 22\nAway Score: 2
END:VEVENT
BEGIN:VEVENT
UID:15732989@ezleagues.ezfacility.com
DTSTAMP:20260422T084550Z
CREATED:20260422T084550Z
DTSTART:20240614T041500Z
DTEND:20240614T051500Z
LOCATION:Field 4
CONTACT:
SUMMARY:RKS PLUMBING VS. Toby’s boys
DESCRIPTION:League Name: 2024 S3 Thurs E Men's May 9\nGame Type: Regular\nG
 ame Status: Complete\nHome Team: RKS PLUMBING\nAway Team: Toby’s boys\nH
 ome Score: 7\nAway Score: 31
END:VEVENT
BEGIN:VEVENT
UID:15733004@ezleagues.ezfacility.com
DTSTAMP:20260422T084550Z
CREATED:20260422T084550Z
DTSTART:20240621T011500Z
DTEND:20240621T021500Z
LOCATION:Field 3
CONTACT:
SUMMARY:Inglorious Batters VS. Toby’s boys
DESCRIPTION:League Name: 2024 S3 Thurs E Men's May 9\nGame Type: Regular\nG
 ame Status: Complete\nHome Team: Inglorious Batters\nAway Team: Toby’s b
 oys\nHome Score: 13\nAway Score: 26
END:VEVENT
BEGIN:VEVENT
UID:15733005@ezleagues.ezfacility.com
DTSTAMP:20260422T084550Z
CREATED:20260422T084550Z
DTSTART:20240621T021500Z
DTEND:20240621T031500Z
LOCATION:Field 3
CONTACT:
SUMMARY:Toby’s boys VS. Inglorious Batters
DESCRIPTION:League Name: 2024 S3 Thurs E Men's May 9\nGame Type: Regular\nG
 ame Status: Complete\nHome Team: Toby’s boys\nAway Team: Inglorious Batt
 ers\nHome Score: 13\nAway Score: 16
END:VEVENT
BEGIN:VEVENT
UID:15796427@ezleagues.ezfacility.com
DTSTAMP:20260422T084550Z
CREATED:20260422T084550Z
DTSTART:20240628T011500Z
DTEND:20240628T021500Z
LOCATION:Field 2
CONTACT:
SUMMARY:Toby’s boys VS. Sickness Squad
DESCRIPTION:League Name: 2024 S3 Thurs E Men's May 9\nGame Type: Postseason
 \nGame Status: Complete\nHome Team: Toby’s boys\nAway Team: Sickness Squ
 ad\nHome Score: 19\nAway Score: 18
END:VEVENT
END:VCALENDAR
