BEGIN:VCALENDAR
VERSION:2.0
PRODID:-//EZFacility.com, Inc.//EZL 2.5.5.28621
BEGIN:VEVENT
UID:15809192@ezleagues.ezfacility.com
DTSTAMP:20260422T184417Z
CREATED:20260422T184417Z
DTSTART:20240719T030000Z
DTEND:20240719T040000Z
LOCATION:Arena
CONTACT:
SUMMARY:STP VS. FSU
DESCRIPTION:League Name: Women's Arena Soccer - Summer/Fall 2024\nGame Type
 : Regular\nGame Status: Complete\nHome Team: STP\nAway Team: FSU\nHome Sco
 re: 2\nAway Score: 7
END:VEVENT
BEGIN:VEVENT
UID:15809194@ezleagues.ezfacility.com
DTSTAMP:20260422T184417Z
CREATED:20260422T184417Z
DTSTART:20240726T030000Z
DTEND:20240726T040000Z
LOCATION:Arena
CONTACT:
SUMMARY:Black Mambas VS. STP
DESCRIPTION:League Name: Women's Arena Soccer - Summer/Fall 2024\nGame Type
 : Regular\nGame Status: Complete\nHome Team: Black Mambas\nAway Team: STP\
 nHome Score: 6\nAway Score: 4
END:VEVENT
BEGIN:VEVENT
UID:15809198@ezleagues.ezfacility.com
DTSTAMP:20260422T184417Z
CREATED:20260422T184417Z
DTSTART:20240802T020000Z
DTEND:20240802T030000Z
LOCATION:Arena
CONTACT:
SUMMARY:United VS. STP
DESCRIPTION:League Name: Women's Arena Soccer - Summer/Fall 2024\nGame Type
 : Regular\nGame Status: Complete\nHome Team: United\nAway Team: STP\nHome 
 Score: 9\nAway Score: 1
END:VEVENT
BEGIN:VEVENT
UID:15809202@ezleagues.ezfacility.com
DTSTAMP:20260422T184417Z
CREATED:20260422T184417Z
DTSTART:20240809T020000Z
DTEND:20240809T030000Z
LOCATION:Arena
CONTACT:
SUMMARY:Liverpool VS. STP
DESCRIPTION:League Name: Women's Arena Soccer - Summer/Fall 2024\nGame Type
 : Regular\nGame Status: Complete\nHome Team: Liverpool\nAway Team: STP\nHo
 me Score: 7\nAway Score: 1
END:VEVENT
BEGIN:VEVENT
UID:15809207@ezleagues.ezfacility.com
DTSTAMP:20260422T184417Z
CREATED:20260422T184417Z
DTSTART:20240823T020000Z
DTEND:20240823T030000Z
LOCATION:Arena
CONTACT:
SUMMARY:FSU VS. STP
DESCRIPTION:League Name: Women's Arena Soccer - Summer/Fall 2024\nGame Type
 : Regular\nGame Status: Complete\nHome Team: FSU\nAway Team: STP\nHome Sco
 re: 8\nAway Score: 3
END:VEVENT
BEGIN:VEVENT
UID:15809209@ezleagues.ezfacility.com
DTSTAMP:20260422T184417Z
CREATED:20260422T184417Z
DTSTART:20240830T020000Z
DTEND:20240830T030000Z
LOCATION:Arena
CONTACT:
SUMMARY:STP VS. Black Mambas
DESCRIPTION:League Name: Women's Arena Soccer - Summer/Fall 2024\nGame Type
 : Regular\nGame Status: Complete\nHome Team: STP\nAway Team: Black Mambas\
 nHome Score: 2\nAway Score: 10
END:VEVENT
BEGIN:VEVENT
UID:15809213@ezleagues.ezfacility.com
DTSTAMP:20260422T184417Z
CREATED:20260422T184417Z
DTSTART:20240906T020000Z
DTEND:20240906T030000Z
LOCATION:Arena
CONTACT:
SUMMARY:STP VS. United
DESCRIPTION:League Name: Women's Arena Soccer - Summer/Fall 2024\nGame Type
 : Regular\nGame Status: Complete\nHome Team: STP\nAway Team: United\nHome 
 Score: 2\nAway Score: 8
END:VEVENT
BEGIN:VEVENT
UID:15809222@ezleagues.ezfacility.com
DTSTAMP:20260422T184417Z
CREATED:20260422T184417Z
DTSTART:20240913T020000Z
DTEND:20240913T030000Z
LOCATION:Arena
CONTACT:
SUMMARY:FSU VS. STP
DESCRIPTION:League Name: Women's Arena Soccer - Summer/Fall 2024\nGame Type
 : Regular\nGame Status: Complete\nHome Team: FSU\nAway Team: STP\nHome Sco
 re: 4\nAway Score: 2
END:VEVENT
BEGIN:VEVENT
UID:15809224@ezleagues.ezfacility.com
DTSTAMP:20260422T184417Z
CREATED:20260422T184417Z
DTSTART:20240920T030000Z
DTEND:20240920T040000Z
LOCATION:Arena
CONTACT:
SUMMARY:STP VS. Black Mambas
DESCRIPTION:League Name: Women's Arena Soccer - Summer/Fall 2024\nGame Type
 : Regular\nGame Status: Complete\nHome Team: STP\nAway Team: Black Mambas\
 nHome Score: 3\nAway Score: 5
END:VEVENT
BEGIN:VEVENT
UID:15952656@ezleagues.ezfacility.com
DTSTAMP:20260422T184417Z
CREATED:20260422T184417Z
DTSTART:20241011T030000Z
DTEND:20241011T040000Z
LOCATION:Arena
CONTACT:
SUMMARY:STP VS. Liverpool
DESCRIPTION:League Name: Women's Arena Soccer - Summer/Fall 2024\nGame Type
 : Regular\nGame Status: Complete\nHome Team: STP\nAway Team: Liverpool\nHo
 me Score: 3\nAway Score: 11
END:VEVENT
BEGIN:VEVENT
UID:15973948@ezleagues.ezfacility.com
DTSTAMP:20260422T184417Z
CREATED:20260422T184417Z
DTSTART:20241018T020000Z
DTEND:20241018T030000Z
LOCATION:Arena
CONTACT:
SUMMARY:Black Mambas VS. STP
DESCRIPTION:League Name: Women's Arena Soccer - Summer/Fall 2024\nGame Type
 : Postseason\nGame Status: Complete\nHome Team: Black Mambas\nAway Team: S
 TP\nHome Score: 7\nAway Score: 3
END:VEVENT
END:VCALENDAR
