BEGIN:VCALENDAR
VERSION:2.0
PRODID:-//EZFacility.com, Inc.//EZL 2.5.5.28621
BEGIN:VEVENT
UID:15752019@ezleagues.ezfacility.com
DTSTAMP:20260420T230822Z
CREATED:20260420T230822Z
DTSTART:20240525T173500Z
DTEND:20240525T182500Z
LOCATION:Walsh Jesuit - Field 5
CONTACT:
SUMMARY:Revere B VS. Strongsville B
DESCRIPTION:League Name: NOLL Tournament 2024-3/4 Grade Boys\nGame Type: Re
 gular\nGame Status: Complete\nHome Team: Revere B\nAway Team: Strongsville
  B\nHome Score: 6\nAway Score: 6
END:VEVENT
BEGIN:VEVENT
UID:15752052@ezleagues.ezfacility.com
DTSTAMP:20260420T230822Z
CREATED:20260420T230822Z
DTSTART:20240525T194500Z
DTEND:20240525T203500Z
LOCATION:Walsh Jesuit - Field 5
CONTACT:
SUMMARY:Strongsville B VS. Copley B
DESCRIPTION:League Name: NOLL Tournament 2024-3/4 Grade Boys\nGame Type: Re
 gular\nGame Status: Cancelled\nHome Team: Strongsville B\nAway Team: Cople
 y B\n
END:VEVENT
BEGIN:VEVENT
UID:15752059@ezleagues.ezfacility.com
DTSTAMP:20260420T230822Z
CREATED:20260420T230822Z
DTSTART:20240525T205000Z
DTEND:20240525T214000Z
LOCATION:Walsh Jesuit - Field 4
CONTACT:
SUMMARY:Brecksville - Broadview Heights - B VS. Strongsville B
DESCRIPTION:League Name: NOLL Tournament 2024-3/4 Grade Boys\nGame Type: Re
 gular\nGame Status: Complete\nHome Team: Brecksville - Broadview Heights -
  B\nAway Team: Strongsville B\nHome Score: 6\nAway Score: 10
END:VEVENT
END:VCALENDAR
