BEGIN:VCALENDAR
VERSION:2.0
PRODID:-//EZFacility.com, Inc.//EZL 2.5.5.28621
BEGIN:VEVENT
UID:15752162@ezleagues.ezfacility.com
DTSTAMP:20260425T104150Z
CREATED:20260425T104150Z
DTSTART:20240526T130000Z
DTEND:20240526T135000Z
LOCATION:Walsh Jesuit - Field 5
CONTACT:
SUMMARY:Avon VS. Copley
DESCRIPTION:League Name: NOLL Tournament 2024-3/4 Grade Girls\nGame Type: R
 egular\nGame Status: Complete\nHome Team: Avon\nAway Team: Copley\nHome Sc
 ore: 15\nAway Score: 21
END:VEVENT
BEGIN:VEVENT
UID:15752165@ezleagues.ezfacility.com
DTSTAMP:20260425T104150Z
CREATED:20260425T104150Z
DTSTART:20240526T145000Z
DTEND:20240526T154000Z
LOCATION:Walsh Jesuit - Field 1
CONTACT:
SUMMARY:Brunswick VS. Copley
DESCRIPTION:League Name: NOLL Tournament 2024-3/4 Grade Girls\nGame Type: R
 egular\nGame Status: Complete\nHome Team: Brunswick\nAway Team: Copley\nHo
 me Score: 13\nAway Score: 18
END:VEVENT
BEGIN:VEVENT
UID:15752171@ezleagues.ezfacility.com
DTSTAMP:20260425T104150Z
CREATED:20260425T104150Z
DTSTART:20240526T164000Z
DTEND:20240526T173000Z
LOCATION:Walsh Jesuit - Field 2
CONTACT:
SUMMARY:Avon Lake VS. Copley
DESCRIPTION:League Name: NOLL Tournament 2024-3/4 Grade Girls\nGame Type: R
 egular\nGame Status: Complete\nHome Team: Avon Lake\nAway Team: Copley\nHo
 me Score: 17\nAway Score: 13
END:VEVENT
END:VCALENDAR
