BEGIN:VCALENDAR
VERSION:2.0
PRODID:-//EZFacility.com, Inc.//EZL 2.5.5.28621
BEGIN:VEVENT
UID:15752280@ezleagues.ezfacility.com
DTSTAMP:20260420T053927Z
CREATED:20260420T053927Z
DTSTART:20240526T130000Z
DTEND:20240526T135000Z
LOCATION:Medina - Field 5
CONTACT:
SUMMARY:Avon VS. Highland
DESCRIPTION:League Name: NOLL Tournament 2024-5/6 Grade Boys\nGame Type: Re
 gular\nGame Status: Complete\nHome Team: Avon\nAway Team: Highland\nHome S
 core: 7\nAway Score: 1
END:VEVENT
BEGIN:VEVENT
UID:15752288@ezleagues.ezfacility.com
DTSTAMP:20260420T053927Z
CREATED:20260420T053927Z
DTSTART:20240526T145000Z
DTEND:20240526T154000Z
LOCATION:Medina - Field 5
CONTACT:
SUMMARY:Highland VS. Bay Village
DESCRIPTION:League Name: NOLL Tournament 2024-5/6 Grade Boys\nGame Type: Re
 gular\nGame Status: Complete\nHome Team: Highland\nAway Team: Bay Village\
 nHome Score: 8\nAway Score: 2
END:VEVENT
BEGIN:VEVENT
UID:15752347@ezleagues.ezfacility.com
DTSTAMP:20260420T053927Z
CREATED:20260420T053927Z
DTSTART:20240526T164000Z
DTEND:20240526T173000Z
LOCATION:Medina - Field 6
CONTACT:
SUMMARY:Olmsted Falls VS. Highland
DESCRIPTION:League Name: NOLL Tournament 2024-5/6 Grade Boys\nGame Type: Re
 gular\nGame Status: Complete\nHome Team: Olmsted Falls\nAway Team: Highlan
 d\nHome Score: 5\nAway Score: 1
END:VEVENT
END:VCALENDAR
