BEGIN:VCALENDAR
VERSION:2.0
PRODID:-//EZFacility.com, Inc.//EZL 2.5.5.28621
BEGIN:VEVENT
UID:15753466@ezleagues.ezfacility.com
DTSTAMP:20260426T035138Z
CREATED:20260426T035138Z
DTSTART:20240526T130000Z
DTEND:20240526T135000Z
LOCATION:Walsh Jesuit - Field 1
CONTACT:
SUMMARY:Hudson White VS. Wadsworth
DESCRIPTION:League Name: NOLL Tournament 2024-3/4 Girls Championship\nGame 
 Type: Regular\nGame Status: Complete\nHome Team: Hudson White\nAway Team: 
 Wadsworth\nHome Score: 26\nAway Score: 23
END:VEVENT
BEGIN:VEVENT
UID:15753526@ezleagues.ezfacility.com
DTSTAMP:20260426T035138Z
CREATED:20260426T035138Z
DTSTART:20240526T135500Z
DTEND:20240526T144500Z
LOCATION:Walsh Jesuit - Field 1
CONTACT:
SUMMARY:Medina VS. Hudson White
DESCRIPTION:League Name: NOLL Tournament 2024-3/4 Girls Championship\nGame 
 Type: Regular\nGame Status: Complete\nHome Team: Medina\nAway Team: Hudson
  White\nHome Score: 13\nAway Score: 12
END:VEVENT
BEGIN:VEVENT
UID:15753532@ezleagues.ezfacility.com
DTSTAMP:20260426T035138Z
CREATED:20260426T035138Z
DTSTART:20240526T154500Z
DTEND:20240526T163500Z
LOCATION:Walsh Jesuit - Field 3
CONTACT:
SUMMARY:North Canton VS. Hudson White
DESCRIPTION:League Name: NOLL Tournament 2024-3/4 Girls Championship\nGame 
 Type: Regular\nGame Status: Complete\nHome Team: North Canton\nAway Team: 
 Hudson White\nHome Score: 14\nAway Score: 13
END:VEVENT
BEGIN:VEVENT
UID:15753536@ezleagues.ezfacility.com
DTSTAMP:20260426T035138Z
CREATED:20260426T035138Z
DTSTART:20240526T173500Z
DTEND:20240526T182500Z
LOCATION:Walsh Jesuit - Field 3
CONTACT:
SUMMARY:Hudson White VS. Hudson Blue
DESCRIPTION:League Name: NOLL Tournament 2024-3/4 Girls Championship\nGame 
 Type: Regular\nGame Status: Complete\nHome Team: Hudson White\nAway Team: 
 Hudson Blue\nHome Score: 22\nAway Score: 19
END:VEVENT
END:VCALENDAR
