BEGIN:VCALENDAR
VERSION:2.0
PRODID:-//EZFacility.com, Inc.//EZL 2.5.5.28621
BEGIN:VEVENT
UID:15774316@ezleagues.ezfacility.com
DTSTAMP:20260421T190427Z
CREATED:20260421T190427Z
DTSTART:20211014T000000Z
DTEND:20211014T010000Z
LOCATION:Field 3
CONTACT:
SUMMARY:Toronto FC VS. Monarcas
DESCRIPTION:League Name: WS Futbol Sala Sunday Men's League Spring 2024\nGa
 me Type: Regular\nGame Status: Complete\nHome Team: Toronto FC\nAway Team:
  Monarcas\nHome Score: 10\nAway Score: 0
END:VEVENT
BEGIN:VEVENT
UID:15774272@ezleagues.ezfacility.com
DTSTAMP:20260421T190427Z
CREATED:20260421T190427Z
DTSTART:20211103T230000Z
DTEND:20211104T000000Z
LOCATION:Field 1
CONTACT:
SUMMARY:Toronto FC VS. Manchester United
DESCRIPTION:League Name: WS Futbol Sala Sunday Men's League Spring 2024\nGa
 me Type: Regular\nGame Status: Complete\nHome Team: Toronto FC\nAway Team:
  Manchester United\nHome Score: 10\nAway Score: 0
END:VEVENT
BEGIN:VEVENT
UID:15774305@ezleagues.ezfacility.com
DTSTAMP:20260421T190427Z
CREATED:20260421T190427Z
DTSTART:20211103T230000Z
DTEND:20211104T000000Z
LOCATION:Field 1
CONTACT:
SUMMARY:Toronto FC VS. Morelia
DESCRIPTION:League Name: WS Futbol Sala Sunday Men's League Spring 2024\nGa
 me Type: Regular\nGame Status: Complete\nHome Team: Toronto FC\nAway Team:
  Morelia\nHome Score: 9\nAway Score: 20
END:VEVENT
BEGIN:VEVENT
UID:16065323@ezleagues.ezfacility.com
DTSTAMP:20260421T190427Z
CREATED:20260421T190427Z
DTSTART:20211117T230000Z
DTEND:20211118T000000Z
LOCATION:Field 3
CONTACT:
SUMMARY:Toronto FC VS. Inter Continental FC
DESCRIPTION:League Name: WS Futbol Sala Sunday Men's League Spring 2024\nGa
 me Type: Postseason\nGame Status: Complete\nHome Team: Toronto FC\nAway Te
 am: Inter Continental FC\nHome Score: 0\nAway Score: 10
END:VEVENT
BEGIN:VEVENT
UID:15774190@ezleagues.ezfacility.com
DTSTAMP:20260421T190427Z
CREATED:20260421T190427Z
DTSTART:20240610T000000Z
DTEND:20240610T010000Z
LOCATION:Field 1
CONTACT:
SUMMARY:El Salvador  VS. Toronto FC
DESCRIPTION:League Name: WS Futbol Sala Sunday Men's League Spring 2024\nGa
 me Type: Regular\nGame Status: Complete\nHome Team: El Salvador \nAway Tea
 m: Toronto FC\nHome Score: 11\nAway Score: 11
END:VEVENT
BEGIN:VEVENT
UID:15774228@ezleagues.ezfacility.com
DTSTAMP:20260421T190427Z
CREATED:20260421T190427Z
DTSTART:20240616T230000Z
DTEND:20240617T000000Z
LOCATION:Field 2
CONTACT:
SUMMARY:Toronto FC VS. Deportivo San Luis
DESCRIPTION:League Name: WS Futbol Sala Sunday Men's League Spring 2024\nGa
 me Type: Regular\nGame Status: Complete\nHome Team: Toronto FC\nAway Team:
  Deportivo San Luis\nHome Score: 9\nAway Score: 15
END:VEVENT
BEGIN:VEVENT
UID:15774208@ezleagues.ezfacility.com
DTSTAMP:20260421T190427Z
CREATED:20260421T190427Z
DTSTART:20240624T000000Z
DTEND:20240624T010000Z
LOCATION:Field 1
CONTACT:
SUMMARY:La Roca Church VS. Toronto FC
DESCRIPTION:League Name: WS Futbol Sala Sunday Men's League Spring 2024\nGa
 me Type: Regular\nGame Status: Complete\nHome Team: La Roca Church\nAway T
 eam: Toronto FC\nHome Score: 7\nAway Score: 10
END:VEVENT
BEGIN:VEVENT
UID:15774217@ezleagues.ezfacility.com
DTSTAMP:20260421T190427Z
CREATED:20260421T190427Z
DTSTART:20240701T010000Z
DTEND:20240701T020000Z
LOCATION:Field 2
CONTACT:
SUMMARY:Toronto FC VS. Alto Riesgo
DESCRIPTION:League Name: WS Futbol Sala Sunday Men's League Spring 2024\nGa
 me Type: Regular\nGame Status: Complete\nHome Team: Toronto FC\nAway Team:
  Alto Riesgo\nHome Score: 12\nAway Score: 5
END:VEVENT
BEGIN:VEVENT
UID:15774353@ezleagues.ezfacility.com
DTSTAMP:20260421T190427Z
CREATED:20260421T190427Z
DTSTART:20240909T000000Z
DTEND:20240909T010000Z
LOCATION:Field 2
CONTACT:
SUMMARY:Saint FC VS. Toronto FC
DESCRIPTION:League Name: WS Futbol Sala Sunday Men's League Spring 2024\nGa
 me Type: Regular\nGame Status: Complete\nHome Team: Saint FC\nAway Team: T
 oronto FC\nHome Score: 16\nAway Score: 12
END:VEVENT
BEGIN:VEVENT
UID:15774335@ezleagues.ezfacility.com
DTSTAMP:20260421T190427Z
CREATED:20260421T190427Z
DTSTART:20240916T000000Z
DTEND:20240916T010000Z
LOCATION:Field 3
CONTACT:
SUMMARY:Tehuipango VS. Toronto FC
DESCRIPTION:League Name: WS Futbol Sala Sunday Men's League Spring 2024\nGa
 me Type: Regular\nGame Status: Complete\nHome Team: Tehuipango\nAway Team:
  Toronto FC\nHome Score: 14\nAway Score: 3
END:VEVENT
BEGIN:VEVENT
UID:15774344@ezleagues.ezfacility.com
DTSTAMP:20260421T190427Z
CREATED:20260421T190427Z
DTSTART:20240922T230000Z
DTEND:20240923T000000Z
LOCATION:Field 2
CONTACT:
SUMMARY:Mysticos VS. Toronto FC
DESCRIPTION:League Name: WS Futbol Sala Sunday Men's League Spring 2024\nGa
 me Type: Regular\nGame Status: Complete\nHome Team: Mysticos\nAway Team: T
 oronto FC\nHome Score: 13\nAway Score: 8
END:VEVENT
BEGIN:VEVENT
UID:15774326@ezleagues.ezfacility.com
DTSTAMP:20260421T190427Z
CREATED:20260421T190427Z
DTSTART:20241007T000000Z
DTEND:20241007T010000Z
LOCATION:Field 3
CONTACT:
SUMMARY:Inter Continental FC VS. Toronto FC
DESCRIPTION:League Name: WS Futbol Sala Sunday Men's League Spring 2024\nGa
 me Type: Regular\nGame Status: Complete\nHome Team: Inter Continental FC\n
 Away Team: Toronto FC\nHome Score: 15\nAway Score: 10
END:VEVENT
BEGIN:VEVENT
UID:15774181@ezleagues.ezfacility.com
DTSTAMP:20260421T190427Z
CREATED:20260421T190427Z
DTSTART:20241014T000000Z
DTEND:20241014T010000Z
LOCATION:Field 3
CONTACT:
SUMMARY:Pachuca  VS. Toronto FC
DESCRIPTION:League Name: WS Futbol Sala Sunday Men's League Spring 2024\nGa
 me Type: Regular\nGame Status: Complete\nHome Team: Pachuca \nAway Team: T
 oronto FC\nHome Score: 5\nAway Score: 7
END:VEVENT
BEGIN:VEVENT
UID:15774239@ezleagues.ezfacility.com
DTSTAMP:20260421T190427Z
CREATED:20260421T190427Z
DTSTART:20241020T210000Z
DTEND:20241020T220000Z
LOCATION:Field 2
CONTACT:
SUMMARY:Toronto FC VS. Wolves FC
DESCRIPTION:League Name: WS Futbol Sala Sunday Men's League Spring 2024\nGa
 me Type: Regular\nGame Status: Complete\nHome Team: Toronto FC\nAway Team:
  Wolves FC\nHome Score: 7\nAway Score: 19
END:VEVENT
BEGIN:VEVENT
UID:15774362@ezleagues.ezfacility.com
DTSTAMP:20260421T190427Z
CREATED:20260421T190427Z
DTSTART:20241104T010000Z
DTEND:20241104T020000Z
LOCATION:Field 2
CONTACT:
SUMMARY:Inter Mexico VS. Toronto FC
DESCRIPTION:League Name: WS Futbol Sala Sunday Men's League Spring 2024\nGa
 me Type: Regular\nGame Status: Complete\nHome Team: Inter Mexico\nAway Tea
 m: Toronto FC\nHome Score: 18\nAway Score: 13
END:VEVENT
END:VCALENDAR
