BEGIN:VCALENDAR
VERSION:2.0
PRODID:-//EZFacility.com, Inc.//EZL 2.5.5.28621
BEGIN:VEVENT
UID:15764283@ezleagues.ezfacility.com
DTSTAMP:20260426T033830Z
CREATED:20260426T033830Z
DTSTART:20240602T220000Z
DTEND:20240602T225500Z
LOCATION:Field 1
CONTACT:Landero Estrada
SUMMARY:Reds VS. Goal Diggers
DESCRIPTION:League Name: Sunday, June 2, 2024 Women's Over 40\nGame Type: R
 egular\nGame Status: Complete\nHome Team: Reds\nAway Team: Goal Diggers\nH
 ome Score: 8\nAway Score: 3
END:VEVENT
BEGIN:VEVENT
UID:15773713@ezleagues.ezfacility.com
DTSTAMP:20260426T033830Z
CREATED:20260426T033830Z
DTSTART:20240616T225500Z
DTEND:20240616T235000Z
LOCATION:Field 1
CONTACT:Jones
SUMMARY:Goal Diggers VS. Royals
DESCRIPTION:League Name: Sunday, June 2, 2024 Women's Over 40\nGame Type: R
 egular\nGame Status: Complete\nHome Team: Goal Diggers\nAway Team: Royals\
 nHome Score: 7\nAway Score: 5
END:VEVENT
BEGIN:VEVENT
UID:15773717@ezleagues.ezfacility.com
DTSTAMP:20260426T033830Z
CREATED:20260426T033830Z
DTSTART:20240623T225000Z
DTEND:20240623T234500Z
LOCATION:Field 1
CONTACT:Bachir
SUMMARY:Greenday VS. Goal Diggers
DESCRIPTION:League Name: Sunday, June 2, 2024 Women's Over 40\nGame Type: R
 egular\nGame Status: Complete\nHome Team: Greenday\nAway Team: Goal Digger
 s\nHome Score: 0\nAway Score: 10
END:VEVENT
BEGIN:VEVENT
UID:15773721@ezleagues.ezfacility.com
DTSTAMP:20260426T033830Z
CREATED:20260426T033830Z
DTSTART:20240630T235000Z
DTEND:20240701T004500Z
LOCATION:Field 1
CONTACT:Kilcarr
SUMMARY:Storm VS. Goal Diggers
DESCRIPTION:League Name: Sunday, June 2, 2024 Women's Over 40\nGame Type: R
 egular\nGame Status: Complete\nHome Team: Storm\nAway Team: Goal Diggers\n
 Home Score: 3\nAway Score: 8
END:VEVENT
BEGIN:VEVENT
UID:15773723@ezleagues.ezfacility.com
DTSTAMP:20260426T033830Z
CREATED:20260426T033830Z
DTSTART:20240707T225500Z
DTEND:20240707T235000Z
LOCATION:Field 1
CONTACT:Kilcarr
SUMMARY:Goal Diggers VS. WWWD
DESCRIPTION:League Name: Sunday, June 2, 2024 Women's Over 40\nGame Type: R
 egular\nGame Status: Complete\nHome Team: Goal Diggers\nAway Team: WWWD\nH
 ome Score: 14\nAway Score: 4
END:VEVENT
BEGIN:VEVENT
UID:15773726@ezleagues.ezfacility.com
DTSTAMP:20260426T033830Z
CREATED:20260426T033830Z
DTSTART:20240721T235000Z
DTEND:20240722T004500Z
LOCATION:Field 1
CONTACT:Jones
SUMMARY:Goal Diggers VS. Buzz Kill
DESCRIPTION:League Name: Sunday, June 2, 2024 Women's Over 40\nGame Type: R
 egular\nGame Status: Complete\nHome Team: Goal Diggers\nAway Team: Buzz Ki
 ll\nHome Score: 8\nAway Score: 11
END:VEVENT
BEGIN:VEVENT
UID:15773732@ezleagues.ezfacility.com
DTSTAMP:20260426T033830Z
CREATED:20260426T033830Z
DTSTART:20240728T220000Z
DTEND:20240728T225500Z
LOCATION:Field 1
CONTACT:Landero Estrada
SUMMARY:WWWD VS. Goal Diggers
DESCRIPTION:League Name: Sunday, June 2, 2024 Women's Over 40\nGame Type: P
 ostseason\nGame Status: Complete\nHome Team: WWWD\nAway Team: Goal Diggers
 \nHome Score: 5\nAway Score: 13
END:VEVENT
BEGIN:VEVENT
UID:15773764@ezleagues.ezfacility.com
DTSTAMP:20260426T033830Z
CREATED:20260426T033830Z
DTSTART:20240728T234500Z
DTEND:20240729T004000Z
LOCATION:Field 1
CONTACT:Landero Estrada
SUMMARY:Goal Diggers VS. Reds
DESCRIPTION:League Name: Sunday, June 2, 2024 Women's Over 40\nGame Type: R
 egular\nGame Status: Complete\nHome Team: Goal Diggers\nAway Team: Reds\nH
 ome Score: 5\nAway Score: 4
END:VEVENT
BEGIN:VEVENT
UID:15773763@ezleagues.ezfacility.com
DTSTAMP:20260426T033830Z
CREATED:20260426T033830Z
DTSTART:20240804T220000Z
DTEND:20240804T225500Z
LOCATION:Field 1
CONTACT:Jones
SUMMARY:Buzz Kill VS. Goal Diggers
DESCRIPTION:League Name: Sunday, June 2, 2024 Women's Over 40\nGame Type: P
 ostseason\nGame Status: Complete\nHome Team: Buzz Kill\nAway Team: Goal Di
 ggers\nHome Score: 4\nAway Score: 5
END:VEVENT
END:VCALENDAR
