BEGIN:VCALENDAR
VERSION:2.0
PRODID:-//EZFacility.com, Inc.//EZL 2.5.5.28621
BEGIN:VEVENT
UID:15788232@ezleagues.ezfacility.com
DTSTAMP:20260426T033545Z
CREATED:20260426T033545Z
DTSTART:20240619T040000Z
DTEND:20240619T050000Z
LOCATION:Field 2
CONTACT:
SUMMARY:A.C. Babylon VS. Aguilas de Patterson
DESCRIPTION:League Name: Mens Over 35\nGame Type: Regular\nGame Status: Com
 plete\nHome Team: A.C. Babylon\nAway Team: Aguilas de Patterson\nHome Scor
 e: 13\nAway Score: 0
END:VEVENT
BEGIN:VEVENT
UID:15788239@ezleagues.ezfacility.com
DTSTAMP:20260426T033545Z
CREATED:20260426T033545Z
DTSTART:20240626T030000Z
DTEND:20240626T040000Z
LOCATION:Field 1
CONTACT:
SUMMARY:La Ruana VS. Aguilas de Patterson
DESCRIPTION:League Name: Mens Over 35\nGame Type: Regular\nGame Status: Com
 plete\nHome Team: La Ruana\nAway Team: Aguilas de Patterson\nHome Score: 1
 1\nAway Score: 2
END:VEVENT
BEGIN:VEVENT
UID:15788246@ezleagues.ezfacility.com
DTSTAMP:20260426T033545Z
CREATED:20260426T033545Z
DTSTART:20240703T020000Z
DTEND:20240703T030000Z
LOCATION:Field 2
CONTACT:
SUMMARY:Aguilas de Patterson VS. El Tapatio F.C.
DESCRIPTION:League Name: Mens Over 35\nGame Type: Regular\nGame Status: Com
 plete\nHome Team: Aguilas de Patterson\nAway Team: El Tapatio F.C.\nHome S
 core: 0\nAway Score: 8
END:VEVENT
BEGIN:VEVENT
UID:15788253@ezleagues.ezfacility.com
DTSTAMP:20260426T033545Z
CREATED:20260426T033545Z
DTSTART:20240710T010000Z
DTEND:20240710T020000Z
LOCATION:Field 1
CONTACT:
SUMMARY:Aguilas de Patterson VS. Nayarit
DESCRIPTION:League Name: Mens Over 35\nGame Type: Regular\nGame Status: Com
 plete\nHome Team: Aguilas de Patterson\nAway Team: Nayarit\nHome Score: 4\
 nAway Score: 10
END:VEVENT
BEGIN:VEVENT
UID:15788260@ezleagues.ezfacility.com
DTSTAMP:20260426T033545Z
CREATED:20260426T033545Z
DTSTART:20240717T030000Z
DTEND:20240717T040000Z
LOCATION:Field 2
CONTACT:
SUMMARY:Aguilas de Patterson VS. El azteca
DESCRIPTION:League Name: Mens Over 35\nGame Type: Regular\nGame Status: Com
 plete\nHome Team: Aguilas de Patterson\nAway Team: El azteca\nHome Score: 
 1\nAway Score: 14
END:VEVENT
BEGIN:VEVENT
UID:15788267@ezleagues.ezfacility.com
DTSTAMP:20260426T033545Z
CREATED:20260426T033545Z
DTSTART:20240724T020000Z
DTEND:20240724T030000Z
LOCATION:Field 1
CONTACT:
SUMMARY:Benfica VS. Aguilas de Patterson
DESCRIPTION:League Name: Mens Over 35\nGame Type: Regular\nGame Status: Com
 plete\nHome Team: Benfica\nAway Team: Aguilas de Patterson\nHome Score: 0\
 nAway Score: 5
END:VEVENT
BEGIN:VEVENT
UID:15788274@ezleagues.ezfacility.com
DTSTAMP:20260426T033545Z
CREATED:20260426T033545Z
DTSTART:20240731T040000Z
DTEND:20240731T050000Z
LOCATION:Field 1
CONTACT:
SUMMARY:La Concia VS. Aguilas de Patterson
DESCRIPTION:League Name: Mens Over 35\nGame Type: Regular\nGame Status: Com
 plete\nHome Team: La Concia\nAway Team: Aguilas de Patterson\nHome Score: 
 14\nAway Score: 0
END:VEVENT
BEGIN:VEVENT
UID:15788281@ezleagues.ezfacility.com
DTSTAMP:20260426T033545Z
CREATED:20260426T033545Z
DTSTART:20240807T020000Z
DTEND:20240807T030000Z
LOCATION:Field 2
CONTACT:
SUMMARY:Aguilas de Patterson VS. Cuervos F.C.
DESCRIPTION:League Name: Mens Over 35\nGame Type: Regular\nGame Status: Com
 plete\nHome Team: Aguilas de Patterson\nAway Team: Cuervos F.C.\nHome Scor
 e: 2\nAway Score: 7
END:VEVENT
END:VCALENDAR
