BEGIN:VCALENDAR
VERSION:2.0
PRODID:-//EZFacility.com, Inc.//EZL 2.5.5.28621
BEGIN:VEVENT
UID:15781260@ezleagues.ezfacility.com
DTSTAMP:20260420T082635Z
CREATED:20260420T082635Z
DTSTART:20240612T081500Z
DTEND:20240612T085500Z
LOCATION:4 El Madrigal
CONTACT:
SUMMARY:Mickey's Men VS. Baaled Ballers
DESCRIPTION:League Name: Wednesday Winter Non comp\nGame Type: Friendly\nGa
 me Status: Complete\nHome Team: Mickey's Men\nAway Team: Baaled Ballers\nH
 ome Score: 6\nAway Score: 6
END:VEVENT
END:VCALENDAR
