BEGIN:VCALENDAR
VERSION:2.0
PRODID:-//EZFacility.com, Inc.//EZL 2.5.5.28621
BEGIN:VEVENT
UID:15789192@ezleagues.ezfacility.com
DTSTAMP:20260424T044211Z
CREATED:20260424T044211Z
DTSTART:20240621T220000Z
DTEND:20240622T000000Z
LOCATION:Baseball Field 1 
CONTACT:
SUMMARY:Bell Ringers - Blue (4) VS. Powerballers (12)
DESCRIPTION:League Name: Summer '24 Field of Dreams - 13U, 6/21-6/23\nGame 
 Type: Regular\nGame Status: Complete\nHome Team: Bell Ringers - Blue (4)\n
 Away Team: Powerballers (12)\nHome Score: 5\nAway Score: 4
END:VEVENT
BEGIN:VEVENT
UID:15789199@ezleagues.ezfacility.com
DTSTAMP:20260424T044211Z
CREATED:20260424T044211Z
DTSTART:20240622T161500Z
DTEND:20240622T181500Z
LOCATION:Baseball Field 3
CONTACT:
SUMMARY:Powerballers (12) VS. Pro Skills 13U (6)
DESCRIPTION:League Name: Summer '24 Field of Dreams - 13U, 6/21-6/23\nGame 
 Type: Regular\nGame Status: Complete\nHome Team: Powerballers (12)\nAway T
 eam: Pro Skills 13U (6)\nHome Score: 9\nAway Score: 10
END:VEVENT
BEGIN:VEVENT
UID:15788425@ezleagues.ezfacility.com
DTSTAMP:20260424T044211Z
CREATED:20260424T044211Z
DTSTART:20240623T120000Z
DTEND:20240623T140000Z
LOCATION:Baseball Field 1 
CONTACT:
SUMMARY:Ascent Athlete - 2029 National (11) VS. Powerballers (12)
DESCRIPTION:League Name: Summer '24 Field of Dreams - 13U, 6/21-6/23\nGame 
 Type: Regular\nGame Status: Complete\nHome Team: Ascent Athlete - 2029 Nat
 ional (11)\nAway Team: Powerballers (12)\nHome Score: 9\nAway Score: 6
END:VEVENT
END:VCALENDAR
