BEGIN:VCALENDAR
VERSION:2.0
PRODID:-//EZFacility.com, Inc.//EZL 2.5.5.28621
BEGIN:VEVENT
UID:15806729@ezleagues.ezfacility.com
DTSTAMP:20260424T044302Z
CREATED:20260424T044302Z
DTSTART:20210831T003000Z
DTEND:20210831T013000Z
LOCATION:SOAR Mini Class
CONTACT:
SUMMARY:Yadkin FC VS. Aguas Caliente
DESCRIPTION:League Name: WS Futbol Sala Friday Outdoor League Group 2 Fall 
 2024\nGame Type: Regular\nGame Status: Complete\nHome Team: Yadkin FC\nAwa
 y Team: Aguas Caliente\nHome Score: 3\nAway Score: 0
END:VEVENT
BEGIN:VEVENT
UID:15806741@ezleagues.ezfacility.com
DTSTAMP:20260424T044302Z
CREATED:20260424T044302Z
DTSTART:20211025T233000Z
DTEND:20211026T003000Z
LOCATION:Ashley Deck
CONTACT:
SUMMARY:Real FC VS. Aguas Caliente
DESCRIPTION:League Name: WS Futbol Sala Friday Outdoor League Group 2 Fall 
 2024\nGame Type: Regular\nGame Status: Complete\nHome Team: Real FC\nAway 
 Team: Aguas Caliente\nHome Score: 3\nAway Score: 0
END:VEVENT
BEGIN:VEVENT
UID:15806747@ezleagues.ezfacility.com
DTSTAMP:20260424T044302Z
CREATED:20260424T044302Z
DTSTART:20211102T003000Z
DTEND:20211102T013000Z
LOCATION:Ashley Lounge
CONTACT:
SUMMARY:Aguas Caliente VS. Mexico United
DESCRIPTION:League Name: WS Futbol Sala Friday Outdoor League Group 2 Fall 
 2024\nGame Type: Regular\nGame Status: Complete\nHome Team: Aguas Caliente
 \nAway Team: Mexico United\nHome Score: 3\nAway Score: 0
END:VEVENT
BEGIN:VEVENT
UID:15806735@ezleagues.ezfacility.com
DTSTAMP:20260424T044302Z
CREATED:20260424T044302Z
DTSTART:20211116T003000Z
DTEND:20211116T013000Z
LOCATION:Conference Room
CONTACT:
SUMMARY:Starboys FC VS. Aguas Caliente
DESCRIPTION:League Name: WS Futbol Sala Friday Outdoor League Group 2 Fall 
 2024\nGame Type: Regular\nGame Status: Complete\nHome Team: Starboys FC\nA
 way Team: Aguas Caliente\nHome Score: 3\nAway Score: 0
END:VEVENT
BEGIN:VEVENT
UID:15806705@ezleagues.ezfacility.com
DTSTAMP:20260424T044302Z
CREATED:20260424T044302Z
DTSTART:20211207T023000Z
DTEND:20211207T033000Z
LOCATION:Conference Room
CONTACT:
SUMMARY:Aguas Caliente VS. La Familia
DESCRIPTION:League Name: WS Futbol Sala Friday Outdoor League Group 2 Fall 
 2024\nGame Type: Regular\nGame Status: Complete\nHome Team: Aguas Caliente
 \nAway Team: La Familia\nHome Score: 0\nAway Score: 3
END:VEVENT
BEGIN:VEVENT
UID:15806699@ezleagues.ezfacility.com
DTSTAMP:20260424T044302Z
CREATED:20260424T044302Z
DTSTART:20240621T233000Z
DTEND:20240622T003000Z
LOCATION:SOAR Mini Class
CONTACT:
SUMMARY:Aguas Caliente VS. Galacticos FC
DESCRIPTION:League Name: WS Futbol Sala Friday Outdoor League Group 2 Fall 
 2024\nGame Type: Regular\nGame Status: Complete\nHome Team: Aguas Caliente
 \nAway Team: Galacticos FC\nHome Score: 3\nAway Score: 4
END:VEVENT
BEGIN:VEVENT
UID:15806711@ezleagues.ezfacility.com
DTSTAMP:20260424T044302Z
CREATED:20260424T044302Z
DTSTART:20240706T013000Z
DTEND:20240706T023000Z
LOCATION:Conference Room
CONTACT:
SUMMARY:Primos VS. Aguas Caliente
DESCRIPTION:League Name: WS Futbol Sala Friday Outdoor League Group 2 Fall 
 2024\nGame Type: Regular\nGame Status: Complete\nHome Team: Primos\nAway T
 eam: Aguas Caliente\nHome Score: 3\nAway Score: 7
END:VEVENT
BEGIN:VEVENT
UID:15806717@ezleagues.ezfacility.com
DTSTAMP:20260424T044302Z
CREATED:20260424T044302Z
DTSTART:20240713T003000Z
DTEND:20240713T013000Z
LOCATION:Ashley Deck
CONTACT:
SUMMARY:Roco FC VS. Aguas Caliente
DESCRIPTION:League Name: WS Futbol Sala Friday Outdoor League Group 2 Fall 
 2024\nGame Type: Regular\nGame Status: Complete\nHome Team: Roco FC\nAway 
 Team: Aguas Caliente\nHome Score: 4\nAway Score: 0
END:VEVENT
BEGIN:VEVENT
UID:15806723@ezleagues.ezfacility.com
DTSTAMP:20260424T044302Z
CREATED:20260424T044302Z
DTSTART:20240719T233000Z
DTEND:20240720T003000Z
LOCATION:SOAR Mini Class
CONTACT:
SUMMARY:CDS United  VS. Aguas Caliente
DESCRIPTION:League Name: WS Futbol Sala Friday Outdoor League Group 2 Fall 
 2024\nGame Type: Regular\nGame Status: Complete\nHome Team: CDS United \nA
 way Team: Aguas Caliente\nHome Score: 2\nAway Score: 1
END:VEVENT
BEGIN:VEVENT
UID:15806753@ezleagues.ezfacility.com
DTSTAMP:20260424T044302Z
CREATED:20260424T044302Z
DTSTART:20240816T233000Z
DTEND:20240817T003000Z
LOCATION:Conference Room
CONTACT:
SUMMARY:Aguas Caliente VS. Barcelona
DESCRIPTION:League Name: WS Futbol Sala Friday Outdoor League Group 2 Fall 
 2024\nGame Type: Regular\nGame Status: Complete\nHome Team: Aguas Caliente
 \nAway Team: Barcelona\nHome Score: 3\nAway Score: 6
END:VEVENT
BEGIN:VEVENT
UID:15806759@ezleagues.ezfacility.com
DTSTAMP:20260424T044302Z
CREATED:20260424T044302Z
DTSTART:20240824T013000Z
DTEND:20240824T023000Z
LOCATION:Ashley Deck
CONTACT:
SUMMARY:Aguas Caliente VS. Calentanos
DESCRIPTION:League Name: WS Futbol Sala Friday Outdoor League Group 2 Fall 
 2024\nGame Type: Regular\nGame Status: Complete\nHome Team: Aguas Caliente
 \nAway Team: Calentanos\nHome Score: 2\nAway Score: 12
END:VEVENT
END:VCALENDAR
